View In:
ArcGIS JavaScript
ArcGIS Online Map Viewer
ArcGIS Earth
Service Description: Geology/DGS_UnconfinedAquifer_Trans
Name: Geology/DGS_UnconfinedAquifer_Trans
Description:
Single Fused Map Cache: false
Extent:
XMin: -8429419.1273
YMin: 4643339.3296
XMax: -8354359.1273
YMax: 4716239.3296
Spatial Reference: 102100
(3857)
LatestVCSWkid(0)
Initial Extent:
XMin: -8429419.1273
YMin: 4643339.3296
XMax: -8354359.1273
YMax: 4716239.3296
Spatial Reference: 102100
(3857)
LatestVCSWkid(0)
Full Extent:
XMin: -8429419.1273
YMin: 4643339.3296
XMax: -8354359.1273
YMax: 4716239.3296
Spatial Reference: 102100
(3857)
LatestVCSWkid(0)
Pixel Size X: 90.0
Pixel Size Y: 90.0
Band Count: 1
Pixel Type: S32
RasterFunction Infos: {"rasterFunctionInfos": [
{
"name": "Unconfined Aquifer Transmissivity",
"description": "Raster Function Template for changing the symbology of the unconfined aquifer to 1,000-meter increments.",
"help": "Use this template to change the symbology to represent the elevation in 1,000-meter increments."
},
{
"name": "None",
"description": "",
"help": ""
}
]}
Mensuration Capabilities: Basic
Inspection Capabilities:
Has Histograms: true
Has Colormap: false
Has Multi Dimensions : false
Rendering Rule:
Min Scale: 0
Max Scale: 0
Copyright Text:
Service Data Type: esriImageServiceDataTypeGeneric
Min Values: 0
Max Values: 15937
Mean Values: 4399.696846366161
Standard Deviation Values: 2690.1546551494066
Object ID Field:
Fields:
None
Default Mosaic Method: Center
Allowed Mosaic Methods:
SortField:
SortValue: null
Mosaic Operator: First
Default Compression Quality: 75
Default Resampling Method: Bilinear
Max Record Count: null
Max Image Height: 4100
Max Image Width: 15000
Max Download Image Count: null
Max Mosaic Image Count: null
Allow Raster Function: true
Allow Copy: true
Allow Analysis: true
Allow Compute TiePoints: false
Supports Statistics: false
Supports Advanced Queries: false
Use StandardizedQueries: true
Raster Type Infos:
Name: Raster Dataset
Description: Supports all ArcGIS Raster Datasets
Help:
Has Raster Attribute Table: false
Edit Fields Info: null
Ownership Based AccessControl For Rasters: null
Child Resources:
Info
Histograms
Statistics
Key Properties
Legend
Raster Function Infos
Supported Operations:
Export Image
Identify
Measure
Compute Histograms
Compute Statistics Histograms
Get Samples
Compute Class Statistics
Query Boundary
Compute Pixel Location
Compute Angles
Validate
Project