{ "currentVersion": 11.3, "serviceDescription": "
This digital product contains gridded estimates of the transmissivity of the unconfined portion of the Columbia aquifer for Sussex County, Delaware. Mapping was supported by the Delaware Department of Natural Resources and Environmental Control and the Delaware Geological Survey. These grids were produced with the methods described in Andres and Klingbeil (2006). Additional analyses of the hydrogeologic framework and grids are also contained in that report. Briefly, the method to determine the transmissivity of the aquifer includes interpreting transmissivity at points of descriptive and geophysical logs and using computer-based interpolation to estimate transmissivity across the study area. Separate grids were determined for eastern and western Sussex County and were merged and smoothed to minimize edge effects. The transmissivity grid has 30-m horizontal and 1-ft vertical resolutions. REFERENCES CITED Andres, A. S., and Klingbeil, A. D., 2006, Thickness and transmissivity of the unconfined aquifer, eastern Sussex County, Delaware: Delaware Geological Survey Report of Investigations No. 70, 19 p., 1 plate.<\/SPAN><\/P><\/DIV><\/DIV><\/DIV>",
"name": "Geology/DGS_UnconfinedAquifer_Trans",
"description": " This digital product contains gridded estimates of the transmissivity of the unconfined portion of the Columbia aquifer for Sussex County, Delaware. Mapping was supported by the Delaware Department of Natural Resources and Environmental Control and the Delaware Geological Survey. These grids were produced with the methods described in Andres and Klingbeil (2006). Additional analyses of the hydrogeologic framework and grids are also contained in that report. Briefly, the method to determine the transmissivity of the aquifer includes interpreting transmissivity at points of descriptive and geophysical logs and using computer-based interpolation to estimate transmissivity across the study area. Separate grids were determined for eastern and western Sussex County and were merged and smoothed to minimize edge effects. The transmissivity grid has 30-m horizontal and 1-ft vertical resolutions. REFERENCES CITED Andres, A. S., and Klingbeil, A. D., 2006, Thickness and transmissivity of the unconfined aquifer, eastern Sussex County, Delaware: Delaware Geological Survey Report of Investigations No. 70, 19 p., 1 plate.<\/SPAN><\/P><\/DIV><\/DIV><\/DIV>",
"extent": {
"xmin": -8429419.1273,
"ymin": 4643339.3296,
"xmax": -8354359.1273,
"ymax": 4716239.3296,
"spatialReference": {
"wkid": 102100,
"latestWkid": 3857
}
},
"initialExtent": {
"xmin": -8429419.1273,
"ymin": 4643339.3296,
"xmax": -8354359.1273,
"ymax": 4716239.3296,
"spatialReference": {
"wkid": 102100,
"latestWkid": 3857
}
},
"fullExtent": {
"xmin": -8429419.1273,
"ymin": 4643339.3296,
"xmax": -8354359.1273,
"ymax": 4716239.3296,
"spatialReference": {
"wkid": 102100,
"latestWkid": 3857
}
},
"sortableFields": "",
"bandCount": 1,
"pixelType": "S32",
"minValues": [
0
],
"maxValues": [
15937
],
"meanValues": [
4399.696846366161
],
"stdvValues": [
2690.1546551494066
],
"hasMultidimensions": false,
"pixelSizeX": 90,
"pixelSizeY": 90,
"meanPixelSize": 90,
"datasetFormat": "FGDBR",
"uncompressedSize": 2702160,
"blockWidth": 128,
"blockHeight": 128,
"compressionType": "LZ77",
"bandNames": [
"Band_1"
],
"allowCopy": true,
"allowAnalysis": true,
"itemAccess": false,
"inspectionCapabilities": "",
"minPixelSize": 0,
"maxPixelSize": 0,
"copyrightText": "",
"serviceDataType": "esriImageServiceDataTypeGeneric",
"serviceSourceType": "esriImageServiceSourceTypeDataset",
"objectIdField": "",
"fields": [],
"capabilities": "Image,Metadata,Pixels,Mensuration",
"defaultMosaicMethod": "Center",
"allowedMosaicMethods": "",
"sortField": "",
"sortValue": null,
"sortAscending": true,
"mosaicOperator": "First",
"defaultCompressionQuality": 75,
"defaultResamplingMethod": "Bilinear",
"maxImageHeight": 4100,
"maxImageWidth": 15000,
"allowRasterFunction": true,
"rasterFunctionInfos": [
{
"name": "Unconfined Aquifer Transmissivity",
"description": "Raster Function Template for changing the symbology of the unconfined aquifer to 1,000-meter increments.",
"help": "Use this template to change the symbology to represent the elevation in 1,000-meter increments."
},
{
"name": "None",
"description": "Make a Raster or Raster Dataset into a Function Raster Dataset.",
"help": ""
}
],
"rasterTypeInfos": [
{
"name": "Raster Dataset",
"description": "Supports all ArcGIS Raster Datasets",
"help": ""
}
],
"mensurationCapabilities": "Basic",
"hasHistograms": true,
"hasColormap": false,
"hasRasterAttributeTable": false,
"minScale": 0,
"maxScale": 0,
"exportTilesAllowed": false,
"supportsStatistics": false,
"supportsAdvancedQueries": false,
"editFieldsInfo": null,
"ownershipBasedAccessControlForRasters": null,
"allowComputeTiePoints": false,
"useStandardizedQueries": true,
"advancedQueryCapabilities": {
"useStandardizedQueries": true,
"supportsStatistics": false,
"supportsOrderBy": false,
"supportsDistinct": false,
"supportsPagination": false
},
"spatialReference": {
"wkid": 102100,
"latestWkid": 3857
}
}