View In:
ArcGIS JavaScript
ArcGIS Online Map Viewer
ArcGIS Earth
Service Description: Geographic Extent: SANDY_Restoration_DE_MD_QL2 Area of Interest covers approximately 3.096 square miles. Lot #5 contains the full project area Dataset Description: The SANDY_Restoration_DE_MD_QL2 project called for the Planning, Acquisition, processing and derivative products of LIDAR data to be collected at a nominal pulse spacing (NPS) of 0.7 meter. Project specifications are based on the U.S. Geological Survey National Geospatial Program Base LIDAR Specification, Version 1. The data was developed based on a horizontal projection/datum of State Plane Zone Delaware (0700), NAD83, meters and vertical datum of NAVD1988 (GEOID12A), meters. LiDAR data was delivered in RAW flight line swath format, processed to create Classified LAS 1.2 Files formatted to 3842 individual 1500m x 1500m tiles, and corresponding Intensity Images and Bare Earth DEMs tiled to the same 1500m x 1500m schema, and Breaklines in ESRI shapefile format. Ground Conditions: LiDAR was collected in Winter 2013 / Spring 2014, while no snow was on the ground and rivers were at or below normal levels. In order to post process the LiDAR data to meet task order specifications, Quantum Spatial established a total of 78 QA control points and 99 Land Cover control points that were used to calibrate the LIDAR to known ground locations established throughout the SANDY_Restoration_DE_MD_QL2 project area.
Name: Elevation_SP/DE_Lidar_DEM
Description: Geographic Extent: SANDY_Restoration_DE_MD_QL2 Area of Interest covers approximately 3.096 square miles. Lot #5 contains the full project area Dataset Description: The SANDY_Restoration_DE_MD_QL2 project called for the Planning, Acquisition, processing and derivative products of LIDAR data to be collected at a nominal pulse spacing (NPS) of 0.7 meter. Project specifications are based on the U.S. Geological Survey National Geospatial Program Base LIDAR Specification, Version 1. The data was developed based on a horizontal projection/datum of State Plane Zone Delaware (0700), NAD83, meters and vertical datum of NAVD1988 (GEOID12A), meters. LiDAR data was delivered in RAW flight line swath format, processed to create Classified LAS 1.2 Files formatted to 3842 individual 1500m x 1500m tiles, and corresponding Intensity Images and Bare Earth DEMs tiled to the same 1500m x 1500m schema, and Breaklines in ESRI shapefile format. Ground Conditions: LiDAR was collected in Winter 2013 / Spring 2014, while no snow was on the ground and rivers were at or below normal levels. In order to post process the LiDAR data to meet task order specifications, Quantum Spatial established a total of 78 QA control points and 99 Land Cover control points that were used to calibrate the LIDAR to known ground locations established throughout the SANDY_Restoration_DE_MD_QL2 project area.
Single Fused Map Cache: false
Extent:
XMin: 167965.0
YMin: 50016.0
XMax: 232753.0
YMax: 204278.0
Spatial Reference: 26957
(26957)
VCSWkid(5703)
LatestVCSWkid(5703)
Initial Extent:
XMin: 167965.0
YMin: 50016.0
XMax: 232753.0
YMax: 204278.0
Spatial Reference: 26957
(26957)
VCSWkid(5703)
LatestVCSWkid(5703)
Full Extent:
XMin: 167965.0
YMin: 50016.0
XMax: 232753.0
YMax: 204278.0
Spatial Reference: 26957
(26957)
VCSWkid(5703)
LatestVCSWkid(5703)
Pixel Size X: 1.0
Pixel Size Y: 1.0
Band Count: 1
Pixel Type: F32
RasterFunction Infos: {"rasterFunctionInfos": [
{
"name": "None",
"description": "Make a Raster or Raster Dataset into a Function Raster Dataset.",
"help": ""
},
{
"name": "Lidar DEM Aspect",
"description": "A raster function template for viewing the Aspect of Delaware's Lidar DEM.",
"help": "Shows which direction a pixel is facing, where 0 is due north and angles increase clockwise to 360."
},
{
"name": "Lidar DEM Hillshade",
"description": "A raster function template for viewing the Hillshade of Delaware's Lidar DEM.",
"help": "Creates a 3D representation of the surface, with the sun's relative position taken into account for shading the image."
},
{
"name": "Lidar DEM Shaded Relief",
"description": "A raster function template to view Shaded Relief of Delaware's Lidar DEM.",
"help": "Creates a multiband, color coded, 3D representation of the surface, with the sun's relative position taken into account for shading the image."
},
{
"name": "Lidar DEM Slope",
"description": "A raster function template for viewing Slope derived from Delaware's Lidar DEM.",
"help": "Apply this template to the Lidar DEM to see the Slope, which shows the rate of change from one pixel value to its neighbors."
},
{
"name": "Lidar DEM Spectrum (Dynamic)",
"description": "A raster function template for viewing Delaware's Lidar DEM.",
"help": "Dynamic symbology for viewing details of Delaware's elevation."
},
{
"name": "Lidar DEM Spectrum (Static)",
"description": "A raster function template for viewing Delaware's Lidar DEM.",
"help": "Static symbology for viewing details of Delaware's elevation."
}
]}
Mensuration Capabilities: None
Inspection Capabilities:
Has Histograms: true
Has Colormap: false
Has Multi Dimensions : false
Rendering Rule:
Min Scale: 0
Max Scale: 0
Resampling: false
Copyright Text: Quantum Spatial, Inc., U.S. Geological Survey
Service Data Type: esriImageServiceDataTypeGeneric
Min Values: -2.285565137863159
Max Values: 137.4993438720703
Mean Values: 13.714876441597019
Standard Deviation Values: 16.497159044588614
Object ID Field: OBJECTID
Fields:
-
OBJECTID
(
type: esriFieldTypeOID, alias: OBJECTID
)
-
Shape
(
type: esriFieldTypeGeometry, alias: Shape
)
-
Name
(
type: esriFieldTypeString, alias: Name, length: 200
)
-
MinPS
(
type: esriFieldTypeDouble, alias: MinPS
)
-
MaxPS
(
type: esriFieldTypeDouble, alias: MaxPS
)
-
LowPS
(
type: esriFieldTypeDouble, alias: LowPS
)
-
HighPS
(
type: esriFieldTypeDouble, alias: HighPS
)
-
Category
(
type: esriFieldTypeInteger, alias: Category
, Coded Values:
[0: Unknown]
, [1: Primary]
, [2: Overview]
, ...6 more...
)
-
Tag
(
type: esriFieldTypeString, alias: Tag, length: 100
)
-
GroupName
(
type: esriFieldTypeString, alias: GroupName, length: 100
)
-
ProductName
(
type: esriFieldTypeString, alias: ProductName, length: 100
)
-
CenterX
(
type: esriFieldTypeDouble, alias: CenterX
)
-
CenterY
(
type: esriFieldTypeDouble, alias: CenterY
)
-
ZOrder
(
type: esriFieldTypeInteger, alias: ZOrder
)
-
Shape_Length
(
type: esriFieldTypeDouble, alias: Shape_Length
)
-
Shape_Area
(
type: esriFieldTypeDouble, alias: Shape_Area
)
Default Mosaic Method: Northwest
Allowed Mosaic Methods: NorthWest,Center,LockRaster,ByAttribute,Nadir,Viewpoint,Seamline,None
SortField:
SortValue: null
Mosaic Operator: First
Default Compression Quality: 75
Default Resampling Method: Bilinear
Max Record Count: 1000
Max Image Height: 4100
Max Image Width: 15000
Max Download Image Count: 20
Max Mosaic Image Count: 20
Allow Raster Function: true
Allow Copy: true
Allow Analysis: true
Allow Compute TiePoints: false
Supports Statistics: true
Supports Advanced Queries: true
Use StandardizedQueries: true
Raster Type Infos:
Name: Raster Dataset
Description: Supports all ArcGIS Raster Datasets
Help:
Has Raster Attribute Table: false
Edit Fields Info: null
Ownership Based AccessControl For Rasters: null
Child Resources:
Info
Histograms
Statistics
Key Properties
Legend
Raster Function Infos
Supported Operations:
Export Image
Query
Identify
Compute Histograms
Compute Statistics Histograms
Get Samples
Compute Class Statistics
Query GPS Info
Find Images
Image to Map
Map to Image
Measure from Image
Image to Map Multiray
Query Boundary
Compute Pixel Location
Compute Angles
Validate
Project