{ "currentVersion": 11.3, "serviceDescription": "
Geographic Extent: SANDY_Restoration_DE_MD_QL2 Area of Interest covers approximately 3.096 square miles. Lot #5 contains the full project area Dataset Description: The SANDY_Restoration_DE_MD_QL2 project called for the Planning, Acquisition, processing and derivative products of LIDAR data to be collected at a nominal pulse spacing (NPS) of 0.7 meter. Project specifications are based on the U.S. Geological Survey National Geospatial Program Base LIDAR Specification, Version 1. The data was developed based on a horizontal projection/datum of State Plane Zone Delaware (0700), NAD83, meters and vertical datum of NAVD1988 (GEOID12A), meters. LiDAR data was delivered in RAW flight line swath format, processed to create Classified LAS 1.2 Files formatted to 3842 individual 1500m x 1500m tiles, and corresponding Intensity Images and Bare Earth DEMs tiled to the same 1500m x 1500m schema, and Breaklines in ESRI shapefile format. Ground Conditions: LiDAR was collected in Winter 2013 / Spring 2014, while no snow was on the ground and rivers were at or below normal levels. In order to post process the LiDAR data to meet task order specifications, Quantum Spatial established a total of 78 QA control points and 99 Land Cover control points that were used to calibrate the LIDAR to known ground locations established throughout the SANDY_Restoration_DE_MD_QL2 project area.<\/span><\/p><\/div><\/div><\/div>",
"name": "Elevation_SP/DE_Lidar_DEM",
"description": " Geographic Extent: SANDY_Restoration_DE_MD_QL2 Area of Interest covers approximately 3.096 square miles. Lot #5 contains the full project area Dataset Description: The SANDY_Restoration_DE_MD_QL2 project called for the Planning, Acquisition, processing and derivative products of LIDAR data to be collected at a nominal pulse spacing (NPS) of 0.7 meter. Project specifications are based on the U.S. Geological Survey National Geospatial Program Base LIDAR Specification, Version 1. The data was developed based on a horizontal projection/datum of State Plane Zone Delaware (0700), NAD83, meters and vertical datum of NAVD1988 (GEOID12A), meters. LiDAR data was delivered in RAW flight line swath format, processed to create Classified LAS 1.2 Files formatted to 3842 individual 1500m x 1500m tiles, and corresponding Intensity Images and Bare Earth DEMs tiled to the same 1500m x 1500m schema, and Breaklines in ESRI shapefile format. Ground Conditions: LiDAR was collected in Winter 2013 / Spring 2014, while no snow was on the ground and rivers were at or below normal levels. In order to post process the LiDAR data to meet task order specifications, Quantum Spatial established a total of 78 QA control points and 99 Land Cover control points that were used to calibrate the LIDAR to known ground locations established throughout the SANDY_Restoration_DE_MD_QL2 project area.<\/span><\/p><\/div><\/div><\/div>",
"extent": {
"xmin": 167965,
"ymin": 50016,
"xmax": 232753,
"ymax": 204278,
"spatialReference": {
"wkid": 26957,
"latestWkid": 26957,
"vcsWkid": 5703,
"latestVcsWkid": 5703
}
},
"initialExtent": {
"xmin": 167965,
"ymin": 50016,
"xmax": 232753,
"ymax": 204278,
"spatialReference": {
"wkid": 26957,
"latestWkid": 26957,
"vcsWkid": 5703,
"latestVcsWkid": 5703
}
},
"fullExtent": {
"xmin": 167965,
"ymin": 50016,
"xmax": 232753,
"ymax": 204278,
"spatialReference": {
"wkid": 26957,
"latestWkid": 26957,
"vcsWkid": 5703,
"latestVcsWkid": 5703
}
},
"sortableFields": "MinPS,MaxPS,LowPS,HighPS,CenterX,CenterY,ZOrder,Shape_Length,Shape_Area",
"heightModelInfo": {
"heightModel": "gravity_related_height",
"vertCRS": "NAVD_1988",
"heightUnit": "meter"
},
"bandCount": 1,
"pixelType": "F32",
"minValues": [
-2.285565137863159
],
"maxValues": [
137.4993438720703
],
"meanValues": [
13.714876441597019
],
"stdvValues": [
16.497159044588614
],
"hasMultidimensions": false,
"pixelSizeX": 1,
"pixelSizeY": 1,
"meanPixelSize": 1,
"datasetFormat": "AMD",
"uncompressedSize": 39977305824,
"blockWidth": 2048,
"blockHeight": 256,
"compressionType": "None",
"bandNames": [
"Band_1"
],
"allowCopy": true,
"allowAnalysis": true,
"itemAccess": false,
"inspectionCapabilities": "",
"minPixelSize": 0,
"maxPixelSize": 0,
"copyrightText": "Quantum Spatial, Inc., U.S. Geological Survey",
"serviceDataType": "esriImageServiceDataTypeGeneric",
"serviceSourceType": "esriImageServiceSourceTypeMosaicDataset",
"objectIdField": "OBJECTID",
"fields": [
{
"name": "OBJECTID",
"type": "esriFieldTypeOID",
"alias": "OBJECTID",
"domain": null
},
{
"name": "Shape",
"type": "esriFieldTypeGeometry",
"alias": "Shape",
"domain": null
},
{
"name": "Name",
"type": "esriFieldTypeString",
"alias": "Name",
"domain": null,
"length": 200
},
{
"name": "MinPS",
"type": "esriFieldTypeDouble",
"alias": "MinPS",
"domain": null
},
{
"name": "MaxPS",
"type": "esriFieldTypeDouble",
"alias": "MaxPS",
"domain": null
},
{
"name": "LowPS",
"type": "esriFieldTypeDouble",
"alias": "LowPS",
"domain": null
},
{
"name": "HighPS",
"type": "esriFieldTypeDouble",
"alias": "HighPS",
"domain": null
},
{
"name": "Category",
"type": "esriFieldTypeInteger",
"alias": "Category",
"domain": {
"type": "codedValue",
"name": "MosaicCatalogItemCategoryDomain",
"description": "Catalog item categories.",
"codedValues": [
{
"name": "Unknown",
"code": 0
},
{
"name": "Primary",
"code": 1
},
{
"name": "Overview",
"code": 2
},
{
"name": "Unprocessed Overview",
"code": 3
},
{
"name": "Partial Overview",
"code": 4
},
{
"name": "Inactive",
"code": 5
},
{
"name": "Uploaded",
"code": 253
},
{
"name": "Incomplete",
"code": 254
},
{
"name": "Custom",
"code": 255
}
],
"mergePolicy": "esriMPTDefaultValue",
"splitPolicy": "esriSPTDefaultValue"
}
},
{
"name": "Tag",
"type": "esriFieldTypeString",
"alias": "Tag",
"domain": null,
"length": 100
},
{
"name": "GroupName",
"type": "esriFieldTypeString",
"alias": "GroupName",
"domain": null,
"length": 100
},
{
"name": "ProductName",
"type": "esriFieldTypeString",
"alias": "ProductName",
"domain": null,
"length": 100
},
{
"name": "CenterX",
"type": "esriFieldTypeDouble",
"alias": "CenterX",
"domain": null
},
{
"name": "CenterY",
"type": "esriFieldTypeDouble",
"alias": "CenterY",
"domain": null
},
{
"name": "ZOrder",
"type": "esriFieldTypeInteger",
"alias": "ZOrder",
"domain": null
},
{
"name": "Shape_Length",
"type": "esriFieldTypeDouble",
"alias": "Shape_Length",
"domain": null
},
{
"name": "Shape_Area",
"type": "esriFieldTypeDouble",
"alias": "Shape_Area",
"domain": null
}
],
"capabilities": "Catalog,Image,Metadata",
"defaultMosaicMethod": "Northwest",
"allowedMosaicMethods": "NorthWest,Center,LockRaster,ByAttribute,Nadir,Viewpoint,Seamline,None",
"sortField": "",
"sortValue": null,
"sortAscending": true,
"mosaicOperator": "First",
"maxDownloadSizeLimit": 2048,
"defaultCompressionQuality": 75,
"defaultResamplingMethod": "Bilinear",
"maxImageHeight": 4100,
"maxImageWidth": 15000,
"maxRecordCount": 1000,
"maxDownloadImageCount": 20,
"maxMosaicImageCount": 20,
"allowRasterFunction": true,
"rasterFunctionInfos": [
{
"name": "None",
"description": "Make a Raster or Raster Dataset into a Function Raster Dataset.",
"help": ""
},
{
"name": "Lidar DEM Aspect",
"description": "A raster function template for viewing the Aspect of Delaware's Lidar DEM.",
"help": "Shows which direction a pixel is facing, where 0 is due north and angles increase clockwise to 360."
},
{
"name": "Lidar DEM Hillshade",
"description": "A raster function template for viewing the Hillshade of Delaware's Lidar DEM.",
"help": "Creates a 3D representation of the surface, with the sun's relative position taken into account for shading the image."
},
{
"name": "Lidar DEM Shaded Relief",
"description": "A raster function template to view Shaded Relief of Delaware's Lidar DEM.",
"help": "Creates a multiband, color coded, 3D representation of the surface, with the sun's relative position taken into account for shading the image."
},
{
"name": "Lidar DEM Slope",
"description": "A raster function template for viewing Slope derived from Delaware's Lidar DEM.",
"help": "Apply this template to the Lidar DEM to see the Slope, which shows the rate of change from one pixel value to its neighbors."
},
{
"name": "Lidar DEM Spectrum (Dynamic)",
"description": "A raster function template for viewing Delaware's Lidar DEM.",
"help": "Dynamic symbology for viewing details of Delaware's elevation."
},
{
"name": "Lidar DEM Spectrum (Static)",
"description": "A raster function template for viewing Delaware's Lidar DEM.",
"help": "Static symbology for viewing details of Delaware's elevation."
}
],
"rasterTypeInfos": [
{
"name": "Raster Dataset",
"description": "Supports all ArcGIS Raster Datasets",
"help": ""
}
],
"mensurationCapabilities": "None",
"hasHistograms": true,
"hasColormap": false,
"hasRasterAttributeTable": false,
"minScale": 0,
"maxScale": 0,
"exportTilesAllowed": false,
"supportsStatistics": true,
"supportsAdvancedQueries": true,
"editFieldsInfo": null,
"ownershipBasedAccessControlForRasters": null,
"allowComputeTiePoints": false,
"useStandardizedQueries": true,
"advancedQueryCapabilities": {
"useStandardizedQueries": true,
"supportsStatistics": true,
"supportsOrderBy": true,
"supportsDistinct": true,
"supportsPagination": true
},
"spatialReference": {
"wkid": 26957,
"latestWkid": 26957,
"vcsWkid": 5703,
"latestVcsWkid": 5703
},
"resampling": false
}