View In:
ArcGIS JavaScript
ArcGIS Online Map Viewer
ArcGIS Earth
Service Description: DE_Imagery_SP/DE_Imagery_2021
Name: DE_Imagery_SP/DE_Imagery_2021
Description:
Single Fused Map Cache: true
Tile Info:
- Height: 256
- Width: 256
- DPI: 96
-
Levels of Detail: 15
- Format: MIXED
- Compression Quality: 75.0
- LERC Error: NaN
- Origin: X: -5423100.0
Y: 5794600.0
- Spatial Reference: 26957
(26957)
LatestVCSWkid(0)
Storage Info:
- Storage Format: esriMapCacheStorageModeCompactV2
- Packet Size: 128
Extent:
XMin: 165709.25480000023
YMin: 48508.89810000063
XMax: 233657.30480000022
YMax: 208229.19810000062
Spatial Reference: 26957
(26957)
LatestVCSWkid(0)
Initial Extent:
XMin: 165709.25480000023
YMin: 48508.89810000063
XMax: 233657.30480000022
YMax: 208229.19810000062
Spatial Reference: 26957
(26957)
LatestVCSWkid(0)
Full Extent:
XMin: 165709.25480000023
YMin: 48508.89810000063
XMax: 233657.30480000022
YMax: 208229.19810000062
Spatial Reference: 26957
(26957)
LatestVCSWkid(0)
Pixel Size X: 0.14999999999999997
Pixel Size Y: 0.15
Band Count: 4
Pixel Type: U8
RasterFunction Infos: {"rasterFunctionInfos": [
{
"name": "None",
"description": "Make a Raster or Raster Dataset into a Function Raster Dataset.",
"help": ""
},
{
"name": "None",
"description": "Make a Raster or Raster Dataset into a Function Raster Dataset.",
"help": ""
},
{
"name": "Infrared",
"description": "A raster function template.",
"help": ""
},
{
"name": "Near-Infrared",
"description": "A raster function template for viewing the near-infrared band of the imagery.",
"help": "Apply this template to the Aerial Imagery to see the Near-infrared band."
}
]}
Mensuration Capabilities: None
Inspection Capabilities:
Has Histograms: true
Has Colormap: false
Has Multi Dimensions : false
Rendering Rule:
Min Scale: 8000000
Max Scale: 500
Resampling: false
Copyright Text: State of Delaware, Hexagon
Service Data Type: esriImageServiceDataTypeProcessed
Min Values: 11, 42, 25, 1
Max Values: 234, 234, 232, 238
Mean Values: 87.5406772066809, 106.60964940354319, 79.64836088493168, 173.00007748360028
Standard Deviation Values: 36.46582682748979, 25.955437908723837, 23.224339271048294, 43.19568672000159
Object ID Field: OBJECTID
Fields:
-
OBJECTID
(
type: esriFieldTypeOID, alias: OBJECTID
)
-
Shape
(
type: esriFieldTypeGeometry, alias: Shape
)
-
Name
(
type: esriFieldTypeString, alias: Name, length: 200
)
-
MinPS
(
type: esriFieldTypeDouble, alias: MinPS
)
-
MaxPS
(
type: esriFieldTypeDouble, alias: MaxPS
)
-
LowPS
(
type: esriFieldTypeDouble, alias: LowPS
)
-
HighPS
(
type: esriFieldTypeDouble, alias: HighPS
)
-
Category
(
type: esriFieldTypeInteger, alias: Category
, Coded Values:
[0: Unknown]
, [1: Primary]
, [2: Overview]
, ...6 more...
)
-
Tag
(
type: esriFieldTypeString, alias: Tag, length: 100
)
-
GroupName
(
type: esriFieldTypeString, alias: GroupName, length: 100
)
-
ProductName
(
type: esriFieldTypeString, alias: ProductName, length: 100
)
-
CenterX
(
type: esriFieldTypeDouble, alias: CenterX
)
-
CenterY
(
type: esriFieldTypeDouble, alias: CenterY
)
-
ZOrder
(
type: esriFieldTypeInteger, alias: ZOrder
)
-
Shape_Length
(
type: esriFieldTypeDouble, alias: Shape_Length
)
-
Shape_Area
(
type: esriFieldTypeDouble, alias: Shape_Area
)
Default Mosaic Method: ByAttribute
Allowed Mosaic Methods: ByAttribute,NorthWest,Center,LockRaster,Nadir,Viewpoint,Seamline,None
SortField: LowPS
SortValue:
Mosaic Operator: First
Default Compression Quality: 75
Default Resampling Method: Bilinear
Max Record Count: 1000
Max Image Height: 500000
Max Image Width: 500000
Max Download Image Count: 20
Max Mosaic Image Count: 2000
Allow Raster Function: true
Allow Copy: true
Allow Analysis: true
Allow Compute TiePoints: false
Supports Statistics: true
Supports Advanced Queries: true
Use StandardizedQueries: true
Raster Type Infos:
Name: Raster Dataset
Description: Supports all ArcGIS Raster Datasets
Help:
Has Raster Attribute Table: false
Edit Fields Info: null
Ownership Based AccessControl For Rasters: null
Child Resources:
Info
Histograms
Statistics
Key Properties
Legend
Raster Function Infos
Supported Operations:
Export Image
Query
Identify
Download Rasters
Get Image Url
Compute Histograms
Compute Statistics Histograms
Get Samples
Compute Class Statistics
Query GPS Info
Find Images
Image to Map
Map to Image
Measure from Image
Image to Map Multiray
Query Boundary
Compute Pixel Location
Compute Angles
Validate
Project