{
 "currentVersion": 11.3,
 "serviceDescription": "DE_Imagery_SP/DE_Imagery_2021",
 "name": "DE_Imagery_SP/DE_Imagery_2021",
 "description": "",
 "extent": {
  "xmin": 165709.25480000023,
  "ymin": 48508.89810000063,
  "xmax": 233657.30480000022,
  "ymax": 208229.19810000062,
  "spatialReference": {
   "wkid": 26957,
   "latestWkid": 26957
  }
 },
 "initialExtent": {
  "xmin": 165709.25480000023,
  "ymin": 48508.89810000063,
  "xmax": 233657.30480000022,
  "ymax": 208229.19810000062,
  "spatialReference": {
   "wkid": 26957,
   "latestWkid": 26957
  }
 },
 "fullExtent": {
  "xmin": 165709.25480000023,
  "ymin": 48508.89810000063,
  "xmax": 233657.30480000022,
  "ymax": 208229.19810000062,
  "spatialReference": {
   "wkid": 26957,
   "latestWkid": 26957
  }
 },
 "sortableFields": "",
 "bandCount": 4,
 "pixelType": "U8",
 "minValues": [
  11,
  42,
  25,
  1
 ],
 "maxValues": [
  234,
  234,
  232,
  238
 ],
 "meanValues": [
  87.5406772066809,
  106.60964940354319,
  79.64836088493168,
  173.00007748360028
 ],
 "stdvValues": [
  36.46582682748979,
  25.955437908723837,
  23.224339271048294,
  43.19568672000159
 ],
 "hasMultidimensions": false,
 "pixelSizeX": 0.14999999999999997,
 "pixelSizeY": 0.15,
 "meanPixelSize": 0.14999999999999997,
 "datasetFormat": "AMD",
 "uncompressedSize": 1929365854296,
 "blockWidth": 2048,
 "blockHeight": 256,
 "compressionType": "None",
 "bandNames": [
  "Red",
  "Green",
  "Blue",
  "Infrared"
 ],
 "allowCopy": true,
 "allowAnalysis": true,
 "itemAccess": false,
 "inspectionCapabilities": "",
 "minPixelSize": 0.13229193125052918,
 "maxPixelSize": 2116.670900008467,
 "copyrightText": "State of Delaware, Hexagon",
 "serviceDataType": "esriImageServiceDataTypeProcessed",
 "serviceSourceType": "esriImageServiceSourceTypeMosaicDataset",
 "objectIdField": "OBJECTID",
 "fields": [
  {
   "name": "OBJECTID",
   "type": "esriFieldTypeOID",
   "alias": "OBJECTID",
   "domain": null
  },
  {
   "name": "Shape",
   "type": "esriFieldTypeGeometry",
   "alias": "Shape",
   "domain": null
  },
  {
   "name": "Name",
   "type": "esriFieldTypeString",
   "alias": "Name",
   "domain": null,
   "length": 200
  },
  {
   "name": "MinPS",
   "type": "esriFieldTypeDouble",
   "alias": "MinPS",
   "domain": null
  },
  {
   "name": "MaxPS",
   "type": "esriFieldTypeDouble",
   "alias": "MaxPS",
   "domain": null
  },
  {
   "name": "LowPS",
   "type": "esriFieldTypeDouble",
   "alias": "LowPS",
   "domain": null
  },
  {
   "name": "HighPS",
   "type": "esriFieldTypeDouble",
   "alias": "HighPS",
   "domain": null
  },
  {
   "name": "Category",
   "type": "esriFieldTypeInteger",
   "alias": "Category",
   "domain": {
    "type": "codedValue",
    "name": "MosaicCatalogItemCategoryDomain",
    "description": "Catalog item categories.",
    "codedValues": [
     {
      "name": "Unknown",
      "code": 0
     },
     {
      "name": "Primary",
      "code": 1
     },
     {
      "name": "Overview",
      "code": 2
     },
     {
      "name": "Unprocessed Overview",
      "code": 3
     },
     {
      "name": "Partial Overview",
      "code": 4
     },
     {
      "name": "Inactive",
      "code": 5
     },
     {
      "name": "Uploaded",
      "code": 253
     },
     {
      "name": "Incomplete",
      "code": 254
     },
     {
      "name": "Custom",
      "code": 255
     }
    ],
    "mergePolicy": "esriMPTDefaultValue",
    "splitPolicy": "esriSPTDefaultValue"
   }
  },
  {
   "name": "Tag",
   "type": "esriFieldTypeString",
   "alias": "Tag",
   "domain": null,
   "length": 100
  },
  {
   "name": "GroupName",
   "type": "esriFieldTypeString",
   "alias": "GroupName",
   "domain": null,
   "length": 100
  },
  {
   "name": "ProductName",
   "type": "esriFieldTypeString",
   "alias": "ProductName",
   "domain": null,
   "length": 100
  },
  {
   "name": "CenterX",
   "type": "esriFieldTypeDouble",
   "alias": "CenterX",
   "domain": null
  },
  {
   "name": "CenterY",
   "type": "esriFieldTypeDouble",
   "alias": "CenterY",
   "domain": null
  },
  {
   "name": "ZOrder",
   "type": "esriFieldTypeInteger",
   "alias": "ZOrder",
   "domain": null
  },
  {
   "name": "Shape_Length",
   "type": "esriFieldTypeDouble",
   "alias": "Shape_Length",
   "domain": null
  },
  {
   "name": "Shape_Area",
   "type": "esriFieldTypeDouble",
   "alias": "Shape_Area",
   "domain": null
  }
 ],
 "capabilities": "Catalog,Pixels,Download,Image,Metadata",
 "defaultMosaicMethod": "ByAttribute",
 "allowedMosaicMethods": "ByAttribute,NorthWest,Center,LockRaster,Nadir,Viewpoint,Seamline,None",
 "sortField": "LowPS",
 "sortValue": "",
 "sortAscending": true,
 "mosaicOperator": "First",
 "maxDownloadSizeLimit": 2048,
 "defaultCompressionQuality": 75,
 "defaultResamplingMethod": "Bilinear",
 "maxImageHeight": 500000,
 "maxImageWidth": 500000,
 "maxRecordCount": 1000,
 "maxDownloadImageCount": 20,
 "maxMosaicImageCount": 2000,
 "singleFusedMapCache": true,
 "tileInfo": {
  "rows": 256,
  "cols": 256,
  "dpi": 96,
  "format": "MIXED",
  "compressionQuality": 75,
  "origin": {
   "x": -5423100,
   "y": 5794600
  },
  "spatialReference": {
   "wkid": 26957,
   "latestWkid": 26957
  },
  "lods": [
   {
    "level": 0,
    "resolution": 2116.670900008467,
    "scale": 8000000
   },
   {
    "level": 1,
    "resolution": 1058.3354500042335,
    "scale": 4000000
   },
   {
    "level": 2,
    "resolution": 529.1677250021168,
    "scale": 2000000
   },
   {
    "level": 3,
    "resolution": 264.5838625010584,
    "scale": 1000000
   },
   {
    "level": 4,
    "resolution": 132.2919312505292,
    "scale": 500000
   },
   {
    "level": 5,
    "resolution": 66.1459656252646,
    "scale": 250000
   },
   {
    "level": 6,
    "resolution": 33.0729828126323,
    "scale": 125000
   },
   {
    "level": 7,
    "resolution": 16.933367200067735,
    "scale": 64000
   },
   {
    "level": 8,
    "resolution": 8.466683600033868,
    "scale": 32000
   },
   {
    "level": 9,
    "resolution": 4.233341800016934,
    "scale": 16000
   },
   {
    "level": 10,
    "resolution": 2.116670900008467,
    "scale": 8000
   },
   {
    "level": 11,
    "resolution": 1.0583354500042335,
    "scale": 4000
   },
   {
    "level": 12,
    "resolution": 0.5291677250021167,
    "scale": 2000
   },
   {
    "level": 13,
    "resolution": 0.26458386250105836,
    "scale": 1000
   },
   {
    "level": 14,
    "resolution": 0.13229193125052918,
    "scale": 500
   }
  ]
 },
 "storageInfo": {
  "storageFormat": "esriMapCacheStorageModeCompactV2",
  "packetSize": 128
 },
 "cacheType": "Map",
 "allowRasterFunction": true,
 "rasterFunctionInfos": [
  {
   "name": "None",
   "description": "Make a Raster or Raster Dataset into a Function Raster Dataset.",
   "help": ""
  },
  {
   "name": "None",
   "description": "Make a Raster or Raster Dataset into a Function Raster Dataset.",
   "help": ""
  },
  {
   "name": "Infrared",
   "description": "A raster function template.",
   "help": ""
  },
  {
   "name": "Near-Infrared",
   "description": "A raster function template for viewing the near-infrared band of the imagery.",
   "help": "Apply this template to the Aerial Imagery to see the Near-infrared band."
  }
 ],
 "rasterTypeInfos": [
  {
   "name": "Raster Dataset",
   "description": "Supports all ArcGIS Raster Datasets",
   "help": ""
  }
 ],
 "mensurationCapabilities": "None",
 "hasHistograms": true,
 "hasColormap": false,
 "hasRasterAttributeTable": false,
 "minScale": 8000000,
 "maxScale": 500,
 "exportTilesAllowed": false,
 "supportsStatistics": true,
 "supportsAdvancedQueries": true,
 "editFieldsInfo": null,
 "ownershipBasedAccessControlForRasters": null,
 "allowComputeTiePoints": false,
 "useStandardizedQueries": true,
 "advancedQueryCapabilities": {
  "useStandardizedQueries": true,
  "supportsStatistics": true,
  "supportsOrderBy": true,
  "supportsDistinct": true,
  "supportsPagination": true
 },
 "spatialReference": {
  "wkid": 26957,
  "latestWkid": 26957
 },
 "resampling": false
}
