View In:
ArcGIS JavaScript
ArcGIS Online Map Viewer
ArcGIS Earth
Service Description: PlanningCadastre/DE_Impervious_2022
Name: PlanningCadastre/DE_Impervious_2022
Description:
Single Fused Map Cache: false
Extent:
XMin: -8436903.96343886
YMin: 4643273.26642941
XMax: -8346276.96343886
YMax: 4842663.26642941
Spatial Reference: 102100
(3857)
LatestVCSWkid(0)
Initial Extent:
XMin: -8436903.96343886
YMin: 4643273.26642941
XMax: -8346276.96343886
YMax: 4842663.26642941
Spatial Reference: 102100
(3857)
LatestVCSWkid(0)
Full Extent:
XMin: -8436903.96343886
YMin: 4643273.26642941
XMax: -8346276.96343886
YMax: 4842663.26642941
Spatial Reference: 102100
(3857)
LatestVCSWkid(0)
Pixel Size X: 0.9999999999999897
Pixel Size Y: 1.0
Band Count: 1
Pixel Type: U8
RasterFunction Infos: {"rasterFunctionInfos": [
{
"name": "Impervious Surface 2022",
"description": "Renderer to change the image display to gray for the impervious areas and transparent for the pervious.",
"help": "Renderer to change the image display to gray for the impervious areas and transparent for the pervious."
},
{
"name": "None",
"description": "Make a Raster or Raster Dataset into a Function Raster Dataset.",
"help": ""
}
]}
Mensuration Capabilities: Basic
Inspection Capabilities:
Has Histograms: true
Has Colormap: false
Has Multi Dimensions : false
Rendering Rule:
Min Scale: 0
Max Scale: 0
Copyright Text:
Service Data Type: esriImageServiceDataTypeGeneric
Min Values: 1
Max Values: 2
Mean Values: 1.9306085150920944
Standard Deviation Values: 0.2541186863184678
Object ID Field:
Fields:
None
Default Mosaic Method: Center
Allowed Mosaic Methods:
SortField:
SortValue: null
Mosaic Operator: First
Default Compression Quality: 75
Default Resampling Method: Bilinear
Max Record Count: null
Max Image Height: 4100
Max Image Width: 15000
Max Download Image Count: null
Max Mosaic Image Count: null
Allow Raster Function: true
Allow Copy: true
Allow Analysis: true
Allow Compute TiePoints: false
Supports Statistics: false
Supports Advanced Queries: false
Use StandardizedQueries: true
Raster Type Infos:
Name: Raster Dataset
Description: Supports all ArcGIS Raster Datasets
Help:
Has Raster Attribute Table: true
Edit Fields Info: null
Ownership Based AccessControl For Rasters: null
Child Resources:
Info
Raster Attribute Table
Histograms
Statistics
Key Properties
Legend
Raster Function Infos
Supported Operations:
Export Image
Identify
Measure
Compute Histograms
Compute Statistics Histograms
Get Samples
Compute Class Statistics
Query Boundary
Compute Pixel Location
Compute Angles
Validate
Project