View In:
ArcGIS JavaScript
ArcGIS Online Map Viewer
ArcGIS Earth
Service Description: PlanningCadastre/DE_Impervious_2007
Name: PlanningCadastre/DE_Impervious_2007
Description:
Single Fused Map Cache: false
Extent:
XMin: -8437420.96674437
YMin: 4643167.53248137
XMax: -8352679.96674437
YMax: 4843180.53248137
Spatial Reference: 102100
(3857)
Initial Extent:
XMin: -8437420.96674437
YMin: 4643167.53248137
XMax: -8352679.96674437
YMax: 4843180.53248137
Spatial Reference: 102100
(3857)
Full Extent:
XMin: -8437420.96674437
YMin: 4643167.53248137
XMax: -8352679.96674437
YMax: 4843180.53248137
Spatial Reference: 102100
(3857)
Pixel Size X: 1.0000000000000109
Pixel Size Y: 1.0
Band Count: 1
Pixel Type: U8
RasterFunction Infos: {"rasterFunctionInfos": [
{
"name": "Impervious Surface 2007",
"description": "Renderer to change the image display to gray for the impervious areas and transparent for the pervious.",
"help": "Use this renderer to apply symbology to the image to display the impervious areas as gray and make the pervious areas transparent."
},
{
"name": "None",
"description": "",
"help": ""
}
]}
Mensuration Capabilities: Basic
Has Histograms: true
Has Colormap: true
Has Multi Dimensions : false
Rendering Rule:
Min Scale: 0
Max Scale: 0
Copyright Text:
Service Data Type: esriImageServiceDataTypeGeneric
Min Values: 0
Max Values: 2
Mean Values: 1.012494995018831
Standard Deviation Values: 0.35366783996831
Object ID Field:
Fields:
None
Default Mosaic Method: Center
Allowed Mosaic Methods:
SortField:
SortValue: null
Mosaic Operator: First
Default Compression Quality: 75
Default Resampling Method: Bilinear
Max Record Count: null
Max Image Height: 4100
Max Image Width: 15000
Max Download Image Count: null
Max Mosaic Image Count: null
Allow Raster Function: true
Allow Copy: true
Allow Analysis: true
Allow Compute TiePoints: false
Supports Statistics: false
Supports Advanced Queries: false
Use StandardizedQueries: true
Raster Type Infos:
Name: Raster Dataset
Description: Supports all ArcGIS Raster Datasets
Help:
Has Raster Attribute Table: true
Edit Fields Info: null
Ownership Based AccessControl For Rasters: null
Child Resources:
Info
Raster Attribute Table
Histograms
Statistics
Key Properties
Color Map
Legend
Raster Function Infos
Supported Operations:
Export Image
Identify
Measure
Compute Histograms
Compute Statistics Histograms
Get Samples
Compute Class Statistics
Query Boundary
Compute Pixel Location
Compute Angles
Validate
Project