View In:
ArcGIS JavaScript
ArcGIS Online Map Viewer
ArcGIS Earth
Service Description: This data set contains 36 ortho-rectified mosaic tiles at 0.10m GSD. Tiles falling in this block but not provided with this delivery will be included in adjacent blocks. This data set was created for NOAA Integrated Ocean and Coastal Mapping (IOCM) initiative in the Hurricane Sandy impact area. The source imagery was acquired 20140101. The images were acquired with Intergraph/Leica DMC Sensor Systems. The original images were acquired at a higher resolution than the final ortho-rectified mosaic.
Name: DE_Imagery_SP/DE_Imagery_Sandy
Description: This data set contains 36 ortho-rectified mosaic tiles at 0.10m GSD. Tiles falling in this block but not provided with this delivery will be included in adjacent blocks. This data set was created for NOAA Integrated Ocean and Coastal Mapping (IOCM) initiative in the Hurricane Sandy impact area. The source imagery was acquired 20140101. The images were acquired with Intergraph/Leica DMC Sensor Systems. The original images were acquired at a higher resolution than the final ortho-rectified mosaic.
Single Fused Map Cache: false
Extent:
XMin: 190899.60089999996
YMin: 48847.609499999875
XMax: 233376.00089999996
YMax: 150939.20949999988
Spatial Reference: 26957
(26957)
LatestVCSWkid(0)
Initial Extent:
XMin: 190899.60089999996
YMin: 48847.609499999875
XMax: 233376.00089999996
YMax: 150939.20949999988
Spatial Reference: 26957
(26957)
LatestVCSWkid(0)
Full Extent:
XMin: 190899.60089999996
YMin: 48847.609499999875
XMax: 233376.00089999996
YMax: 150939.20949999988
Spatial Reference: 26957
(26957)
LatestVCSWkid(0)
Pixel Size X: 0.09999999999999999
Pixel Size Y: 0.1
Band Count: 4
Pixel Type: U8
RasterFunction Infos: {"rasterFunctionInfos": [{
"name": "None",
"description": "",
"help": ""
}]}
Mensuration Capabilities: Basic
Inspection Capabilities:
Has Histograms: true
Has Colormap: false
Has Multi Dimensions : false
Rendering Rule:
Min Scale: 0
Max Scale: 0
Copyright Text: This data set was developed for NOAA.
Service Data Type: esriImageServiceDataTypeProcessed
Min Values: 0, 0, 0, 0
Max Values: 255, 255, 255, 255
Mean Values: 87.21633266742306, 91.28774980335925, 86.01768026562164, 102.90293951817796
Standard Deviation Values: 58.1013779896734, 57.61499349595525, 54.774756432632515, 76.46031374756397
Object ID Field: OBJECTID
Fields:
-
OBJECTID
(
type: esriFieldTypeOID, alias: OBJECTID
)
-
Shape
(
type: esriFieldTypeGeometry, alias: Shape
)
-
Name
(
type: esriFieldTypeString, alias: Name, length: 50
)
-
MinPS
(
type: esriFieldTypeDouble, alias: MinPS
)
-
MaxPS
(
type: esriFieldTypeDouble, alias: MaxPS
)
-
LowPS
(
type: esriFieldTypeDouble, alias: LowPS
)
-
HighPS
(
type: esriFieldTypeDouble, alias: HighPS
)
-
Category
(
type: esriFieldTypeInteger, alias: Category
, Coded Values:
[0: Unknown]
, [1: Primary]
, [2: Overview]
, ...6 more...
)
-
Tag
(
type: esriFieldTypeString, alias: Tag, length: 20
)
-
GroupName
(
type: esriFieldTypeString, alias: GroupName, length: 50
)
-
ProductName
(
type: esriFieldTypeString, alias: ProductName, length: 50
)
-
CenterX
(
type: esriFieldTypeDouble, alias: CenterX
)
-
CenterY
(
type: esriFieldTypeDouble, alias: CenterY
)
-
ZOrder
(
type: esriFieldTypeInteger, alias: ZOrder
)
-
Shape_Length
(
type: esriFieldTypeDouble, alias: Shape_Length
)
-
Shape_Area
(
type: esriFieldTypeDouble, alias: Shape_Area
)
Default Mosaic Method: ByAttribute
Allowed Mosaic Methods: ByAttribute,NorthWest,Center,LockRaster,Nadir,Viewpoint,Seamline,None
SortField: LowPS
SortValue: 0
Mosaic Operator: First
Default Compression Quality: 75
Default Resampling Method: Bilinear
Max Record Count: 1000
Max Image Height: 500000
Max Image Width: 500000
Max Download Image Count: 20
Max Mosaic Image Count: 2000
Allow Raster Function: true
Allow Copy: true
Allow Analysis: true
Allow Compute TiePoints: false
Supports Statistics: true
Supports Advanced Queries: true
Use StandardizedQueries: true
Raster Type Infos:
Name: Raster Dataset
Description: Supports all ArcGIS Raster Datasets
Help:
Has Raster Attribute Table: false
Edit Fields Info: null
Ownership Based AccessControl For Rasters: null
Child Resources:
Info
Histograms
Statistics
Key Properties
Legend
Raster Function Infos
Supported Operations:
Export Image
Query
Identify
Measure
Compute Histograms
Compute Statistics Histograms
Get Samples
Compute Class Statistics
Query GPS Info
Find Images
Image to Map
Map to Image
Measure from Image
Image to Map Multiray
Query Boundary
Compute Pixel Location
Compute Angles
Validate
Project