View In:
ArcGIS JavaScript
ArcGIS Online Map Viewer
ArcGIS Earth
Service Description: This data set consists of 0.152-meter pixel resolution (approximately 0.5-foot), 4-band orthoimages covering the entire State of Delaware. With a total of 2,005 X 1700-meters by 1700-meters (2.89 square kilometers) full orthoimage tiles providing imagery in blocks on the ground with no "no data" space, the total area of the project is 5,794.45 square kilometers (2,237.25 square miles). This project also includes 0.076-meter pixel resolution (approximately 0.25-foot), 4-band orthoimages that covers select areas within the State of Delaware park system for the Department of Natural Resources and Environmental Control (DNREC), Division of Parks and Recreation. With each of the 116 X 1700-meters by 1700-meters (2.89 square kilometers) orthoimage tiles providing imagery in blocks on the ground, the total of the collective area is approximately 335.24 square kilometers (129.44 square miles). The 0.076 meter product is approximate in area because a "white data" space is present in areas outside the official boundaries of the delivery tiles. There is no image overlap between adjacent tiles. An orthoimage is remotely sensed image data in which displacement of features in the image caused by terrain relief and sensor orientation have been mathematically removed. Orthoimagery combines the image characteristics of a photograph with the geometric qualities of a map. The design accuracy is estimated not to exceed 1.52-meters NSSDA 95% confidence (0.88-meters Root Mean Squared (RMSE) Error XY (0.62 meter RMSE X or Y). The projected coordinate system is Delaware State Plane. The horizontal datum is NAD83 2011. The vertical datum is NAVD88. The units are in meters.
Name: DE_Imagery/DE_Imagery_2022
Description: This data set consists of 0.152-meter pixel resolution (approximately 0.5-foot), 4-band orthoimages covering the entire State of Delaware. With a total of 2,005 X 1700-meters by 1700-meters (2.89 square kilometers) full orthoimage tiles providing imagery in blocks on the ground with no "no data" space, the total area of the project is 5,794.45 square kilometers (2,237.25 square miles). This project also includes 0.076-meter pixel resolution (approximately 0.25-foot), 4-band orthoimages that covers select areas within the State of Delaware park system for the Department of Natural Resources and Environmental Control (DNREC), Division of Parks and Recreation. With each of the 116 X 1700-meters by 1700-meters (2.89 square kilometers) orthoimage tiles providing imagery in blocks on the ground, the total of the collective area is approximately 335.24 square kilometers (129.44 square miles). The 0.076 meter product is approximate in area because a "white data" space is present in areas outside the official boundaries of the delivery tiles. There is no image overlap between adjacent tiles. An orthoimage is remotely sensed image data in which displacement of features in the image caused by terrain relief and sensor orientation have been mathematically removed. Orthoimagery combines the image characteristics of a photograph with the geometric qualities of a map. The design accuracy is estimated not to exceed 1.52-meters NSSDA 95% confidence (0.88-meters Root Mean Squared (RMSE) Error XY (0.62 meter RMSE X or Y). The projected coordinate system is Delaware State Plane. The horizontal datum is NAD83 2011. The vertical datum is NAVD88. The units are in meters.
Single Fused Map Cache: true
Tile Info:
- Height: 256
- Width: 256
- DPI: 96
-
Levels of Detail: 24
-
Level ID: 1
[ Start Tile, End Tile ]
- Resolution: 78271.5169639999
- Scale: 2.95828763795777E8
-
Level ID: 2
[ Start Tile, End Tile ]
- Resolution: 39135.7584820001
- Scale: 1.47914381897889E8
-
Level ID: 3
[ Start Tile, End Tile ]
- Resolution: 19567.8792409999
- Scale: 7.3957190948944E7
-
Level ID: 4
[ Start Tile, End Tile ]
- Resolution: 9783.93962049996
- Scale: 3.6978595474472E7
-
Level ID: 5
[ Start Tile, End Tile ]
- Resolution: 4891.96981024998
- Scale: 1.8489297737236E7
- Format: MIXED
- Compression Quality: 75.0
- LERC Error: NaN
- Origin: X: -2.0037508342787E7
Y: 2.0037508342787E7
- Spatial Reference: 102100
(3857)
LatestVCSWkid(0)
Storage Info:
- Storage Format: esriMapCacheStorageModeCompactV2
- Packet Size: 128
Extent:
XMin: -8438848.6921
YMin: 4643170.357699998
XMax: -8353419.3421
YMax: 4843285.357699998
Spatial Reference: 102100
(3857)
LatestVCSWkid(0)
Initial Extent:
XMin: -8438848.6921
YMin: 4643170.357699998
XMax: -8353419.3421
YMax: 4843285.357699998
Spatial Reference: 102100
(3857)
LatestVCSWkid(0)
Full Extent:
XMin: -8438848.6921
YMin: 4643170.357699998
XMax: -8353419.3421
YMax: 4843285.357699998
Spatial Reference: 102100
(3857)
LatestVCSWkid(0)
Pixel Size X: 0.14999999999999936
Pixel Size Y: 0.15
Band Count: 4
Pixel Type: U8
RasterFunction Infos: {"rasterFunctionInfos": [
{
"name": "None",
"description": "Make a Raster or Raster Dataset into a Function Raster Dataset.",
"help": ""
},
{
"name": "Infrared Native",
"description": "Raster function template to change the display of the imagery to show the infrared band. This template is for imagery in its native projection.",
"help": "Select this raster function to view the imagery band of the aerial imagery."
}
]}
Mensuration Capabilities: None
Inspection Capabilities:
Has Histograms: true
Has Colormap: false
Has Multi Dimensions : false
Rendering Rule:
Min Scale: 9244648.868618
Max Scale: 564.248588
Resampling: false
Copyright Text: State of Delaware, Sanborn Map Company, Inc.
Service Data Type: esriImageServiceDataTypeProcessed
Min Values: 9, 20, 23, 0
Max Values: 244, 247, 247, 252
Mean Values: 110.29296761583423, 103.34570784145708, 89.92434194220193, 168.35721898435327
Standard Deviation Values: 35.10617453327719, 29.854830477235733, 25.401732352948716, 48.80647946296809
Object ID Field: OBJECTID
Fields:
-
OBJECTID
(
type: esriFieldTypeOID, alias: OBJECTID
)
-
Shape
(
type: esriFieldTypeGeometry, alias: Shape
)
-
Name
(
type: esriFieldTypeString, alias: Name, length: 200
)
-
MinPS
(
type: esriFieldTypeDouble, alias: MinPS
)
-
MaxPS
(
type: esriFieldTypeDouble, alias: MaxPS
)
-
LowPS
(
type: esriFieldTypeDouble, alias: LowPS
)
-
HighPS
(
type: esriFieldTypeDouble, alias: HighPS
)
-
Category
(
type: esriFieldTypeInteger, alias: Category
, Coded Values:
[0: Unknown]
, [1: Primary]
, [2: Overview]
, ...6 more...
)
-
Tag
(
type: esriFieldTypeString, alias: Tag, length: 100
)
-
GroupName
(
type: esriFieldTypeString, alias: GroupName, length: 100
)
-
ProductName
(
type: esriFieldTypeString, alias: ProductName, length: 100
)
-
CenterX
(
type: esriFieldTypeDouble, alias: CenterX
)
-
CenterY
(
type: esriFieldTypeDouble, alias: CenterY
)
-
ZOrder
(
type: esriFieldTypeInteger, alias: ZOrder
)
-
Shape_Length
(
type: esriFieldTypeDouble, alias: Shape_Length
)
-
Shape_Area
(
type: esriFieldTypeDouble, alias: Shape_Area
)
Default Mosaic Method: ByAttribute
Allowed Mosaic Methods: ByAttribute,NorthWest,Center,LockRaster,Nadir,Viewpoint,Seamline,None
SortField: LowPS
SortValue: 0
Mosaic Operator: First
Default Compression Quality: 75
Default Resampling Method: Bilinear
Max Record Count: 1000
Max Image Height: 500000
Max Image Width: 500000
Max Download Image Count: 20
Max Mosaic Image Count: 2000
Allow Raster Function: true
Allow Copy: true
Allow Analysis: true
Allow Compute TiePoints: false
Supports Statistics: true
Supports Advanced Queries: true
Use StandardizedQueries: true
Raster Type Infos:
Name: Raster Dataset
Description: Supports all ArcGIS Raster Datasets
Help:
Has Raster Attribute Table: false
Edit Fields Info: null
Ownership Based AccessControl For Rasters: null
Child Resources:
Info
Histograms
Statistics
Key Properties
Legend
Raster Function Infos
Supported Operations:
Export Image
Query
Identify
Compute Histograms
Compute Statistics Histograms
Get Samples
Compute Class Statistics
Query GPS Info
Find Images
Image to Map
Map to Image
Measure from Image
Image to Map Multiray
Query Boundary
Compute Pixel Location
Compute Angles
Validate
Project