View In:
ArcGIS JavaScript
ArcGIS Online Map Viewer
ArcGIS Earth
Service Description: Resolution: 1.0 Meter
Band: 1-band: Panchromatic
USDA Agricultural Adjustment AdministrationBlack and WhiteScanned and georectified using ERDAS ImagineFlying height 40,000 feet, 6-inch focal length cameraScale: 1:20,000SRS: NAD83 HARN Delaware State Plane meters
These are scanned images from aerial photography flow in 1937/38 by the Agricultural Stabilization and Conservation Service, maintained by the National Archives. These images are presented as individual tiles, county-wide and state-wide mosaics. Initial purpose was to provide base for digitizing Historic Forest Cover in Delaware. The data set could be used for other similar change analyses.
1. Heads-up digitizing was used to create ground control points on the 1937 Images using the 1997 Imagery as a reference. Every attempt was made to create GCPs at a standard scale of 1:3,000, however, due to photo quality this was not always possible. The scanned images were then registered to those points. The ground control points were stored for each image tile along with the RMS error from the registration process. See the included tutorial file for more detail on the registration process. This document was used for training and reference by staff members doing the processing. 2. Registered images (1937 Corrected) were subsetted (i.e. cropped) to remove photograph borders, fiducial marks, and distorted edges. 3. Image subsets (1937 Sub) were grouped together by county and combined into image mosaics.
Name: DE_Imagery/DE_Imagery_1937
Description: Resolution: 1.0 Meter
Band: 1-band: Panchromatic
USDA Agricultural Adjustment AdministrationBlack and WhiteScanned and georectified using ERDAS ImagineFlying height 40,000 feet, 6-inch focal length cameraScale: 1:20,000SRS: NAD83 HARN Delaware State Plane meters
These are scanned images from aerial photography flow in 1937/38 by the Agricultural Stabilization and Conservation Service, maintained by the National Archives. These images are presented as individual tiles, county-wide and state-wide mosaics. Initial purpose was to provide base for digitizing Historic Forest Cover in Delaware. The data set could be used for other similar change analyses.
1. Heads-up digitizing was used to create ground control points on the 1937 Images using the 1997 Imagery as a reference. Every attempt was made to create GCPs at a standard scale of 1:3,000, however, due to photo quality this was not always possible. The scanned images were then registered to those points. The ground control points were stored for each image tile along with the RMS error from the registration process. See the included tutorial file for more detail on the registration process. This document was used for training and reference by staff members doing the processing. 2. Registered images (1937 Corrected) were subsetted (i.e. cropped) to remove photograph borders, fiducial marks, and distorted edges. 3. Image subsets (1937 Sub) were grouped together by county and combined into image mosaics.
Single Fused Map Cache: true
Tile Info:
- Height: 256
- Width: 256
- DPI: 96
-
Levels of Detail: 20
-
Level ID: 0
[ Start Tile, End Tile ]
- Resolution: 156543.03392800014
- Scale: 5.91657527591555E8
-
Level ID: 1
[ Start Tile, End Tile ]
- Resolution: 78271.51696399994
- Scale: 2.95828763795777E8
-
Level ID: 2
[ Start Tile, End Tile ]
- Resolution: 39135.75848200009
- Scale: 1.47914381897889E8
-
Level ID: 3
[ Start Tile, End Tile ]
- Resolution: 19567.87924099992
- Scale: 7.3957190948944E7
-
Level ID: 4
[ Start Tile, End Tile ]
- Resolution: 9783.93962049996
- Scale: 3.6978595474472E7
-
Level ID: 5
[ Start Tile, End Tile ]
- Resolution: 4891.96981024998
- Scale: 1.8489297737236E7
- Format: MIXED
- Compression Quality: 65.0
- LERC Error: NaN
- Origin: X: -2.0037508342787E7
Y: 2.0037508342787E7
- Spatial Reference: 102100
(3857)
LatestVCSWkid(0)
Storage Info:
- Storage Format: esriMapCacheStorageModeCompact
- Packet Size: 128
Extent:
XMin: -8438849.3436
YMin: 4643171.944799997
XMax: -8353418.343599999
YMax: 4843285.944799997
Spatial Reference: 102100
(3857)
LatestVCSWkid(0)
Initial Extent:
XMin: -8438849.3436
YMin: 4643171.944799997
XMax: -8353418.343599999
YMax: 4843285.944799997
Spatial Reference: 102100
(3857)
LatestVCSWkid(0)
Full Extent:
XMin: -8438849.3436
YMin: 4643171.944799997
XMax: -8353418.343599999
YMax: 4843285.944799997
Spatial Reference: 102100
(3857)
LatestVCSWkid(0)
Pixel Size X: 1.0
Pixel Size Y: 1.0
Band Count: 3
Pixel Type: U8
RasterFunction Infos: {"rasterFunctionInfos": [{
"name": "None",
"description": "",
"help": ""
}]}
Mensuration Capabilities: Basic
Inspection Capabilities:
Has Histograms: true
Has Colormap: false
Has Multi Dimensions : false
Rendering Rule:
Min Scale: 9244648.868618
Max Scale: 1128.497176
Copyright Text: USDA Agricultural Stabilization and Conservation Service
Service Data Type: esriImageServiceDataTypeProcessed
Min Values: 0, 0, 0
Max Values: 255, 255, 255
Mean Values: 120.51692513819181, 120.51692513819181, 120.51692513819181
Standard Deviation Values: 48.74915919774053, 48.74915919774053, 48.74915919774053
Object ID Field: OBJECTID
Fields:
-
OBJECTID
(
type: esriFieldTypeOID, alias: OBJECTID
)
-
Shape
(
type: esriFieldTypeGeometry, alias: Shape
)
-
Name
(
type: esriFieldTypeString, alias: Name, length: 50
)
-
MinPS
(
type: esriFieldTypeDouble, alias: MinPS
)
-
MaxPS
(
type: esriFieldTypeDouble, alias: MaxPS
)
-
LowPS
(
type: esriFieldTypeDouble, alias: LowPS
)
-
HighPS
(
type: esriFieldTypeDouble, alias: HighPS
)
-
Category
(
type: esriFieldTypeInteger, alias: Category
, Coded Values:
[0: Unknown]
, [1: Primary]
, [2: Overview]
, ...6 more...
)
-
Tag
(
type: esriFieldTypeString, alias: Tag, length: 20
)
-
GroupName
(
type: esriFieldTypeString, alias: GroupName, length: 50
)
-
ProductName
(
type: esriFieldTypeString, alias: ProductName, length: 50
)
-
CenterX
(
type: esriFieldTypeDouble, alias: CenterX
)
-
CenterY
(
type: esriFieldTypeDouble, alias: CenterY
)
-
ZOrder
(
type: esriFieldTypeInteger, alias: ZOrder
)
-
Shape_Length
(
type: esriFieldTypeDouble, alias: Shape_Length
)
-
Shape_Area
(
type: esriFieldTypeDouble, alias: Shape_Area
)
Default Mosaic Method: ByAttribute
Allowed Mosaic Methods: ByAttribute,NorthWest,Center,LockRaster,Nadir,Viewpoint,Seamline,None
SortField: LowPS
SortValue: 0
Mosaic Operator: First
Default Compression Quality: 75
Default Resampling Method: Bilinear
Max Record Count: 1000
Max Image Height: 500000
Max Image Width: 500000
Max Download Image Count: 20
Max Mosaic Image Count: 2000
Allow Raster Function: true
Allow Copy: true
Allow Analysis: true
Allow Compute TiePoints: false
Supports Statistics: true
Supports Advanced Queries: true
Use StandardizedQueries: true
Raster Type Infos:
Name: Raster Dataset
Description: Supports all ArcGIS Raster Datasets
Help:
Has Raster Attribute Table: false
Edit Fields Info: null
Ownership Based AccessControl For Rasters: null
Child Resources:
Info
Histograms
Statistics
Key Properties
Legend
Raster Function Infos
Supported Operations:
Export Image
Query
Identify
Measure
Compute Histograms
Compute Statistics Histograms
Get Samples
Compute Class Statistics
Query GPS Info
Find Images
Image to Map
Map to Image
Measure from Image
Image to Map Multiray
Query Boundary
Compute Pixel Location
Compute Angles
Validate
Project