<?xml version="1.0" encoding="UTF-8" standalone="no"?>
<metadata xml:lang="en">
<Esri>
<CreaDate>20220808</CreaDate>
<CreaTime>14573900</CreaTime>
<ArcGISFormat>1.0</ArcGISFormat>
<SyncOnce>FALSE</SyncOnce>
<DataProperties>
<itemProps>
<itemName Sync="TRUE">de_lc_2013_WM</itemName>
<itemLocation>
<linkage Sync="TRUE">file://\\DVT2CFIRSTMAP\D$\scratch\LandCover.gdb</linkage>
<protocol Sync="TRUE">Local Area Network</protocol>
</itemLocation>
<imsContentType Sync="TRUE" export="False">002</imsContentType>
<nativeExtBox>
<westBL Sync="TRUE">-8473903.603240</westBL>
<eastBL Sync="TRUE">-8306729.603240</eastBL>
<southBL Sync="TRUE">4628256.758777</southBL>
<northBL Sync="TRUE">4847689.758777</northBL>
<exTypeCode Sync="TRUE">1</exTypeCode>
</nativeExtBox>
</itemProps>
<coordRef>
<type Sync="TRUE">Projected</type>
<geogcsn Sync="TRUE">GCS_WGS_1984</geogcsn>
<csUnits Sync="TRUE">Linear Unit: Meter (1.000000)</csUnits>
<projcsn Sync="TRUE">WGS_1984_Web_Mercator_Auxiliary_Sphere</projcsn>
<peXml Sync="TRUE">&lt;ProjectedCoordinateSystem xsi:type='typens:ProjectedCoordinateSystem' xmlns:xsi='http://www.w3.org/2001/XMLSchema-instance' xmlns:xs='http://www.w3.org/2001/XMLSchema' xmlns:typens='http://www.esri.com/schemas/ArcGIS/2.9.0'&gt;&lt;WKT&gt;PROJCS[&amp;quot;WGS_1984_Web_Mercator_Auxiliary_Sphere&amp;quot;,GEOGCS[&amp;quot;GCS_WGS_1984&amp;quot;,DATUM[&amp;quot;D_WGS_1984&amp;quot;,SPHEROID[&amp;quot;WGS_1984&amp;quot;,6378137.0,298.257223563]],PRIMEM[&amp;quot;Greenwich&amp;quot;,0.0],UNIT[&amp;quot;Degree&amp;quot;,0.0174532925199433]],PROJECTION[&amp;quot;Mercator_Auxiliary_Sphere&amp;quot;],PARAMETER[&amp;quot;False_Easting&amp;quot;,0.0],PARAMETER[&amp;quot;False_Northing&amp;quot;,0.0],PARAMETER[&amp;quot;Central_Meridian&amp;quot;,0.0],PARAMETER[&amp;quot;Standard_Parallel_1&amp;quot;,0.0],PARAMETER[&amp;quot;Auxiliary_Sphere_Type&amp;quot;,0.0],UNIT[&amp;quot;Meter&amp;quot;,1.0],AUTHORITY[&amp;quot;EPSG&amp;quot;,3857]]&lt;/WKT&gt;&lt;XOrigin&gt;-20037700&lt;/XOrigin&gt;&lt;YOrigin&gt;-30241100&lt;/YOrigin&gt;&lt;XYScale&gt;148923141.92838538&lt;/XYScale&gt;&lt;ZOrigin&gt;-100000&lt;/ZOrigin&gt;&lt;ZScale&gt;10000&lt;/ZScale&gt;&lt;MOrigin&gt;-100000&lt;/MOrigin&gt;&lt;MScale&gt;10000&lt;/MScale&gt;&lt;XYTolerance&gt;0.001&lt;/XYTolerance&gt;&lt;ZTolerance&gt;0.001&lt;/ZTolerance&gt;&lt;MTolerance&gt;0.001&lt;/MTolerance&gt;&lt;HighPrecision&gt;true&lt;/HighPrecision&gt;&lt;WKID&gt;102100&lt;/WKID&gt;&lt;LatestWKID&gt;3857&lt;/LatestWKID&gt;&lt;/ProjectedCoordinateSystem&gt;</peXml>
</coordRef>
<RasterProperties>
<General>
<PixelDepth Sync="TRUE">8</PixelDepth>
<HasColormap Sync="TRUE">FALSE</HasColormap>
<CompressionType Sync="TRUE">LZW</CompressionType>
<NumBands Sync="TRUE">1</NumBands>
<Format Sync="TRUE">TIFF</Format>
<HasPyramids Sync="TRUE">TRUE</HasPyramids>
<SourceType Sync="TRUE">discrete</SourceType>
<PixelType Sync="TRUE">unsigned integer</PixelType>
<NoDataValue Sync="TRUE">255</NoDataValue>
</General>
</RasterProperties>
</DataProperties>
<SyncDate>20230526</SyncDate>
<SyncTime>12391000</SyncTime>
<ModDate>20230526</ModDate>
<ModTime>16440400</ModTime>
<scaleRange>
<minScale>150000000</minScale>
<maxScale>5000</maxScale>
</scaleRange>
<ArcGISProfile>FGDC</ArcGISProfile>
</Esri>
<dataIdInfo>
<envirDesc Sync="TRUE">Microsoft Windows Server 2016 Technical Preview Version 10.0 (Build 14393) ; Esri ArcGIS 12.9.4.32739</envirDesc>
<dataLang>
<languageCode Sync="TRUE" value="eng"/>
<countryCode Sync="TRUE" value="USA"/>
</dataLang>
<idCitation>
<resTitle>DE_LandCover_2013</resTitle>
<presForm>
<PresFormCd Sync="TRUE" value="011"/>
</presForm>
<resAltTitle>Chesapeake Bay Land Use and Land Cover (LULC) Database 2022 Edition</resAltTitle>
<date>
<pubDate>2023-02-28T00:00:00</pubDate>
</date>
<resEd>2022</resEd>
<citRespParty>
<editorSource>external</editorSource>
<editorDigest>d13e65f100fbb5246f4e46aa74e384c0752f5806</editorDigest>
<rpIndName>FirstMap</rpIndName>
<rpOrgName>Delaware Department of Technology and Information (DTI)</rpOrgName>
<rpCntInfo>
<cntAddress addressType="both">
<delPoint>801 Silver Lake Blvd.</delPoint>
<city>Dover</city>
<adminArea>DE</adminArea>
<postCode>19904</postCode>
<eMailAdd>FirstMap@delaware.gov</eMailAdd>
<country>US</country>
</cntAddress>
<cntPhone>
<voiceNum tddtty="">302-739-9500</voiceNum>
</cntPhone>
</rpCntInfo>
<editorSave>True</editorSave>
<displayName>FirstMap</displayName>
<role>
<RoleCd value="002"/>
</role>
</citRespParty>
<citRespParty>
<rpOrgName>Chesapeake Bay Program</rpOrgName>
<role>
<RoleCd value="006"/>
</role>
<rpCntInfo>
<cntOnlineRes>
<linkage>https://doi.org/10.5066/P981GV1L</linkage>
</cntOnlineRes>
</rpCntInfo>
</citRespParty>
</idCitation>
<spatRpType>
<SpatRepTypCd Sync="TRUE" value="002"/>
</spatRpType>
<dataExt>
<geoEle>
<GeoBndBox esriExtentType="search">
<exTypeCode Sync="TRUE">1</exTypeCode>
<westBL Sync="TRUE">-76.122371</westBL>
<eastBL Sync="TRUE">-74.620622</eastBL>
<northBL Sync="TRUE">39.874280</northBL>
<southBL Sync="TRUE">38.344850</southBL>
</GeoBndBox>
</geoEle>
<exDesc>Time Period of Content</exDesc>
<tempEle>
<TempExtent>
<exTemp>
<TM_Period>
<tmBegin>2013-01-01T00:00:00</tmBegin>
<tmEnd>2018-12-31T00:00:00</tmEnd>
</TM_Period>
</exTemp>
</TempExtent>
</tempEle>
</dataExt>
<idPurp>The database was produced to inform effects of land use and land cover change on the water quality in the Chesapeake Bay watershed by providing states, counties and local jurisdictions with detailed and consistent land use information to make data-driven and effective management decisions. The products were developed to be broadly used for informing both conservation and restoration efforts decisions such as habitat suitability assessments, riparian buffer implementation, agriculture and forest conservation, and tracking the conversion of forests and farmlands to other uses.</idPurp>
<idAbs>&lt;DIV STYLE="text-align:Left;"&gt;&lt;DIV&gt;&lt;DIV&gt;&lt;P&gt;&lt;SPAN&gt;The Chesapeake Bay Land Use and Land Cover Database (LULC) facilitates characterization of the landscape and land change for and between discrete time periods. The database was developed by the University of Vermont’s Spatial Analysis Laboratory in cooperation with Chesapeake Conservancy (CC) and U.S. Geological Survey (USGS) as part of a 6-year Cooperative Agreement between Chesapeake Conservancy and the U.S. Environmental Protection Agency (EPA) and a separate Interagency Agreement between the USGS and EPA to provide geospatial support to the Chesapeake Bay Program Office. The database contains one-meter 13-class Land Cover (LC) and 54-class Land Use/Land Cover (LULC) for all counties within or adjacent to the Chesapeake Bay watershed for 2013/14 and 2017/18, depending on availability of National Agricultural Imagery Program (NAIP) imagery for each state. Additionally, 54 LULC classes are generalized into 18 LULC classes to simplify process of mapping LULC change, ease visualization and discussion of larger LULC trends. LC change between discrete time periods, detected by spectral changes in NAIP imagery and LiDAR, represents changes between the 12 land cover classes. LULC change uses LC change to identify where changes are happening and then LC is translated to LULC to represent transitions between the 54 LULC classes. The LULCC data is represented as a LULC class change transition matrix which provides users acres of change between multiple classes. It is organized by 18x18 and 54x54 LULC classes. The Chesapeake Bay Water (CBW) indicates raster tabulations were performed for only areas that fall inside the CBW boundary e.g., if user is interested in CBW portion of a county then they will use LULC Matrix CBW. Conversely, if they are interested change transitions across the entire county, they will use LULC Matrix. For the complete metadata, citation and data dictionary please visit: https://doi.org/10.5066/P981GV1L&lt;/SPAN&gt;&lt;/P&gt;&lt;/DIV&gt;&lt;/DIV&gt;&lt;/DIV&gt;</idAbs>
<searchKeys>
<keyword>land cover</keyword>
<keyword>land cover change</keyword>
<keyword>Chesapeake Bay</keyword>
<keyword>Delaware</keyword>
<keyword>District of Columbia</keyword>
<keyword>Maryland</keyword>
<keyword>New York</keyword>
<keyword>Pennsylvania</keyword>
<keyword>Virginia</keyword>
<keyword>West Virginia</keyword>
</searchKeys>
<idCredit>University of Vermont Spatial Analysis Laboratory, Chesapeake Conservancy, U.S. Geological Survey, U.S. Environmental Protection Agency Chesapeake Bay Program</idCredit>
<resConst>
<Consts>
<useLimit>&lt;DIV STYLE="text-align:Left;"&gt;&lt;DIV&gt;&lt;DIV&gt;&lt;P&gt;&lt;SPAN&gt;The organizations responsible for generating and funding this dataset make no representations of any kind including, but not limited to the warranties of merchantability or fitness for a particular use, nor are any such warranties to be implied with respect to the data. The data is provided on the condition that neither the USGS nor the U.S. Government, or any of the collaborating organizations shall be held liable for any damages resulting from the authorized or unauthorized use of the data. Although every effort has been made to ensure the accuracy of information, errors may be reflected in data supplied. Possible errors or limitations of the data have been documented but the list is not exhaustive. The user must be aware of data conditions and bear responsibility for the appropriate use of the information with respect to possible errors, original map scale, collection methodology, currency of data, and other conditions. Credit should always be given to the data source when this data is transferred, altered, or used for analysis.&lt;/SPAN&gt;&lt;/P&gt;&lt;/DIV&gt;&lt;/DIV&gt;&lt;/DIV&gt;</useLimit>
</Consts>
</resConst>
<dataChar>
<CharSetCd value="004"/>
</dataChar>
<idStatus>
<ProgCd value="001"/>
</idStatus>
<idPoC>
<editorSource>external</editorSource>
<editorDigest>d13e65f100fbb5246f4e46aa74e384c0752f5806</editorDigest>
<rpIndName>FirstMap</rpIndName>
<rpOrgName>Delaware Department of Technology and Information (DTI)</rpOrgName>
<rpCntInfo>
<cntAddress addressType="both">
<delPoint>801 Silver Lake Blvd.</delPoint>
<city>Dover</city>
<adminArea>DE</adminArea>
<postCode>19904</postCode>
<eMailAdd>FirstMap@delaware.gov</eMailAdd>
<country>US</country>
</cntAddress>
<cntPhone>
<voiceNum tddtty="">302-739-9500</voiceNum>
</cntPhone>
</rpCntInfo>
<editorSave>True</editorSave>
<displayName>FirstMap</displayName>
<role>
<RoleCd value="002"/>
</role>
</idPoC>
<idPoC>
<rpOrgName>Chesapeake Bay Program</rpOrgName>
<role>
<RoleCd value="006"/>
</role>
<rpCntInfo>
<cntOnlineRes>
<linkage>https://doi.org/10.5066/P981GV1L</linkage>
</cntOnlineRes>
</rpCntInfo>
<displayName>Chesapeake Bay Program</displayName>
</idPoC>
<resMaint>
<maintFreq>
<MaintFreqCd value="011"/>
</maintFreq>
<maintCont>
<rpOrgName>Chesapeake Bay Program</rpOrgName>
<role>
<RoleCd value="006"/>
</role>
<rpCntInfo>
<cntOnlineRes>
<linkage>https://doi.org/10.5066/P981GV1L</linkage>
</cntOnlineRes>
</rpCntInfo>
<displayName>Chesapeake Bay Program</displayName>
</maintCont>
</resMaint>
<tpCat>
<TopicCatCd value="015"/>
</tpCat>
</dataIdInfo>
<mdLang>
<languageCode Sync="TRUE" value="eng"/>
<countryCode Sync="TRUE" value="USA"/>
</mdLang>
<mdChar>
<CharSetCd Sync="TRUE" value="004"/>
</mdChar>
<distInfo>
<distFormat>
<formatName Sync="TRUE">File Geodatabase Raster Dataset</formatName>
</distFormat>
</distInfo>
<mdHrLv>
<ScopeCd Sync="TRUE" value="005"/>
</mdHrLv>
<mdHrLvName Sync="TRUE">dataset</mdHrLvName>
<refSysInfo>
<RefSystem>
<refSysID>
<identCode Sync="TRUE" code="3857"/>
<idCodeSpace Sync="TRUE">EPSG</idCodeSpace>
<idVersion Sync="TRUE">6.18.3(9.3.1.2)</idVersion>
</refSysID>
</RefSystem>
</refSysInfo>
<spatRepInfo>
<Georect>
<cellGeo>
<CellGeoCd Sync="TRUE" value="002"/>
</cellGeo>
<numDims Sync="TRUE">2</numDims>
<tranParaAv Sync="TRUE">1</tranParaAv>
<chkPtAv Sync="TRUE">0</chkPtAv>
<cornerPts>
<pos Sync="TRUE">1704045.000000 1901205.000000</pos>
</cornerPts>
<cornerPts>
<pos Sync="TRUE">1704045.000000 2055175.000000</pos>
</cornerPts>
<cornerPts>
<pos Sync="TRUE">1801840.000000 2055175.000000</pos>
</cornerPts>
<cornerPts>
<pos Sync="TRUE">1801840.000000 1901205.000000</pos>
</cornerPts>
<centerPt>
<pos Sync="TRUE">1752942.500000 1978190.000000</pos>
</centerPt>
<axisDimension type="002">
<dimSize Sync="TRUE">97795</dimSize>
<dimResol>
<value Sync="TRUE" uom="m">1.000000</value>
</dimResol>
</axisDimension>
<axisDimension type="001">
<dimSize Sync="TRUE">153970</dimSize>
<dimResol>
<value Sync="TRUE" uom="m">1.000000</value>
</dimResol>
</axisDimension>
<ptInPixel>
<PixOrientCd Sync="TRUE" value="001"/>
</ptInPixel>
</Georect>
</spatRepInfo>
<eainfo>
<detailed Name="VAT_de_lc_2013_WM">
<enttyp>
<enttypl Sync="TRUE">VAT_de_lc_2013_WM</enttypl>
<enttypt Sync="TRUE">Table</enttypt>
<enttypc Sync="TRUE">12</enttypc>
<enttypd>Delaware Land Cover</enttypd>
<enttypds>Delaware Land Cover</enttypds>
</enttyp>
<attr>
<attrlabl Sync="TRUE">OBJECTID</attrlabl>
<attalias Sync="TRUE">OBJECTID</attalias>
<attrtype Sync="TRUE">OID</attrtype>
<attwidth Sync="TRUE">4</attwidth>
<atprecis Sync="TRUE">0</atprecis>
<attscale Sync="TRUE">0</attscale>
<attrdef Sync="TRUE">Internal feature number.</attrdef>
<attrdefs Sync="TRUE">Esri</attrdefs>
<attrdomv>
<udom Sync="TRUE">Sequential unique whole numbers that are automatically generated.</udom>
</attrdomv>
</attr>
<attr>
<attrlabl Sync="TRUE">Value</attrlabl>
<attalias Sync="TRUE">Value</attalias>
<attrtype Sync="TRUE">Integer</attrtype>
<attwidth Sync="TRUE">4</attwidth>
<atprecis Sync="TRUE">0</atprecis>
<attscale Sync="TRUE">0</attscale>
<attrdef>Raster values</attrdef>
<attrdefs>Raster</attrdefs>
<attrdomv>
<rdom>
<rdommin>1</rdommin>
<rdommax>254</rdommax>
</rdom>
</attrdomv>
</attr>
<attr>
<attrlabl Sync="TRUE">Count</attrlabl>
<attalias Sync="TRUE">Count</attalias>
<attrtype Sync="TRUE">Double</attrtype>
<attwidth Sync="TRUE">8</attwidth>
<atprecis Sync="TRUE">0</atprecis>
<attscale Sync="TRUE">0</attscale>
<attrdef>Pixel Count</attrdef>
<attrdefs>Pixel Count</attrdefs>
<attrdomv>
<udom>variable min and max values</udom>
</attrdomv>
</attr>
<attr>
<attrlabl Sync="TRUE">Acres</attrlabl>
<attalias Sync="TRUE">Acres</attalias>
<attrtype Sync="TRUE">Double</attrtype>
<attwidth Sync="TRUE">8</attwidth>
<atprecis Sync="TRUE">0</atprecis>
<attscale Sync="TRUE">0</attscale>
<attrdef>Conversion from square meters to acres</attrdef>
<attrdefs>Acres</attrdefs>
<attrdomv>
<edom>
<edomv>acres</edomv>
<edomvd>Conversion from square meters to acres</edomvd>
<edomvds>Conversion from square meters to acres</edomvds>
</edom>
</attrdomv>
</attr>
<attr>
<attrlabl Sync="TRUE">LandCover</attrlabl>
<attalias Sync="TRUE">LandCover</attalias>
<attrtype Sync="TRUE">String</attrtype>
<attwidth Sync="TRUE">254</attwidth>
<atprecis Sync="TRUE">0</atprecis>
<attscale Sync="TRUE">0</attscale>
<attrdef>13 LC class names</attrdef>
<attrdefs>13 LC class names</attrdefs>
<attrdomv>
<udom>Raster Value LC Classes
1 Water
2 Emergent Wetlands
3 Tree Canopy
4 Scrub\Shrub
5 Low Vegetation
6 Barren
7 Impervious Structures
8 Other Impervious
9 Impervious Roads
10 Tree Canopy Over Structures
11 Tree Canopy Over Other Impervious
12 Tree Canopy Over Impervious Roads</udom>
</attrdomv>
</attr>
<attr>
<attrlabl Sync="TRUE">Red</attrlabl>
<attalias Sync="TRUE">Red</attalias>
<attrtype Sync="TRUE">Integer</attrtype>
<attwidth Sync="TRUE">4</attwidth>
<atprecis Sync="TRUE">0</atprecis>
<attscale Sync="TRUE">0</attscale>
<attrdef>Red RGB value for visualization</attrdef>
<attrdefs>Red RGB value for visualization</attrdefs>
<attrdomv>
<rdom>
<rdommin>0</rdommin>
<rdommax>255</rdommax>
</rdom>
</attrdomv>
</attr>
<attr>
<attrlabl Sync="TRUE">Green</attrlabl>
<attalias Sync="TRUE">Green</attalias>
<attrtype Sync="TRUE">Integer</attrtype>
<attwidth Sync="TRUE">4</attwidth>
<atprecis Sync="TRUE">0</atprecis>
<attscale Sync="TRUE">0</attscale>
<attrdef>Green RGB value for visualization</attrdef>
<attrdefs>Green RGB value for </attrdefs>
<attrdomv>
<rdom>
<rdommin>0</rdommin>
<rdommax>255</rdommax>
</rdom>
</attrdomv>
</attr>
<attr>
<attrlabl Sync="TRUE">Blue</attrlabl>
<attalias Sync="TRUE">Blue</attalias>
<attrtype Sync="TRUE">Integer</attrtype>
<attwidth Sync="TRUE">4</attwidth>
<atprecis Sync="TRUE">0</atprecis>
<attscale Sync="TRUE">0</attscale>
<attrdef>Blue RGB value for visualization
</attrdef>
<attrdefs>Blue RGB value for </attrdefs>
<attrdomv>
<rdom>
<rdommin>0</rdommin>
<rdommax>255</rdommax>
</rdom>
</attrdomv>
</attr>
</detailed>
</eainfo>
<contInfo>
<ImgDesc>
<contentTyp>
<ContentTypCd Sync="TRUE" value="002"/>
</contentTyp>
<covDim>
<Band>
<dimDescrp Sync="TRUE">Band_1</dimDescrp>
<maxVal Sync="TRUE">12.000000</maxVal>
<minVal Sync="TRUE">1.000000</minVal>
<bitsPerVal Sync="TRUE">8</bitsPerVal>
<valUnit>
<UOM gmlID="" type="length">
<unitSymbol>bit</unitSymbol>
</UOM>
</valUnit>
<seqID>
<aName>Band</aName>
<attributeType>
<aName>1</aName>
</attributeType>
</seqID>
</Band>
</covDim>
<attDesc>Raster values</attDesc>
<trianInd>False</trianInd>
<radCalDatAv>False</radCalDatAv>
<camCalInAv>False</camCalInAv>
<filmDistInAv>False</filmDistInAv>
<lensDistInAv>False</lensDistInAv>
</ImgDesc>
</contInfo>
<mdDateSt Sync="TRUE">20230526</mdDateSt>
<spdoinfo>
<rastinfo>
<rasttype Sync="TRUE">Pixel</rasttype>
<rowcount Sync="TRUE">219433</rowcount>
<colcount Sync="TRUE">167174</colcount>
<rastxsz Sync="TRUE">1.000000</rastxsz>
<rastysz Sync="TRUE">1.000000</rastysz>
<rastbpp Sync="TRUE">8</rastbpp>
<vrtcount Sync="TRUE">1</vrtcount>
<rastorig Sync="TRUE">Upper Left</rastorig>
<rastcmap Sync="TRUE">FALSE</rastcmap>
<rastcomp Sync="TRUE">LZ77</rastcomp>
<rastband Sync="TRUE">1</rastband>
<rastdtyp Sync="TRUE">pixel codes</rastdtyp>
<rastifor Sync="TRUE">FGDBR</rastifor>
<rastplyr Sync="TRUE">TRUE</rastplyr>
</rastinfo>
</spdoinfo>
<spref>
<horizsys>
<planar>
<planci>
<plance Sync="TRUE">row and column</plance>
<coordrep>
<absres Sync="TRUE">1.000000</absres>
<ordres Sync="TRUE">1.000000</ordres>
</coordrep>
</planci>
</planar>
</horizsys>
</spref>
<mdContact>
<rpIndName>Labeeb Ahmed</rpIndName>
<rpOrgName>U.S. Geological Survey, SOUTHEAST REGION</rpOrgName>
<rpPosName>Geographer</rpPosName>
<role>
<RoleCd value="006"/>
</role>
<displayName>Chesapeake Bay Program</displayName>
<rpCntInfo>
<cntAddress addressType="postal">
<delPoint>US EPA Chesapeake Bay Program</delPoint>
<city>Annapolis</city>
<adminArea>MD</adminArea>
<postCode>21401</postCode>
<eMailAdd>lahmed@usgs.gov</eMailAdd>
<country>US</country>
</cntAddress>
<cntPhone>
<voiceNum tddtty="">410-267-5715</voiceNum>
</cntPhone>
</rpCntInfo>
</mdContact>
<mdMaint>
<maintFreq>
<MaintFreqCd value="009"/>
</maintFreq>
</mdMaint>
<dqInfo>
<dqScope>
<scpLvl>
<ScopeCd value="001"/>
</scpLvl>
</dqScope>
<dataLineage>
<statement>These are brief descriptions of the processing steps (listed in order of operations):
(1) land cover (LC) 2013/14
(2) land cover (LC) 2017/2018
(3) land cover change (LCC) 2013/14 - 2017/2018
(4) land use/land cover (LULC) 2017/2018
(5) land use/land cover change (LULCC) 2013/14 - 2017/2018
(6) land use/land cover (LULC) 2013/14.
Land Cover 2013/14 (2017 release) is the first iteration of high resolution land cover mapping in the Chesapeake Bay that was completed in 2017.
</statement>
<prcStep>
<stepDesc>Land Cover 2013/2014</stepDesc>
<stepRat>Land-cover change mapping was performed in eCognition, state-of-the-art software for performing object-based image analysis. This expert-system technique segments input datasets into meaningful landscape objects and classifies them according to both their individual characteristics (e.g., vegetation content from spectral imagery, vegetation height from LiDAR) and their relationships to adjacent features. The 2013/14 land cover data (2017 release) for the Chesapeake Bay Watershed was was updated using best available LiDAR, regional building footprints, local planimetric data representing roads and buildings, and 2013/14 NAIP Imagery.</stepRat>
<stepDateTm>2022-07-01T00:00:00</stepDateTm>
<stepSrc type="used">
<srcDesc>Vegetation content from spectral imagery, vegetation height from LiDAR</srcDesc>
<srcMedName>
<MedNameCd value="031"/>
</srcMedName>
</stepSrc>
</prcStep>
</dataLineage>
<report dimension="" type="DQConcConsis">
<measDesc>Evaluating accuracy of land use and land cover and its change classes is exceptionally challenging considering the spatial and categorical resolution of the data. However, various steps have been taken to ensure accuracy including consideration of the best available ancillary datasets corresponding to specific time intervals to inform mapping classifications and extensive visual inspections of the data by multiple team members to address issues such as large area or systematic misclassifications. Additionally, automated workflows were developed to track and capture certain erroneous classifications in the workflows.</measDesc>
<evalMethDesc>There is a separate and on-going effort to perform an accuracy assessment of the mapped land cover classes with an estimated delivery in 2023.</evalMethDesc>
</report>
<report dimension="" type="DQCompOm">
<measDesc>Dataset is considered complete for the information presented, as described in the abstract. Users are advised to read the entire metadata record carefully for additional details.</measDesc>
</report>
<report dimension="" type="DQConcConsis">
<measDesc>The original data was processed at a county-scale and then a state mosaic was created for the data release. The values, classes and legends in the state-wide mosaics are consistent with those provided for the data for individual counties. Please refer to the overview and methods document for more details.</measDesc>
</report>
</dqInfo>
</metadata>
