<?xml version="1.0" encoding="UTF-8" standalone="no"?>
<metadata xml:lang="en">
<Esri>
<CreaDate>20200909</CreaDate>
<CreaTime>18083700</CreaTime>
<ArcGISFormat>1.0</ArcGISFormat>
<SyncOnce>FALSE</SyncOnce>
<DataProperties>
<lineage>
<Process Date="20200909" Name="" Time="180837" ToolSource="c:\program files\arcgis\pro\Resources\ArcToolbox\toolboxes\Data Management Tools.tbx\MosaicToNewRaster" export="">MosaicToNewRaster Central;North;Southeast;Southwest_Fixed "\\Dtifs01\apd\Team GIS\FirstMap-2.0\Services\Test\Enterprise\PlanningCadastre\Impervious_LULC\Impervious_LULC.gdb" Impervious_2017_Fix_2 PROJCS['NAD_1983_StatePlane_Delaware_FIPS_0700',GEOGCS['GCS_North_American_1983',DATUM['D_North_American_1983',SPHEROID['GRS_1980',6378137.0,298.257222101]],PRIMEM['Greenwich',0.0],UNIT['Degree',0.0174532925199433]],PROJECTION['Transverse_Mercator'],PARAMETER['False_Easting',200000.0],PARAMETER['False_Northing',0.0],PARAMETER['Central_Meridian',-75.41666666666667],PARAMETER['Scale_Factor',0.999995],PARAMETER['Latitude_Of_Origin',38.0],UNIT['Meter',1.0]] "8 bit unsigned" # 1 Last First</Process>
<Process Date="20200909" Name="" Time="181553" ToolSource="c:\program files\arcgis\pro\Resources\ArcToolbox\toolboxes\Data Management Tools.tbx\Rename" export="">Rename "\\Dtifs01\apd\Team GIS\FirstMap-2.0\Services\Test\Enterprise\PlanningCadastre\Impervious_LULC\Impervious_LULC.gdb\Impervious_2017_Fix_2" "\\Dtifs01\apd\Team GIS\FirstMap-2.0\Services\Test\Enterprise\PlanningCadastre\Impervious_LULC\Impervious_LULC.gdb\Impervious_2017" RasterDataset</Process>
<Process Date="20200909" Name="" Time="182236" ToolSource="c:\program files\arcgis\pro\Resources\ArcToolbox\toolboxes\Data Management Tools.tbx\BuildPyramids" export="">BuildPyramids "\\Dtifs01\apd\Team GIS\FirstMap-2.0\Services\Test\Enterprise\PlanningCadastre\Impervious_LULC\Impervious_LULC.gdb\Impervious_2017" -1 NONE Nearest NONE 75 OVERWRITE</Process>
<Process Date="20210820" Name="" Time="141951" ToolSource="c:\program files\arcgis\pro\Resources\ArcToolbox\Toolboxes\Data Management Tools.tbx\Rename" export="">Rename "\\Dtifs01\apd\Team GIS\FirstMap-2.0\Services\Production\Enterprise\PlanningCadastre\Impervious_LULC\Impervious_LULC.gdb\Impervious_2017" "\\Dtifs01\apd\Team GIS\FirstMap-2.0\Services\Production\Enterprise\PlanningCadastre\Impervious_LULC\Impervious_LULC.gdb\PLC_Impervious_2017_SP" RasterDataset</Process>
<Process Date="20210820" Name="" Time="162629" ToolSource="c:\program files\arcgis\pro\Resources\ArcToolbox\toolboxes\Data Management Tools.tbx\BuildPyramids" export="">BuildPyramids "\\Dtifs01\apd\Team GIS\FirstMap-2.0\Services\Production\Enterprise\PlanningCadastre\Impervious_LULC\Impervious_LULC.gdb\PLC_Impervious_2017_SP" -1 NONE Nearest DEFAULT 75 OVERWRITE</Process>
<Process Date="20210820" Name="" Time="162840" ToolSource="c:\program files\arcgis\pro\Resources\ArcToolbox\toolboxes\Data Management Tools.tbx\CalculateStatistics" export="">CalculateStatistics "\\Dtifs01\apd\Team GIS\FirstMap-2.0\Services\Production\Enterprise\PlanningCadastre\Impervious_LULC\Impervious_LULC.gdb\PLC_Impervious_2017_SP" 1 1 # OVERWRITE "Feature Set"</Process>
<Process Date="20210827" Name="" Time="160950" ToolSource="c:\program files\arcgis\pro\Resources\ArcToolbox\toolboxes\Data Management Tools.tbx\ProjectRaster" export="">ProjectRaster "2017 Impervious Surface" "\\Dtifs01\apd\Team GIS\FirstMap-2.0\Services\Production\Enterprise\PlanningCadastre\Impervious_LULC\Impervious_LULC.gdb\PLC_Impervious_2017" PROJCS["WGS_1984_Web_Mercator_Auxiliary_Sphere",GEOGCS["GCS_WGS_1984",DATUM["D_WGS_1984",SPHEROID["WGS_1984",6378137.0,298.257223563]],PRIMEM["Greenwich",0.0],UNIT["Degree",0.0174532925199433]],PROJECTION["Mercator_Auxiliary_Sphere"],PARAMETER["False_Easting",0.0],PARAMETER["False_Northing",0.0],PARAMETER["Central_Meridian",0.0],PARAMETER["Standard_Parallel_1",0.0],PARAMETER["Auxiliary_Sphere_Type",0.0],UNIT["Meter",1.0]] "Nearest neighbor" "1 1" WGS_1984_(ITRF00)_To_NAD_1983 # PROJCS["NAD_1983_StatePlane_Delaware_FIPS_0700",GEOGCS["GCS_North_American_1983",DATUM["D_North_American_1983",SPHEROID["GRS_1980",6378137.0,298.257222101]],PRIMEM["Greenwich",0.0],UNIT["Degree",0.0174532925199433]],PROJECTION["Transverse_Mercator"],PARAMETER["False_Easting",200000.0],PARAMETER["False_Northing",0.0],PARAMETER["Central_Meridian",-75.41666666666667],PARAMETER["Scale_Factor",0.999995],PARAMETER["Latitude_Of_Origin",38.0],UNIT["Meter",1.0]] NO_VERTICAL</Process>
<Process Date="20210901" Name="" Time="130829" ToolSource="c:\program files\arcgis\pro\Resources\ArcToolbox\toolboxes\Data Management Tools.tbx\CopyMultiple" export="">CopyMultiple "'\\Dtifs01\apd\Team GIS\FirstMap-2.0\Services\Production\Enterprise\PlanningCadastre\Impervious_LULC\Impervious_LULC.gdb\PLC_Impervious_2007' RasterDataset;'\\Dtifs01\apd\Team GIS\FirstMap-2.0\Services\Production\Enterprise\PlanningCadastre\Impervious_LULC\Impervious_LULC.gdb\PLC_Impervious_2012' RasterDataset;'\\Dtifs01\apd\Team GIS\FirstMap-2.0\Services\Production\Enterprise\PlanningCadastre\Impervious_LULC\Impervious_LULC.gdb\PLC_Impervious_2017' RasterDataset" "\\Dtifs01\apd\Team GIS\FirstMap-2.0\Services\Production\Enterprise\PlanningCadastre\Impervious_LULC\FM2_prod_FMENTERP_firstmap_owner.sde" PLC_Impervious_2007;PLC_Impervious_2012;PLC_Impervious_2017 "PLC_Impervious_2007 RasterDataset FIRSTMAP_OWNER.PLC_Impervious_2007 #;PLC_Impervious_2012 RasterDataset FIRSTMAP_OWNER.PLC_Impervious_2012 #;PLC_Impervious_2017 RasterDataset FIRSTMAP_OWNER.PLC_Impervious_2017 #"</Process>
<Process Date="20210908" Time="093622" ToolSource="c:\program files\arcgis\pro\Resources\ArcToolbox\toolboxes\Data Management Tools.tbx\ChangePrivileges">ChangePrivileges '\\Dtifs01\apd\Team GIS\FirstMap-2.0\Services\Production\Enterprise\PlanningCadastre\Impervious_LULC\FM2_prod_FMENTERP_firstmap_owner.sde\FIRSTMAP_OWNER.PLC_Impervious_2007';'\\Dtifs01\apd\Team GIS\FirstMap-2.0\Services\Production\Enterprise\PlanningCadastre\Impervious_LULC\FM2_prod_FMENTERP_firstmap_owner.sde\FIRSTMAP_OWNER.PLC_Impervious_2007_SP';'\\Dtifs01\apd\Team GIS\FirstMap-2.0\Services\Production\Enterprise\PlanningCadastre\Impervious_LULC\FM2_prod_FMENTERP_firstmap_owner.sde\FIRSTMAP_OWNER.PLC_Impervious_2012';'\\Dtifs01\apd\Team GIS\FirstMap-2.0\Services\Production\Enterprise\PlanningCadastre\Impervious_LULC\FM2_prod_FMENTERP_firstmap_owner.sde\FIRSTMAP_OWNER.PLC_Impervious_2012_SP';'\\Dtifs01\apd\Team GIS\FirstMap-2.0\Services\Production\Enterprise\PlanningCadastre\Impervious_LULC\FM2_prod_FMENTERP_firstmap_owner.sde\FIRSTMAP_OWNER.PLC_Impervious_2017';'\\Dtifs01\apd\Team GIS\FirstMap-2.0\Services\Production\Enterprise\PlanningCadastre\Impervious_LULC\FM2_prod_FMENTERP_firstmap_owner.sde\FIRSTMAP_OWNER.PLC_Impervious_2017_SP' dataviewer "Grant view privileges" "Do not change edit privileges"</Process>
</lineage>
<itemProps>
<itemName Sync="TRUE">PLC_Impervious_2017</itemName>
<imsContentType Sync="TRUE" export="False">002</imsContentType>
<nativeExtBox>
<westBL Sync="TRUE">-8437211.949751</westBL>
<eastBL Sync="TRUE">-8352685.949751</eastBL>
<southBL Sync="TRUE">4643238.866407</southBL>
<northBL Sync="TRUE">4842990.866407</northBL>
<exTypeCode Sync="TRUE">1</exTypeCode>
</nativeExtBox>
<itemLocation>
<linkage Sync="TRUE">file://\\Dtifs01\apd\Team GIS\FirstMap-2.0\Services\Production\Enterprise\PlanningCadastre\Impervious_LULC\Impervious_LULC.gdb</linkage>
<protocol Sync="TRUE">Local Area Network</protocol>
</itemLocation>
</itemProps>
<coordRef>
<type Sync="TRUE">Projected</type>
<geogcsn Sync="TRUE">GCS_WGS_1984</geogcsn>
<csUnits Sync="TRUE">Linear Unit: Meter (1.000000)</csUnits>
<projcsn Sync="TRUE">WGS_1984_Web_Mercator_Auxiliary_Sphere</projcsn>
<peXml Sync="TRUE">&lt;ProjectedCoordinateSystem xsi:type='typens:ProjectedCoordinateSystem' xmlns:xsi='http://www.w3.org/2001/XMLSchema-instance' xmlns:xs='http://www.w3.org/2001/XMLSchema' xmlns:typens='http://www.esri.com/schemas/ArcGIS/2.8.0'&gt;&lt;WKT&gt;PROJCS[&amp;quot;WGS_1984_Web_Mercator_Auxiliary_Sphere&amp;quot;,GEOGCS[&amp;quot;GCS_WGS_1984&amp;quot;,DATUM[&amp;quot;D_WGS_1984&amp;quot;,SPHEROID[&amp;quot;WGS_1984&amp;quot;,6378137.0,298.257223563]],PRIMEM[&amp;quot;Greenwich&amp;quot;,0.0],UNIT[&amp;quot;Degree&amp;quot;,0.0174532925199433]],PROJECTION[&amp;quot;Mercator_Auxiliary_Sphere&amp;quot;],PARAMETER[&amp;quot;False_Easting&amp;quot;,0.0],PARAMETER[&amp;quot;False_Northing&amp;quot;,0.0],PARAMETER[&amp;quot;Central_Meridian&amp;quot;,0.0],PARAMETER[&amp;quot;Standard_Parallel_1&amp;quot;,0.0],PARAMETER[&amp;quot;Auxiliary_Sphere_Type&amp;quot;,0.0],UNIT[&amp;quot;Meter&amp;quot;,1.0],AUTHORITY[&amp;quot;EPSG&amp;quot;,3857]]&lt;/WKT&gt;&lt;XOrigin&gt;-20037700&lt;/XOrigin&gt;&lt;YOrigin&gt;-30241100&lt;/YOrigin&gt;&lt;XYScale&gt;148923141.92838538&lt;/XYScale&gt;&lt;ZOrigin&gt;-100000&lt;/ZOrigin&gt;&lt;ZScale&gt;10000&lt;/ZScale&gt;&lt;MOrigin&gt;-100000&lt;/MOrigin&gt;&lt;MScale&gt;10000&lt;/MScale&gt;&lt;XYTolerance&gt;0.001&lt;/XYTolerance&gt;&lt;ZTolerance&gt;0.001&lt;/ZTolerance&gt;&lt;MTolerance&gt;0.001&lt;/MTolerance&gt;&lt;HighPrecision&gt;true&lt;/HighPrecision&gt;&lt;WKID&gt;102100&lt;/WKID&gt;&lt;LatestWKID&gt;3857&lt;/LatestWKID&gt;&lt;/ProjectedCoordinateSystem&gt;</peXml>
</coordRef>
</DataProperties>
<scaleRange>
<minScale>150000000</minScale>
<maxScale>5000</maxScale>
</scaleRange>
<ArcGISProfile>FGDC</ArcGISProfile>
<SyncDate>20210827</SyncDate>
<SyncTime>16090500</SyncTime>
<ModDate>20210907</ModDate>
<ModTime>15313200</ModTime>
</Esri>
<dataIdInfo>
<idPurp>Impervious Surface data layer for 2017 surface conditions. To identify impervious surfaces for the purpose of modeling such as stormwater, and atmospheric pollutant modeling. The dataset is suitable for many planning and modeling purposes.</idPurp>
<idAbs>&lt;DIV STYLE="text-align:Left;"&gt;&lt;DIV&gt;&lt;DIV&gt;&lt;P STYLE="margin:0 0 0 0;"&gt;&lt;SPAN&gt;The impervious surface data created by AIS for the 2017 Update was produced to the same level as the State’s previous datasets, per the project requirements. The 2017 Impervious Surface data layer was created using a combination of ArcGIS’ Image Classification and raster data editing toolsets. The State provided AIS with their 2017 state-wide, 4-band image (in SID format) which was clipped using the boundary of each production modules (45 in all). Each production module image was resampled to a resolution of one meter; then Arcmap’s Segment Mean Shift function was using to produce a segmented image. A training set was created for each production module segmented image and Arcmap’s Maximum Likelihood Classification tool was used to produce a classified image with three pixel values ( 1 = Impervious Surface, 2 = Pervious, and 3 = Shadow). Each classified image was further processed to add water pixels, derived from NHD waterbody polygons, and road pixels, based off of the State’s centerline data. Using Arcmap’s Reclass tool, each image had the Pervious class and Water class combined and the Impervious class and Road class combined. The shadow class processed by converting all shadow pixels to noData, then using the image processing tool Nibble, the noData values were converted to either Pervious or Impervious values. The classified images, now with two pixel values (value 3 was removed), were now ready for visual review and editing.&lt;/SPAN&gt;&lt;/P&gt;&lt;/DIV&gt;&lt;/DIV&gt;&lt;/DIV&gt;</idAbs>
<idCredit>Mapped by Aerial Information Systems, Inc. of Redlands, California for the Delaware Department of Transportation</idCredit>
<idCitation>
<resTitle>DE_Impervious_2017</resTitle>
<date>
<createDate>2020-07-01T00:00:00</createDate>
<pubDate>2021-08-27T00:00:00</pubDate>
</date>
<presForm>
<PresFormCd Sync="TRUE" value="011"/>
<fgdcGeoform>raster digital data</fgdcGeoform>
</presForm>
<citRespParty>
<editorSource>external</editorSource>
<editorDigest>8e4a45af632b3e3742aa56256e9eeef90f25884e</editorDigest>
<rpIndName>FirstMap</rpIndName>
<rpOrgName>Delaware Department of Technology and Information (DTI)</rpOrgName>
<rpCntInfo>
<cntAddress addressType="both">
<delPoint>801 Silver Lake Blvd</delPoint>
<city>Dover</city>
<adminArea>DE</adminArea>
<postCode>19904</postCode>
<country>US</country>
<eMailAdd>FirstMap@delaware.gov</eMailAdd>
</cntAddress>
<cntPhone>
<voiceNum tddtty="">302-739-9560</voiceNum>
</cntPhone>
</rpCntInfo>
<displayName>FirstMap</displayName>
<editorSave>True</editorSave>
<displayName>FirstMap</displayName>
<role>
<RoleCd value="001"/>
</role>
</citRespParty>
<citRespParty>
<rpIndName>Bruce Allen</rpIndName>
<rpOrgName>Delaware Department of Transportation</rpOrgName>
<rpPosName>Planning Supervisor</rpPosName>
<role>
<RoleCd value="006"/>
</role>
<rpCntInfo>
<cntAddress addressType="both">
<delPoint>800 Bay Road</delPoint>
<city>Dover</city>
<adminArea>DE</adminArea>
<postCode>19901</postCode>
<eMailAdd>Bruce.Allen@delaware.gov</eMailAdd>
<country>US</country>
</cntAddress>
<cntPhone>
<voiceNum tddtty="">302-760-2135</voiceNum>
</cntPhone>
</rpCntInfo>
</citRespParty>
</idCitation>
<searchKeys>
<keyword>United States of America (USA)</keyword>
<keyword>Mid Atlantic</keyword>
<keyword>Delaware (DE)</keyword>
<keyword>Kent County</keyword>
<keyword>New Castle County</keyword>
<keyword>Sussex County</keyword>
<keyword>Imagery</keyword>
<keyword>BaseMaps</keyword>
<keyword>EarthCover</keyword>
<keyword>Impervious Surface</keyword>
<keyword>LandUseLandCover</keyword>
<keyword>Structure</keyword>
</searchKeys>
<dataExt>
<geoEle>
<GeoBndBox esriExtentType="search">
<exTypeCode>1</exTypeCode>
<westBL Sync="TRUE">-75.792764</westBL>
<eastBL Sync="TRUE">-75.033455</eastBL>
<northBL Sync="TRUE">39.841877</northBL>
<southBL Sync="TRUE">38.450328</southBL>
</GeoBndBox>
</geoEle>
<exDesc>Imagery collection timeframe</exDesc>
<tempEle>
<TempExtent>
<exTemp>
<TM_Period>
<tmBegin>2017-03-01T00:00:00</tmBegin>
<tmEnd>2017-05-08T00:00:00</tmEnd>
</TM_Period>
</exTemp>
</TempExtent>
</tempEle>
</dataExt>
<envirDesc Sync="TRUE">Microsoft Windows 10 Version 10.0 (Build 19042) ; Esri ArcGIS 12.8.0.29751</envirDesc>
<dataLang>
<languageCode Sync="TRUE" value="eng"/>
<countryCode Sync="TRUE" value="USA"/>
</dataLang>
<spatRpType>
<SpatRepTypCd Sync="TRUE" value="002"/>
</spatRpType>
<themeKeys>
<thesaName>
<resTitle>ISO 19115 Topic Categories</resTitle>
</thesaName>
<keyword>Imagery, BaseMaps, Earth Cover, Impervious Surface, LandUseLandCover, Structure</keyword>
</themeKeys>
<placeKeys>
<thesaName>
<resTitle>Delaware Place Thesaurus</resTitle>
</thesaName>
<keyword>United States of America (USA), Mid Atlantic, Delaware (DE), Kent County, New Castle County, Sussex County</keyword>
</placeKeys>
<dataChar>
<CharSetCd value="004"/>
</dataChar>
<idStatus>
<ProgCd value="001"/>
</idStatus>
<idPoC>
<editorSource>external</editorSource>
<editorDigest>8e4a45af632b3e3742aa56256e9eeef90f25884e</editorDigest>
<rpIndName>FirstMap</rpIndName>
<rpOrgName>Delaware Department of Technology and Information (DTI)</rpOrgName>
<rpCntInfo>
<cntAddress addressType="both">
<delPoint>801 Silver Lake Blvd</delPoint>
<city>Dover</city>
<adminArea>DE</adminArea>
<postCode>19904</postCode>
<country>US</country>
<eMailAdd>FirstMap@delaware.gov</eMailAdd>
</cntAddress>
<cntPhone>
<voiceNum tddtty="">302-739-9560</voiceNum>
</cntPhone>
</rpCntInfo>
<displayName>FirstMap</displayName>
<editorSave>True</editorSave>
<displayName>FirstMap</displayName>
<role>
<RoleCd value="001"/>
</role>
</idPoC>
<idPoC>
<editorSource>external</editorSource>
<editorDigest>adf83241d11156544f77c4a9c0c05185b665de64</editorDigest>
<rpIndName>Bruce Allen</rpIndName>
<rpOrgName>Delaware Department of Transportation</rpOrgName>
<rpPosName>Planning Supervisor</rpPosName>
<rpCntInfo>
<cntAddress addressType="both">
<delPoint>800 Bay Road</delPoint>
<city>Dover</city>
<adminArea>DE</adminArea>
<postCode>19901</postCode>
<eMailAdd>Bruce.Allen@delaware.gov</eMailAdd>
<country>US</country>
</cntAddress>
<cntPhone>
<voiceNum tddtty="">302-760-2135</voiceNum>
</cntPhone>
</rpCntInfo>
<editorSave>True</editorSave>
<displayName>Bruce Allen</displayName>
<role>
<RoleCd value="006"/>
</role>
</idPoC>
<resMaint>
<maintFreq>
<MaintFreqCd value="009"/>
</maintFreq>
<maintCont>
<editorSource>external</editorSource>
<editorDigest>8e4a45af632b3e3742aa56256e9eeef90f25884e</editorDigest>
<rpIndName>FirstMap</rpIndName>
<rpOrgName>Delaware Department of Technology and Information (DTI)</rpOrgName>
<rpCntInfo>
<cntAddress addressType="both">
<delPoint>801 Silver Lake Blvd</delPoint>
<city>Dover</city>
<adminArea>DE</adminArea>
<postCode>19904</postCode>
<country>US</country>
<eMailAdd>FirstMap@delaware.gov</eMailAdd>
</cntAddress>
<cntPhone>
<voiceNum tddtty="">302-739-9560</voiceNum>
</cntPhone>
</rpCntInfo>
<displayName>FirstMap</displayName>
<editorSave>True</editorSave>
<displayName>FirstMap</displayName>
<role>
<RoleCd value="001"/>
</role>
</maintCont>
<maintCont>
<editorSource>external</editorSource>
<editorDigest>adf83241d11156544f77c4a9c0c05185b665de64</editorDigest>
<rpIndName>Bruce Allen</rpIndName>
<rpOrgName>Delaware Department of Transportation</rpOrgName>
<rpPosName>Planning Supervisor</rpPosName>
<rpCntInfo>
<cntAddress addressType="both">
<delPoint>800 Bay Road</delPoint>
<city>Dover</city>
<adminArea>DE</adminArea>
<postCode>19901</postCode>
<eMailAdd>Bruce.Allen@delaware.gov</eMailAdd>
<country>US</country>
</cntAddress>
<cntPhone>
<voiceNum tddtty="">302-760-2135</voiceNum>
</cntPhone>
</rpCntInfo>
<editorSave>True</editorSave>
<displayName>Bruce Allen</displayName>
<role>
<RoleCd value="006"/>
</role>
</maintCont>
</resMaint>
<resConst>
<Consts>
<useLimit>&lt;DIV STYLE="text-align:Left;"&gt;&lt;DIV&gt;&lt;DIV&gt;&lt;P&gt;&lt;SPAN&gt;The State of Delaware makes no warranty or representation, expressed or implied, with respect to the quality, content, accuracy, completeness, currency, or non-infringement of proprietary rights, of any of the GIS or other data or information, or any other materials and items, that are displayed or made available for download from this site. All such data, information, items and materials (collectively, the “FirstMap Data”) are provided "as is" and users are fully and solely responsible for any consequences of use. FirstMap Data may have been created from a variety of sources, including sources beyond the control of the State of Delaware, and are subject to change without notice. To the extent you use, apply, add to, modify or implement this information in your own information system or other setting, or otherwise for your own purposes, you do so at your own risk. In no event shall the State of Delaware or its agencies, officers, employees, agents, or representatives be liable for any damages of any kind or nature whatsoever including, but not limited to, direct, indirect, special, punitive, incidental, exemplary or consequential damages arising from your downloading, modifying, sharing, distributing, or using of FirstMap Data even if notified of the possibility of such damages. Further, the State of Delaware does not accept liability for any damages or misrepresentation caused by inaccuracies in the FirstMap Data or as a result of changes to the FirstMap Data, nor is there responsibility assumed to maintain the FirstMap Data in any manner or form.&lt;/SPAN&gt;&lt;/P&gt;&lt;/DIV&gt;&lt;/DIV&gt;&lt;DIV&gt;&lt;P&gt;&lt;SPAN /&gt;&lt;/P&gt;&lt;/DIV&gt;&lt;/DIV&gt;</useLimit>
</Consts>
</resConst>
<tpCat>
<TopicCatCd value="010"/>
</tpCat>
<tpCat>
<TopicCatCd value="015"/>
</tpCat>
<tpCat>
<TopicCatCd value="018"/>
</tpCat>
</dataIdInfo>
<mdHrLv>
<ScopeCd value="005"/>
</mdHrLv>
<mdDateSt Sync="TRUE">20210907</mdDateSt>
<mdLang>
<languageCode Sync="TRUE" value="eng"/>
<countryCode Sync="TRUE" value="USA"/>
</mdLang>
<distInfo>
<distFormat>
<formatName Sync="TRUE">File Geodatabase Raster Dataset</formatName>
</distFormat>
</distInfo>
<mdHrLvName Sync="TRUE">dataset</mdHrLvName>
<refSysInfo>
<RefSystem>
<refSysID>
<identCode Sync="TRUE" code="3857"/>
<idCodeSpace Sync="TRUE">EPSG</idCodeSpace>
<idVersion Sync="TRUE">6.18.3(9.3.1.2)</idVersion>
</refSysID>
</RefSystem>
</refSysInfo>
<spdoinfo>
<rastinfo>
<rasttype Sync="TRUE">Pixel</rasttype>
<rowcount Sync="TRUE">199752</rowcount>
<colcount Sync="TRUE">84526</colcount>
<rastxsz Sync="TRUE">1.000000</rastxsz>
<rastysz Sync="TRUE">1.000000</rastysz>
<rastbpp Sync="TRUE">8</rastbpp>
<vrtcount Sync="TRUE">1</vrtcount>
<rastorig Sync="TRUE">Upper Left</rastorig>
<rastcmap Sync="TRUE">FALSE</rastcmap>
<rastcomp Sync="TRUE">LZ77</rastcomp>
<rastband Sync="TRUE">1</rastband>
<rastdtyp Sync="TRUE">pixel codes</rastdtyp>
<rastifor Sync="TRUE">FGDBR</rastifor>
<rastplyr Sync="TRUE">TRUE</rastplyr>
</rastinfo>
</spdoinfo>
<spref>
<horizsys>
<planar>
<planci>
<plance Sync="TRUE">row and column</plance>
<coordrep>
<absres Sync="TRUE">1.000000</absres>
<ordres Sync="TRUE">1.000000</ordres>
</coordrep>
</planci>
</planar>
</horizsys>
</spref>
<eainfo>
<detailed Name="VAT_PLC_Impervious_2017">
<enttyp>
<enttypl Sync="TRUE">VAT_PLC_Impervious_2017</enttypl>
<enttypt Sync="TRUE">Table</enttypt>
<enttypc Sync="TRUE">2</enttypc>
<enttypd>Grid cell attributed with Impervious Surface code</enttypd>
<enttypds>Originator</enttypds>
</enttyp>
<attr>
<attrlabl Sync="TRUE">OBJECTID</attrlabl>
<attalias Sync="TRUE">OBJECTID</attalias>
<attrtype Sync="TRUE">OID</attrtype>
<attwidth Sync="TRUE">4</attwidth>
<atprecis Sync="TRUE">0</atprecis>
<attscale Sync="TRUE">0</attscale>
<attrdef Sync="TRUE">Internal feature number.</attrdef>
<attrdefs Sync="TRUE">Esri</attrdefs>
<attrdomv>
<udom Sync="TRUE">Sequential unique whole numbers that are automatically generated.</udom>
</attrdomv>
</attr>
<attr>
<attrlabl Sync="TRUE">Value</attrlabl>
<attalias Sync="TRUE">Value</attalias>
<attrtype Sync="TRUE">Integer</attrtype>
<attwidth Sync="TRUE">4</attwidth>
<atprecis Sync="TRUE">0</atprecis>
<attscale Sync="TRUE">0</attscale>
<attrdef>Pixel value. 1 = Pervious, 2 = Impervious</attrdef>
<attrdefs>Originator</attrdefs>
<attrdomv>
<udom>Static integer value</udom>
</attrdomv>
</attr>
<attr>
<attrlabl Sync="TRUE">Count</attrlabl>
<attalias Sync="TRUE">Count</attalias>
<attrtype Sync="TRUE">Double</attrtype>
<attwidth Sync="TRUE">8</attwidth>
<atprecis Sync="TRUE">0</atprecis>
<attscale Sync="TRUE">0</attscale>
<attrdef>Count of pixels</attrdef>
<attrdefs>Originator</attrdefs>
<attrdomv>
<udom>Calculated field</udom>
</attrdomv>
</attr>
</detailed>
</eainfo>
<mdChar>
<CharSetCd value="004"/>
</mdChar>
<mdContact>
<editorSource>external</editorSource>
<editorDigest>adf83241d11156544f77c4a9c0c05185b665de64</editorDigest>
<rpIndName>Bruce Allen</rpIndName>
<rpOrgName>Delaware Department of Transportation</rpOrgName>
<rpPosName>Planning Supervisor</rpPosName>
<rpCntInfo>
<cntAddress addressType="both">
<delPoint>800 Bay Road</delPoint>
<city>Dover</city>
<adminArea>DE</adminArea>
<postCode>19901</postCode>
<eMailAdd>Bruce.Allen@delaware.gov</eMailAdd>
<country>US</country>
</cntAddress>
<cntPhone>
<voiceNum tddtty="">302-760-2135</voiceNum>
</cntPhone>
</rpCntInfo>
<editorSave>True</editorSave>
<displayName>Bruce Allen</displayName>
<role>
<RoleCd value="006"/>
</role>
</mdContact>
<mdContact>
<editorSource>external</editorSource>
<editorDigest>8e4a45af632b3e3742aa56256e9eeef90f25884e</editorDigest>
<rpIndName>FirstMap</rpIndName>
<rpOrgName>Delaware Department of Technology and Information (DTI)</rpOrgName>
<rpCntInfo>
<cntAddress addressType="both">
<delPoint>801 Silver Lake Blvd</delPoint>
<city>Dover</city>
<adminArea>DE</adminArea>
