<?xml version="1.0" encoding="UTF-8" standalone="no"?>
<metadata xml:lang="en">
<Esri>
<CreaDate>20080519</CreaDate>
<CreaTime>13151000</CreaTime>
<SyncOnce>FALSE</SyncOnce>
<SyncDate>20210827</SyncDate>
<SyncTime>17113100</SyncTime>
<ModDate>20210907</ModDate>
<ModTime>15293300</ModTime>
<DataProperties>
<itemProps>
<itemName>OSPC_OWNER.Imp_Surface_Kent_2007</itemName>
<nativeExtBox>
<westBL>169667.500000</westBL>
<eastBL>208189.500000</eastBL>
<southBL>87397.500000</southBL>
<northBL>151225.500000</northBL>
<exTypeCode>1</exTypeCode>
</nativeExtBox>
<itemLocation>
<linkage>Server=sde; Service=sde:oracle$sde:oracle11g:egisprivp; User=ospc_owner; Version=SDE.DEFAULT</linkage>
<protocol>ArcSDE Connection</protocol>
</itemLocation>
<imsContentType export="False">002</imsContentType>
</itemProps>
<coordRef>
<type>Projected</type>
<geogcsn>GCS_North_American_1983</geogcsn>
<csUnits>Linear Unit: Meter (1.000000)</csUnits>
<projcsn>NAD_1983_StatePlane_Delaware_FIPS_0700</projcsn>
<peXml>&lt;ProjectedCoordinateSystem xsi:type='typens:ProjectedCoordinateSystem' xmlns:xsi='http://www.w3.org/2001/XMLSchema-instance' xmlns:xs='http://www.w3.org/2001/XMLSchema' xmlns:typens='http://www.esri.com/schemas/ArcGIS/10.1'&gt;&lt;WKT&gt;PROJCS[&amp;quot;NAD_1983_StatePlane_Delaware_FIPS_0700&amp;quot;,GEOGCS[&amp;quot;GCS_North_American_1983&amp;quot;,DATUM[&amp;quot;D_North_American_1983&amp;quot;,SPHEROID[&amp;quot;GRS_1980&amp;quot;,6378137.0,298.257222101]],PRIMEM[&amp;quot;Greenwich&amp;quot;,0.0],UNIT[&amp;quot;Degree&amp;quot;,0.0174532925199433]],PROJECTION[&amp;quot;Transverse_Mercator&amp;quot;],PARAMETER[&amp;quot;False_Easting&amp;quot;,200000.0],PARAMETER[&amp;quot;False_Northing&amp;quot;,0.0],PARAMETER[&amp;quot;Central_Meridian&amp;quot;,-75.41666666666667],PARAMETER[&amp;quot;Scale_Factor&amp;quot;,0.999995],PARAMETER[&amp;quot;Latitude_Of_Origin&amp;quot;,38.0],UNIT[&amp;quot;Meter&amp;quot;,1.0],AUTHORITY[&amp;quot;EPSG&amp;quot;,26957]]&lt;/WKT&gt;&lt;XOrigin&gt;-5423100&lt;/XOrigin&gt;&lt;YOrigin&gt;-14209500&lt;/YOrigin&gt;&lt;XYScale&gt;450267657.86718673&lt;/XYScale&gt;&lt;ZOrigin&gt;-100000&lt;/ZOrigin&gt;&lt;ZScale&gt;10000&lt;/ZScale&gt;&lt;MOrigin&gt;-100000&lt;/MOrigin&gt;&lt;MScale&gt;10000&lt;/MScale&gt;&lt;XYTolerance&gt;0.001&lt;/XYTolerance&gt;&lt;ZTolerance&gt;0.00020000000000000001&lt;/ZTolerance&gt;&lt;MTolerance&gt;0.00020000000000000001&lt;/MTolerance&gt;&lt;HighPrecision&gt;true&lt;/HighPrecision&gt;&lt;WKID&gt;26957&lt;/WKID&gt;&lt;LatestWKID&gt;26957&lt;/LatestWKID&gt;&lt;/ProjectedCoordinateSystem&gt;</peXml>
</coordRef>
<lineage>
<Process Date="20141029" Name="" Time="081003" ToolSource="c:\program files (x86)\arcgis\desktop10.2\ArcToolbox\Toolboxes\Data Management Tools.tbx\ChangePrivileges" export="">ChangePrivileges 'M:\Team GIS\eGIS\DataBaseConnections\Production\prod_EGISPRIVP_ospc_owner.sde\OSPC_OWNER.kent07_imperv';'M:\Team GIS\eGIS\DataBaseConnections\Production\prod_EGISPRIVP_ospc_owner.sde\OSPC_OWNER.ncco07_imperv';'M:\Team GIS\eGIS\DataBaseConnections\Production\prod_EGISPRIVP_ospc_owner.sde\OSPC_OWNER.sus07_wimperv';'M:\Team GIS\eGIS\DataBaseConnections\Production\prod_EGISPRIVP_ospc_owner.sde\OSPC_OWNER.sus07_eimperv' DATAVIEWER GRANT #</Process>
<Process Date="20141114" Name="" Time="134402" ToolSource="c:\program files (x86)\arcgis\desktop10.2\ArcToolbox\Toolboxes\Data Management Tools.tbx\ChangePrivileges" export="">ChangePrivileges 'M:\Team GIS\eGIS\DataBaseConnections\Production\prod_EGISPRIVP_ospc_owner.sde\OSPC_OWNER.Imp_Surface_Kent_2007';'M:\Team GIS\eGIS\DataBaseConnections\Production\prod_EGISPRIVP_ospc_owner.sde\OSPC_OWNER.Imp_Surface_NCCO_2007';'M:\Team GIS\eGIS\DataBaseConnections\Production\prod_EGISPRIVP_ospc_owner.sde\OSPC_OWNER.Imp_Surface_Sussex_East_2007';'M:\Team GIS\eGIS\DataBaseConnections\Production\prod_EGISPRIVP_ospc_owner.sde\OSPC_OWNER.Imp_Surface_Sussex_West_2007' DATAVIEWER GRANT #</Process>
<Process Date="20200910" Name="" Time="111653" ToolSource="c:\program files\arcgis\pro\Resources\ArcToolbox\toolboxes\Data Management Tools.tbx\CopyMultiple" export="">CopyMultiple "'\\Dtifs01\apd\Team GIS\FirstMap-2.0\Services\Test\Enterprise\PlanningCadastre\Impervious_LULC\FM2_test_FMENTERT_ospc_owner.sde\OSPC_OWNER_Imp_Surface_Kent_2007' RasterDataset;'\\Dtifs01\apd\Team GIS\FirstMap-2.0\Services\Test\Enterprise\PlanningCadastre\Impervious_LULC\FM2_test_FMENTERT_ospc_owner.sde\OSPC_OWNER_Imp_Surface_Kent_2012' RasterDataset;'\\Dtifs01\apd\Team GIS\FirstMap-2.0\Services\Test\Enterprise\PlanningCadastre\Impervious_LULC\FM2_test_FMENTERT_ospc_owner.sde\OSPC_OWNER_Imp_Surface_NCCO_2007' RasterDataset;'\\Dtifs01\apd\Team GIS\FirstMap-2.0\Services\Test\Enterprise\PlanningCadastre\Impervious_LULC\FM2_test_FMENTERT_ospc_owner.sde\OSPC_OWNER_Imp_Surface_NCCO_2012' RasterDataset;'\\Dtifs01\apd\Team GIS\FirstMap-2.0\Services\Test\Enterprise\PlanningCadastre\Impervious_LULC\FM2_test_FMENTERT_ospc_owner.sde\OSPC_OWNER_Imp_Surface_Sussex_East_2007' RasterDataset;'\\Dtifs01\apd\Team GIS\FirstMap-2.0\Services\Test\Enterprise\PlanningCadastre\Impervious_LULC\FM2_test_FMENTERT_ospc_owner.sde\OSPC_OWNER_Imp_Surface_Sussex_East_2012' RasterDataset;'\\Dtifs01\apd\Team GIS\FirstMap-2.0\Services\Test\Enterprise\PlanningCadastre\Impervious_LULC\FM2_test_FMENTERT_ospc_owner.sde\OSPC_OWNER_Imp_Surface_Sussex_West_2007' RasterDataset;'\\Dtifs01\apd\Team GIS\FirstMap-2.0\Services\Test\Enterprise\PlanningCadastre\Impervious_LULC\FM2_test_FMENTERT_ospc_owner.sde\OSPC_OWNER_Imp_Surface_Sussex_West_2012' RasterDataset" "\\Dtifs01\apd\Team GIS\FirstMap-2.0\Services\Test\Enterprise\PlanningCadastre\Impervious_LULC\Impervious_LULC.gdb" OSPC_OWNER_Imp_Surface_Kent_2007;OSPC_OWNER_Imp_Surface_Kent_2012;OSPC_OWNER_Imp_Surface_NCCO_2007;OSPC_OWNER_Imp_Surface_NCCO_2012;OSPC_OWNER_Imp_Surface_Sussex_East_2007;OSPC_OWNER_Imp_Surface_Sussex_East_2012;OSPC_OWNER_Imp_Surface_Sussex_West_2007;OSPC_OWNER_Imp_Surface_Sussex_West_2012 "OSPC_OWNER.OSPC_OWNER_Imp_Surface_Kent_2007 RasterDataset OSPC_OWNER_Imp_Surface_Kent_2007 #;OSPC_OWNER.OSPC_OWNER_Imp_Surface_Kent_2012 RasterDataset OSPC_OWNER_Imp_Surface_Kent_2012 #;OSPC_OWNER.OSPC_OWNER_Imp_Surface_NCCO_2007 RasterDataset OSPC_OWNER_Imp_Surface_NCCO_2007 #;OSPC_OWNER.OSPC_OWNER_Imp_Surface_NCCO_2012 RasterDataset OSPC_OWNER_Imp_Surface_NCCO_2012 #;OSPC_OWNER.OSPC_OWNER_Imp_Surface_Sussex_East_2007 RasterDataset OSPC_OWNER_Imp_Surface_Sussex_East_2007 #;OSPC_OWNER.OSPC_OWNER_Imp_Surface_Sussex_East_2012 RasterDataset OSPC_OWNER_Imp_Surface_Sussex_East_2012 #;OSPC_OWNER.OSPC_OWNER_Imp_Surface_Sussex_West_2007 RasterDataset OSPC_OWNER_Imp_Surface_Sussex_West_2007 #;OSPC_OWNER.OSPC_OWNER_Imp_Surface_Sussex_West_2012 RasterDataset OSPC_OWNER_Imp_Surface_Sussex_West_2012 #"</Process>
<Process Date="20210824" Name="" Time="153319" ToolSource="c:\program files\arcgis\pro\Resources\ArcToolbox\toolboxes\Data Management Tools.tbx\CopyMultiple" export="">CopyMultiple "'\\Dtifs01\apd\Team GIS\FirstMap-2.0\Services\Production\Enterprise\PlanningCadastre\Impervious_LULC\Impervious_LULC.gdb\OSPC_OWNER_Imp_Surface_Kent_2007' RasterDataset" "\\Dtifs01\apd\Team GIS\FirstMap-2.0\Services\Production\Enterprise\PlanningCadastre\Impervious_LULC\Impervious_LULC.gdb" OSPC_OWNER_Imp_Surface_Kent_2007_1 "OSPC_OWNER_Imp_Surface_Kent_2007 RasterDataset OSPC_OWNER_Imp_Surface_Kent_2007_1 #"</Process>
<Process Date="20210824" Name="" Time="154045" ToolSource="c:\program files\arcgis\pro\Resources\ArcToolbox\toolboxes\Data Management Tools.tbx\Mosaic" export="">Mosaic '\\Dtifs01\apd\Team GIS\FirstMap-2.0\Services\Production\Enterprise\PlanningCadastre\Impervious_LULC\Impervious_LULC.gdb\OSPC_OWNER_Imp_Surface_Sussex_West_2007_1' "\\Dtifs01\apd\Team GIS\FirstMap-2.0\Services\Production\Enterprise\PlanningCadastre\Impervious_LULC\Impervious_LULC.gdb\OSPC_OWNER_Imp_Surface_Kent_2007_1" Last First 0 0 NONE 0 None</Process>
<Process Date="20210824" Name="" Time="162558" ToolSource="c:\program files\arcgis\pro\Resources\ArcToolbox\toolboxes\Data Management Tools.tbx\Mosaic" export="">Mosaic Extract_Kent_2007_2 "\\Dtifs01\apd\Team GIS\FirstMap-2.0\Services\Production\Enterprise\PlanningCadastre\Impervious_LULC\Impervious_LULC.gdb\OSPC_OWNER_Imp_Surface_Kent_2007_1" Last First 0 0 NONE 0 None</Process>
<Process Date="20210824" Name="" Time="164500" ToolSource="c:\program files\arcgis\pro\Resources\ArcToolbox\toolboxes\Data Management Tools.tbx\Mosaic" export="">Mosaic OSPC_OWNER_Imp_Surface_Sussex_East_2007_1 "\\Dtifs01\apd\Team GIS\FirstMap-2.0\Services\Production\Enterprise\PlanningCadastre\Impervious_LULC\Impervious_LULC.gdb\OSPC_OWNER_Imp_Surface_Kent_2007_1" Last First 0 0 NONE 0 None</Process>
<Process Date="20210825" Name="" Time="093432" ToolSource="c:\program files\arcgis\pro\Resources\ArcToolbox\toolboxes\Data Management Tools.tbx\Mosaic" export="">Mosaic OSPC_OWNER_Imp_Surface_NCCO_2007_1 "\\Dtifs01\apd\Team GIS\FirstMap-2.0\Services\Production\Enterprise\PlanningCadastre\Impervious_LULC\Impervious_LULC.gdb\OSPC_OWNER_Imp_Surface_Kent_2007_1" Last First 0 0 NONE 0 None</Process>
<Process Date="20210825" Name="" Time="094521" ToolSource="c:\program files\arcgis\pro\Resources\ArcToolbox\toolboxes\Data Management Tools.tbx\Rename" export="">Rename "\\Dtifs01\apd\Team GIS\FirstMap-2.0\Services\Production\Enterprise\PlanningCadastre\Impervious_LULC\Impervious_LULC.gdb\OSPC_OWNER_Imp_Surface_Kent_2007_1" "\\Dtifs01\apd\Team GIS\FirstMap-2.0\Services\Production\Enterprise\PlanningCadastre\Impervious_LULC\Impervious_LULC.gdb\PLC_Impervious_2007_SP" RasterDataset</Process>
<Process Date="20210825" Name="" Time="094823" ToolSource="c:\program files\arcgis\pro\Resources\ArcToolbox\toolboxes\Data Management Tools.tbx\BuildPyramids" export="">BuildPyramids "\\Dtifs01\apd\Team GIS\FirstMap-2.0\Services\Production\Enterprise\PlanningCadastre\Impervious_LULC\Impervious_LULC.gdb\PLC_Impervious_2007_SP" -1 NONE Nearest DEFAULT 75 OVERWRITE</Process>
<Process Date="20210825" Name="" Time="094929" ToolSource="c:\program files\arcgis\pro\Resources\ArcToolbox\toolboxes\Data Management Tools.tbx\CalculateStatistics" export="">CalculateStatistics "\\Dtifs01\apd\Team GIS\FirstMap-2.0\Services\Production\Enterprise\PlanningCadastre\Impervious_LULC\Impervious_LULC.gdb\PLC_Impervious_2007_SP" 1 1 # OVERWRITE "Feature Set"</Process>
<Process Date="20210827" Name="" Time="171218" ToolSource="c:\program files\arcgis\pro\Resources\ArcToolbox\toolboxes\Data Management Tools.tbx\ProjectRaster" export="">ProjectRaster "2007 Impervious Surface" "\\Dtifs01\apd\Team GIS\FirstMap-2.0\Services\Production\Enterprise\PlanningCadastre\Impervious_LULC\Impervious_LULC.gdb\PLC_Impervious_2007" PROJCS["WGS_1984_Web_Mercator_Auxiliary_Sphere",GEOGCS["GCS_WGS_1984",DATUM["D_WGS_1984",SPHEROID["WGS_1984",6378137.0,298.257223563]],PRIMEM["Greenwich",0.0],UNIT["Degree",0.0174532925199433]],PROJECTION["Mercator_Auxiliary_Sphere"],PARAMETER["False_Easting",0.0],PARAMETER["False_Northing",0.0],PARAMETER["Central_Meridian",0.0],PARAMETER["Standard_Parallel_1",0.0],PARAMETER["Auxiliary_Sphere_Type",0.0],UNIT["Meter",1.0]] "Nearest neighbor" "1 1" WGS_1984_(ITRF00)_To_NAD_1983 # PROJCS["NAD_1983_StatePlane_Delaware_FIPS_0700",GEOGCS["GCS_North_American_1983",DATUM["D_North_American_1983",SPHEROID["GRS_1980",6378137.0,298.257222101]],PRIMEM["Greenwich",0.0],UNIT["Degree",0.0174532925199433]],PROJECTION["Transverse_Mercator"],PARAMETER["False_Easting",200000.0],PARAMETER["False_Northing",0.0],PARAMETER["Central_Meridian",-75.41666666666667],PARAMETER["Scale_Factor",0.999995],PARAMETER["Latitude_Of_Origin",38.0],UNIT["Meter",1.0]] NO_VERTICAL</Process>
<Process Date="20210901" Name="" Time="130828" ToolSource="c:\program files\arcgis\pro\Resources\ArcToolbox\toolboxes\Data Management Tools.tbx\CopyMultiple" export="">CopyMultiple "'\\Dtifs01\apd\Team GIS\FirstMap-2.0\Services\Production\Enterprise\PlanningCadastre\Impervious_LULC\Impervious_LULC.gdb\PLC_Impervious_2007' RasterDataset;'\\Dtifs01\apd\Team GIS\FirstMap-2.0\Services\Production\Enterprise\PlanningCadastre\Impervious_LULC\Impervious_LULC.gdb\PLC_Impervious_2012' RasterDataset;'\\Dtifs01\apd\Team GIS\FirstMap-2.0\Services\Production\Enterprise\PlanningCadastre\Impervious_LULC\Impervious_LULC.gdb\PLC_Impervious_2017' RasterDataset" "\\Dtifs01\apd\Team GIS\FirstMap-2.0\Services\Production\Enterprise\PlanningCadastre\Impervious_LULC\FM2_prod_FMENTERP_firstmap_owner.sde" PLC_Impervious_2007;PLC_Impervious_2012;PLC_Impervious_2017 "PLC_Impervious_2007 RasterDataset FIRSTMAP_OWNER.PLC_Impervious_2007 #;PLC_Impervious_2012 RasterDataset FIRSTMAP_OWNER.PLC_Impervious_2012 #;PLC_Impervious_2017 RasterDataset FIRSTMAP_OWNER.PLC_Impervious_2017 #"</Process>
<Process Date="20210908" Time="093617" ToolSource="c:\program files\arcgis\pro\Resources\ArcToolbox\toolboxes\Data Management Tools.tbx\ChangePrivileges">ChangePrivileges '\\Dtifs01\apd\Team GIS\FirstMap-2.0\Services\Production\Enterprise\PlanningCadastre\Impervious_LULC\FM2_prod_FMENTERP_firstmap_owner.sde\FIRSTMAP_OWNER.PLC_Impervious_2007';'\\Dtifs01\apd\Team GIS\FirstMap-2.0\Services\Production\Enterprise\PlanningCadastre\Impervious_LULC\FM2_prod_FMENTERP_firstmap_owner.sde\FIRSTMAP_OWNER.PLC_Impervious_2007_SP';'\\Dtifs01\apd\Team GIS\FirstMap-2.0\Services\Production\Enterprise\PlanningCadastre\Impervious_LULC\FM2_prod_FMENTERP_firstmap_owner.sde\FIRSTMAP_OWNER.PLC_Impervious_2012';'\\Dtifs01\apd\Team GIS\FirstMap-2.0\Services\Production\Enterprise\PlanningCadastre\Impervious_LULC\FM2_prod_FMENTERP_firstmap_owner.sde\FIRSTMAP_OWNER.PLC_Impervious_2012_SP';'\\Dtifs01\apd\Team GIS\FirstMap-2.0\Services\Production\Enterprise\PlanningCadastre\Impervious_LULC\FM2_prod_FMENTERP_firstmap_owner.sde\FIRSTMAP_OWNER.PLC_Impervious_2017';'\\Dtifs01\apd\Team GIS\FirstMap-2.0\Services\Production\Enterprise\PlanningCadastre\Impervious_LULC\FM2_prod_FMENTERP_firstmap_owner.sde\FIRSTMAP_OWNER.PLC_Impervious_2017_SP' dataviewer "Grant view privileges" "Do not change edit privileges"</Process>
</lineage>
</DataProperties>
<ArcGISFormat>1.0</ArcGISFormat>
<scaleRange>
<minScale>150000000</minScale>
<maxScale>5000</maxScale>
</scaleRange>
<ArcGISProfile>FGDC</ArcGISProfile>
</Esri>
<idinfo>
<native>Microsoft Windows XP Version 5.1 (Build 2600) Service Pack 2; ESRI ArcCatalog 9.2.4.1420</native>
<descript>
<langdata>en</langdata>
<abstract>This dataset identifies the impervious surfaces within Kent County, Delaware including, but not exclusively, paved roads, dirt roads, buildings, sidewalks. These data, in addition to being a stand-alone dataset, were produced to aid the Delaware 2007 LU/LC Update.</abstract>
<purpose>To identify impervious surfaces for the purpose of modeling such as stormwater, and atmospheric pollutant modeling. The goal of this dataset is to provide Kent County with an accurate representation of impervious surfaces in the county. The dataset is suitable for many planning and modeling purposes, but was designed for input to aid in the developement of the landuse classification layer.</purpose>
</descript>
<citation>
<citeinfo>
<origin>State of Delaware, Office of Management and Budget</origin>
<pubdate>05182008</pubdate>
<title>2007 Impervious Surface Data, Kent County, Delaware</title>
<ftname>kent07_imperv</ftname>
<onlink>http://stateplanning.delaware.gov/info/impervious/2007_impervious.shtml</onlink>
<geoform>raster digital data</geoform>
<pubinfo>
<publish>State of Delaware, Office of Management and Budget</publish>
<pubplace>Dover, Delaware</pubplace>
</pubinfo>
</citeinfo>
</citation>
<timeperd>
<current>ground condition</current>
<timeinfo>
<rngdates>
<begdate>03032007</begdate>
<enddate>03302007</enddate>
</rngdates>
</timeinfo>
</timeperd>
<status>
<progress>Complete</progress>
<update>As needed</update>
</status>
<spdom>
<bounding>
<westbc>-75.768620</westbc>
<eastbc>-75.321642</eastbc>
<northbc>39.362283</northbc>
<southbc>38.786819</southbc>
</bounding>
<lboundng>
<leftbc>169667.500000</leftbc>
<rightbc>208189.500000</rightbc>
<bottombc>87397.500000</bottombc>
<topbc>151225.500000</topbc>
</lboundng>
</spdom>
<keywords>
<theme>
<themekt>None</themekt>
<themekey>LandUseLandCover</themekey>
<themekey>Aerial photography</themekey>
<themekey>Impervious Surfaces</themekey>
<themekey>imageryBaseMapsEarthCover</themekey>
<themekey>transportation</themekey>
</theme>
<place>
<placekey>Kent County</placekey>
<placekey>Delaware</placekey>
<placekey>US</placekey>
<placekt>None</placekt>
</place>
</keywords>
<accconst>For planning purposes only</accconst>
<useconst>For planning purposes only</useconst>
<natvform>Raster Dataset</natvform>
<ptcontac>
<cntinfo>
<cntorgp>
<cntorg>State of Delaware, Office of Management and Budget</cntorg>
<cntper>Mike Mahaffie</cntper>
</cntorgp>
<cntpos>Principal Planner</cntpos>
<cntaddr>
<addrtype>mailing and physical address</addrtype>
<city>Dover</city>
<state>Delaware</state>
<postal>19901</postal>
<country>USA</country>
<address>Suite 302, Haslet Building, Third Floor</address>
<address>122 William Penn Street</address>
</cntaddr>
<cntvoice>302-739-3090</cntvoice>
<cntfax>302-739-6958</cntfax>
<cntemail>mike.mahaffie@state.de.us</cntemail>
</cntinfo>
</ptcontac>
</idinfo>
<metainfo>
<langmeta>en</langmeta>
<metstdn>FGDC Content Standards for Digital Geospatial Metadata</metstdn>
<metstdv>FGDC-STD-001-1998</metstdv>
<mettc>local time</mettc>
<metc>
<cntinfo>
<cntorgp>
<cntper>Mike Mahaffie</cntper>
<cntorg>State of Delaware, Office of Management and Budget</cntorg>
</cntorgp>
<cntaddr>
<addrtype>mailing and physical address</addrtype>
<city>Dover</city>
<state>Delaware</state>
<postal>19901</postal>
<country>USA</country>
<address>Suite 302, Haslet Building, Third Floor</address>
<address>122 William Penn Street</address>
</cntaddr>
<cntvoice>302-739-3090</cntvoice>
<cntpos>Principal Planner</cntpos>
<cntfax>302-739-6958</cntfax>
<cntemail>mike.mahaffie@state.de.us</cntemail>
</cntinfo>
</metc>
<metd>20080520</metd>
</metainfo>
<distinfo>
<resdesc>Downloadable Data</resdesc>
<stdorder>
<digform>
<digtinfo>
<transize>51.358</transize>
<dssize>51.358</dssize>
</digtinfo>
</digform>
</stdorder>
<distrib>
<cntinfo>
<cntorgp>
<cntorg>State of Delaware, Office of Management and Budget</cntorg>
<cntper>Mike Mahaffie</cntper>
</cntorgp>
<cntpos>Principal Planner</cntpos>
<cntaddr>
<addrtype>mailing and physical address</addrtype>
<city>Dover</city>
<state>Delaware</state>
<postal>19901</postal>
<country>USA</country>
<address>Suite 302, Haslet Building, Third Floor</address>
<address>122 William Penn Street</address>
</cntaddr>
<cntvoice>302-739-3090</cntvoice>
<cntfax>302-739-6958</cntfax>
<cntemail>mike.mahaffie@state.de.us</cntemail>
</cntinfo>
</distrib>
</distinfo>
<spdoinfo>
<direct>Raster</direct>
<rastinfo>
<rasttype>Pixel</rasttype>
<rowcount>63828</rowcount>
<colcount>38522</colcount>
<rastxsz>1.000000</rastxsz>
<rastysz>1.000000</rastysz>
<rastbpp>8</rastbpp>
<vrtcount>1</vrtcount>
<rastorig>Upper Left</rastorig>
<rastcmap>TRUE</rastcmap>
<rastcomp>LZ77</rastcomp>
<rastband>1</rastband>
<rastdtyp>pixel codes</rastdtyp>
<rastplyr>TRUE</rastplyr>
<rastxu>1 meter</rastxu>
<rastyu>1 meter</rastyu>
<rastityp>raster</rastityp>
<rastifor>SDR</rastifor>
</rastinfo>
</spdoinfo>
<spref>
<horizsys>
<cordsysn>
<geogcsn>GCS_North_American_1983</geogcsn>
<projcsn>NAD_1983_StatePlane_Delaware_FIPS_0700</projcsn>
</cordsysn>
<planar>
<planci>
<plance>row and column</plance>
<plandu>meters</plandu>
<coordrep>
<absres>1.000000</absres>
<ordres>1.000000</ordres>
</coordrep>
</planci>
</planar>
<geodetic>
<horizdn>North American Datum of 1983</horizdn>
<ellips>Geodetic Reference System 80</ellips>
<semiaxis>6378137.000000</semiaxis>
<denflat>298.257222</denflat>
</geodetic>
</horizsys>
</spref>
<eainfo>
<detailed Name="VAT_PLC_Impervious_2007">
<attr>
<attrlabl Sync="FALSE">OBJECTID</attrlabl>
<attalias Sync="TRUE">OBJECTID</attalias>
<attrtype Sync="TRUE">OID</attrtype>
<attwidth Sync="TRUE">4</attwidth>
<atprecis Sync="TRUE">0</atprecis>
<attscale Sync="TRUE">0</attscale>
<attrdef Sync="TRUE">Internal feature number.</attrdef>
<attrdefs Sync="TRUE">Esri</attrdefs>
<attrdomv>
<udom Sync="TRUE">Sequential unique whole numbers that are automatically generated.</udom>
</attrdomv>
</attr>
<enttyp>
<enttypt Sync="TRUE">Table</enttypt>
<enttypc Sync="TRUE">2</enttypc>
<enttypl Sync="TRUE">VAT_PLC_Impervious_2007</enttypl>
<enttypd>Table of values</enttypd>
<enttypds>Originator</enttypds>
</enttyp>
<attr>
<attrlabl Sync="TRUE">Value</attrlabl>
<attalias Sync="FALSE">Value</attalias>
<attrtype Sync="FALSE">Numeric</attrtype>
<attwidth Sync="FALSE">1</attwidth>
<atprecis Sync="TRUE">0</atprecis>
<attscale Sync="TRUE">0</attscale>
<attrdef Sync="FALSE">Impervious indicator. 1 = Pervious, 2 = Impervious</attrdef>
<attrdefs Sync="FALSE">Originator</attrdefs>
<attrdomv>
<udom Sync="TRUE">Integer value</udom>
</attrdomv>
</attr>
<attr>
<attrlabl Sync="FALSE">GREEN</attrlabl>
<attalias Sync="FALSE">GREEN</attalias>
<attrtype Sync="FALSE">Double</attrtype>
<attwidth Sync="FALSE">8</attwidth>
<atprecis Sync="FALSE">0</atprecis>
<attscale Sync="TRUE">0</attscale>
<attrdef Sync="FALSE">RGB - Green value.</attrdef>
<attrdefs Sync="FALSE">Originator</attrdefs>
<attrdomv>
<udom Sync="FALSE">Color value</udom>
</attrdomv>
</attr>
<attr>
<attrlabl Sync="TRUE">COUNT</attrlabl>
<attalias Sync="FALSE">COUNT</attalias>
<attrtype Sync="FALSE">Long</attrtype>
<attwidth Sync="FALSE">38</attwidth>
<atprecis Sync="TRUE">0</atprecis>
<attscale Sync="TRUE">0</attscale>
<attrdef>Count of features</attrdef>
<attrdefs>Originator</attrdefs>
<attrdomv>
<udom>Count of pixels</udom>
</attrdomv>
</attr>
<attr>
<attrlabl Sync="TRUE">CLASS_NAMES</attrlabl>
<attalias Sync="FALSE">Class Names</attalias>
<attrtype Sync="FALSE">Text</attrtype>
<attwidth Sync="FALSE">32</attwidth>
<atprecis Sync="FALSE">0</atprecis>
<attscale Sync="FALSE">0</attscale>
<attrdef>Description of Value. 1 = Pervious, 2 = Impervious.</attrdef>
<attrdefs>Originator</attrdefs>
<attrdomv>
<udom>Description of impervious type.</udom>
</attrdomv>
</attr>
<attr>
<attrlabl Sync="TRUE">RED</attrlabl>
<attalias Sync="FALSE">RED</attalias>
<attrtype Sync="TRUE">Double</attrtype>
<attwidth Sync="TRUE">8</attwidth>
<atprecis Sync="FALSE">0</atprecis>
<attscale Sync="FALSE">0</attscale>
<attrdef>RGB - Red value</attrdef>
<attrdefs>Originator</attrdefs>
<attrdomv>
<udom>Color value</udom>
</attrdomv>
</attr>
<attr>
<attrlabl Sync="TRUE">BLUE</attrlabl>
<attalias Sync="TRUE">BLUE</attalias>
<attrtype Sync="TRUE">Double</attrtype>
<attwidth Sync="TRUE">8</attwidth>
<atprecis Sync="TRUE">0</atprecis>
<attscale Sync="TRUE">0</attscale>
<attrdef>RGB - Blue value</attrdef>
<attrdefs>Originator</attrdefs>
<attrdomv>
<udom>Color value</udom>
</attrdomv>
</attr>
<attr>
<attrlabl Sync="TRUE">OPACITY</attrlabl>
<attalias Sync="TRUE">OPACITY</attalias>
<attrtype Sync="TRUE">Double</attrtype>
<attwidth Sync="TRUE">8</attwidth>
<atprecis Sync="TRUE">0</atprecis>
<attscale Sync="TRUE">0</attscale>
<attrdef>Opacity</attrdef>
<attrdefs>Originator</attrdefs>
<attrdomv>
<udom>Integer value</udom>
</attrdomv>
</attr>
</detailed>
</eainfo>
<dataqual>
<lineage>
<procstep>
<proccont>
<cntinfo>
<cntaddr>
<address>455 E. Eisenhower Pkwy.</address>
<addrtype>mailing and physical address</addrtype>
<address>Suite 240</address>
<city>Ann Arbor</city>
<state>MI</state>
<postal>48108</postal>
<country>US</country>
</cntaddr>
<cntorgp>
<cntorg>Sanborn</cntorg>
<cntper>Matt Vernier</cntper>
</cntorgp>
<cntpos>Senior Remote Sensing Analyst</cntpos>
