{ "currentVersion": 11.3, "serviceDescription": "
This digital product contains gridded estimates of water-table (wt) elevation under wet conditions for Delaware. This work is the final component of a larger effort to provide estimates of water-table elevations and depths to water for the Coastal Plain portion of Delaware. Mapping was supported by the Delaware Department of Natural Resources and Environmental Control and the Delaware Geological Survey. These grids were produced with the same multiple linear regression (MLR) method as Andres and Martin (2005). Briefly, this method consists of: identifying dry, normal, and wet periods from long-term observation well data (Nc45-01, Ng11-01, Qe44-01); estimating a minimum water table (Sepulveda, 2002) by fitting a localized polynomial surface to elevations of surface water features (e.g., streams, swamps, and marshes); and computing a second variable in the regression from water levels observed in wells. A separate MLR equation was determined for dry, normal, and wet periods, and these equations were used in ArcMap v.9 (ESRI, 2004) to estimate grids of water-table elevations and depths to water. The grids have 30-m horizontal and 1-ft vertical resolutions. In the accompanying digital data, grid world files and ground-water level observation data are in UTM-18N, 1983 projection in meters and elevations are in feet, NAVD 1988. Files are in ESRI, Inc., grid format. These data were combined from DGS Digital Data Products DP05-01, DP05-03, and DP05-04 Digital Water-Table Data for Sussex, Kent, and New Castle counties, Delaware, respectively. REFERENCES CITED Andres, A. S., and Martin, M. J., 2005, Estimation of the water-table surface for the Inland Bays watershed, Delaware: Delaware Geological Survey Report of Investigations No. 68, 20p. ESRI, 2004, ArcMap v. 9, Redlands, California. Sepulveda, N., 2003, A statistical estimator of the spatial distribution of the water-table altitude: Ground Water, vol. 41, p. 66-71.<\/SPAN><\/P><\/DIV><\/DIV>",
"name": "Geology/DGS_WaterTableElevation_Wet",
"description": " This digital product contains gridded estimates of water-table (wt) elevation under wet conditions for Delaware. This work is the final component of a larger effort to provide estimates of water-table elevations and depths to water for the Coastal Plain portion of Delaware. Mapping was supported by the Delaware Department of Natural Resources and Environmental Control and the Delaware Geological Survey. These grids were produced with the same multiple linear regression (MLR) method as Andres and Martin (2005). Briefly, this method consists of: identifying dry, normal, and wet periods from long-term observation well data (Nc45-01, Ng11-01, Qe44-01); estimating a minimum water table (Sepulveda, 2002) by fitting a localized polynomial surface to elevations of surface water features (e.g., streams, swamps, and marshes); and computing a second variable in the regression from water levels observed in wells. A separate MLR equation was determined for dry, normal, and wet periods, and these equations were used in ArcMap v.9 (ESRI, 2004) to estimate grids of water-table elevations and depths to water. The grids have 30-m horizontal and 1-ft vertical resolutions. In the accompanying digital data, grid world files and ground-water level observation data are in UTM-18N, 1983 projection in meters and elevations are in feet, NAVD 1988. Files are in ESRI, Inc., grid format. These data were combined from DGS Digital Data Products DP05-01, DP05-03, and DP05-04 Digital Water-Table Data for Sussex, Kent, and New Castle counties, Delaware, respectively. REFERENCES CITED Andres, A. S., and Martin, M. J., 2005, Estimation of the water-table surface for the Inland Bays watershed, Delaware: Delaware Geological Survey Report of Investigations No. 68, 20p. ESRI, 2004, ArcMap v. 9, Redlands, California. Sepulveda, N., 2003, A statistical estimator of the spatial distribution of the water-table altitude: Ground Water, vol. 41, p. 66-71.<\/span><\/p><\/div><\/div>",
"extent": {
"xmin": -8436795.4613,
"ymin": 4643360.8292,
"xmax": -8354385.4613,
"ymax": 4842650.8292,
"spatialReference": {
"wkid": 102100,
"latestWkid": 3857
}
},
"initialExtent": {
"xmin": -8436795.4613,
"ymin": 4643360.8292,
"xmax": -8354385.4613,
"ymax": 4842650.8292,
"spatialReference": {
"wkid": 102100,
"latestWkid": 3857
}
},
"fullExtent": {
"xmin": -8436795.4613,
"ymin": 4643360.8292,
"xmax": -8354385.4613,
"ymax": 4842650.8292,
"spatialReference": {
"wkid": 102100,
"latestWkid": 3857
}
},
"sortableFields": "",
"bandCount": 1,
"pixelType": "U8",
"minValues": [
0
],
"maxValues": [
210
],
"meanValues": [
31.687523233550422
],
"stdvValues": [
19.92031860317776
],
"hasMultidimensions": false,
"pixelSizeX": 30.000000000000338,
"pixelSizeY": 30,
"meanPixelSize": 30.00000000000017,
"datasetFormat": "FGDBR",
"uncompressedSize": 18248321,
"blockWidth": 128,
"blockHeight": 128,
"compressionType": "LZ77",
"bandNames": [
"Band_1"
],
"allowCopy": true,
"allowAnalysis": true,
"itemAccess": false,
"inspectionCapabilities": "",
"minPixelSize": 0,
"maxPixelSize": 0,
"copyrightText": "Matthew J. Martin and A. Scott Andres",
"serviceDataType": "esriImageServiceDataTypeGeneric",
"serviceSourceType": "esriImageServiceSourceTypeDataset",
"objectIdField": "",
"fields": [],
"capabilities": "Image,Metadata,Pixels,Mensuration",
"defaultMosaicMethod": "Center",
"allowedMosaicMethods": "",
"sortField": "",
"sortValue": null,
"sortAscending": true,
"mosaicOperator": "First",
"defaultCompressionQuality": 75,
"defaultResamplingMethod": "Bilinear",
"maxImageHeight": 4100,
"maxImageWidth": 15000,
"allowRasterFunction": true,
"rasterFunctionInfos": [
{
"name": "Water Table Elevation (meters)",
"description": "Use this raster function template to symbolize the water table elevation data in 10 meter increments.",
"help": "This template will change the symbology from black/white to 6 color classes in 10 meter increments."
},
{
"name": "None",
"description": "Make a Raster or Raster Dataset into a Function Raster Dataset.",
"help": ""
}
],
"rasterTypeInfos": [
{
"name": "Raster Dataset",
"description": "Supports all ArcGIS Raster Datasets",
"help": ""
}
],
"mensurationCapabilities": "Basic",
"hasHistograms": true,
"hasColormap": false,
"hasRasterAttributeTable": false,
"minScale": 0,
"maxScale": 0,
"exportTilesAllowed": false,
"supportsStatistics": false,
"supportsAdvancedQueries": false,
"editFieldsInfo": null,
"ownershipBasedAccessControlForRasters": null,
"allowComputeTiePoints": false,
"useStandardizedQueries": true,
"advancedQueryCapabilities": {
"useStandardizedQueries": true,
"supportsStatistics": false,
"supportsOrderBy": false,
"supportsDistinct": false,
"supportsPagination": false
},
"spatialReference": {
"wkid": 102100,
"latestWkid": 3857
}
}