<?xml version="1.0" encoding="UTF-8" standalone="no"?>
<metadata xml:lang="en">
<Esri>
<CreaDate>20150922</CreaDate>
<CreaTime>10324500</CreaTime>
<ArcGISFormat>1.0</ArcGISFormat>
<ArcGISstyle>ISO 19139 Metadata Implementation Specification</ArcGISstyle>
<SyncOnce>FALSE</SyncOnce>
<DataProperties>
<itemProps>
<imsContentType Sync="TRUE">002</imsContentType>
<itemName Sync="TRUE">GEO_suss_thick</itemName>
<nativeExtBox>
<westBL Sync="TRUE">-8429419.127300</westBL>
<eastBL Sync="TRUE">-8354389.127300</eastBL>
<southBL Sync="TRUE">4643339.329600</southBL>
<northBL Sync="TRUE">4716209.329600</northBL>
<exTypeCode Sync="TRUE">1</exTypeCode>
</nativeExtBox>
<itemLocation>
<linkage Sync="TRUE">file://\\DTIFS01\users\Kim.Cloud\My Documents\ArcGIS\Depth_to_Water\p20\fm2_test_fmentert_firstmap_viewer.gdb</linkage>
<protocol Sync="TRUE">Local Area Network</protocol>
</itemLocation>
</itemProps>
<coordRef>
<type Sync="TRUE">Projected</type>
<geogcsn Sync="TRUE">GCS_WGS_1984</geogcsn>
<csUnits Sync="TRUE">Linear Unit: Meter (1.000000)</csUnits>
<projcsn Sync="TRUE">WGS_1984_Web_Mercator_Auxiliary_Sphere</projcsn>
<peXml Sync="TRUE">&lt;ProjectedCoordinateSystem xsi:type='typens:ProjectedCoordinateSystem' xmlns:xsi='http://www.w3.org/2001/XMLSchema-instance' xmlns:xs='http://www.w3.org/2001/XMLSchema' xmlns:typens='http://www.esri.com/schemas/ArcGIS/2.7.0'&gt;&lt;WKT&gt;PROJCS[&amp;quot;WGS_1984_Web_Mercator_Auxiliary_Sphere&amp;quot;,GEOGCS[&amp;quot;GCS_WGS_1984&amp;quot;,DATUM[&amp;quot;D_WGS_1984&amp;quot;,SPHEROID[&amp;quot;WGS_1984&amp;quot;,6378137.0,298.257223563]],PRIMEM[&amp;quot;Greenwich&amp;quot;,0.0],UNIT[&amp;quot;Degree&amp;quot;,0.0174532925199433]],PROJECTION[&amp;quot;Mercator_Auxiliary_Sphere&amp;quot;],PARAMETER[&amp;quot;False_Easting&amp;quot;,0.0],PARAMETER[&amp;quot;False_Northing&amp;quot;,0.0],PARAMETER[&amp;quot;Central_Meridian&amp;quot;,0.0],PARAMETER[&amp;quot;Standard_Parallel_1&amp;quot;,0.0],PARAMETER[&amp;quot;Auxiliary_Sphere_Type&amp;quot;,0.0],UNIT[&amp;quot;Meter&amp;quot;,1.0],AUTHORITY[&amp;quot;EPSG&amp;quot;,3857]]&lt;/WKT&gt;&lt;XOrigin&gt;-20037700&lt;/XOrigin&gt;&lt;YOrigin&gt;-30241100&lt;/YOrigin&gt;&lt;XYScale&gt;148923141.92838538&lt;/XYScale&gt;&lt;ZOrigin&gt;-100000&lt;/ZOrigin&gt;&lt;ZScale&gt;10000&lt;/ZScale&gt;&lt;MOrigin&gt;-100000&lt;/MOrigin&gt;&lt;MScale&gt;10000&lt;/MScale&gt;&lt;XYTolerance&gt;0.001&lt;/XYTolerance&gt;&lt;ZTolerance&gt;0.001&lt;/ZTolerance&gt;&lt;MTolerance&gt;0.001&lt;/MTolerance&gt;&lt;HighPrecision&gt;true&lt;/HighPrecision&gt;&lt;WKID&gt;102100&lt;/WKID&gt;&lt;LatestWKID&gt;3857&lt;/LatestWKID&gt;&lt;/ProjectedCoordinateSystem&gt;</peXml>
</coordRef>
<lineage>
<Process Date="20220616" Time="162610" ToolSource="c:\program files\arcgis\pro\Resources\ArcToolbox\Toolboxes\Data Management Tools.tbx\Rename">Rename \\Dtifs01\apd\GIS\current\DepthToWater.gdb\GEO_suss_thick \\Dtifs01\apd\GIS\current\DepthToWater.gdb\GEO_SUSS_THICKuss_thick RasterDataset</Process>
<Process Date="20220616" Time="162625" ToolSource="c:\program files\arcgis\pro\Resources\ArcToolbox\Toolboxes\Data Management Tools.tbx\Rename">Rename \\Dtifs01\apd\GIS\current\DepthToWater.gdb\GEO_SUSS_THICKuss_thick \\Dtifs01\apd\GIS\current\DepthToWater.gdb\GEO_SUSS_THICK RasterDataset</Process>
</lineage>
</DataProperties>
<SyncDate>20210225</SyncDate>
<SyncTime>15334900</SyncTime>
<ModDate>20210225</ModDate>
<ModTime>15334900</ModTime>
<scaleRange>
<minScale>150000000</minScale>
<maxScale>5000</maxScale>
</scaleRange>
<ArcGISProfile>ISO19139</ArcGISProfile>
</Esri>
<mdLang>
<languageCode value="eng"/>
<countryCode Sync="TRUE" value="USA"/>
</mdLang>
<mdChar>
<CharSetCd value="004"/>
</mdChar>
<mdHrLv>
<ScopeCd value="005"/>
</mdHrLv>
<mdContact>
<rpOrgName>Delaware Geological Survey</rpOrgName>
<rpCntInfo>
<cntPhone>
<voiceNum>(302)-831-2833</voiceNum>
</cntPhone>
<cntAddress addressType="postal">
<delPoint>University of Delaware Delaware Geological Survey Building</delPoint>
<city>Newark</city>
<adminArea>DE</adminArea>
<postCode>19716</postCode>
</cntAddress>
</rpCntInfo>
<role>
<RoleCd value="007"/>
</role>
</mdContact>
<mdStanName>ArcGIS Metadata</mdStanName>
<mdStanVer>1.0</mdStanVer>
<distInfo>
<distributor>
<distorCont>
<rpCntInfo>
<cntPhone>
<voiceNum>(302)-831-2833</voiceNum>
</cntPhone>
<cntAddress addressType="postal">
<delPoint>University of Delaware Delaware Geological Survey Building</delPoint>
<city>Newark</city>
<adminArea>DE</adminArea>
<postCode>19716</postCode>
</cntAddress>
</rpCntInfo>
<role>
<RoleCd value="005"/>
</role>
</distorCont>
</distributor>
<distTranOps>
<onLineSrc>
<linkage>http://www.udel.edu/dgs</linkage>
</onLineSrc>
</distTranOps>
<distFormat>
<formatName Sync="TRUE">File Geodatabase Raster Dataset</formatName>
</distFormat>
</distInfo>
<dataIdInfo>
<idCitation>
<resTitle Sync="FALSE">DGS_UnconfinedAquifer_Thick</resTitle>
<date>
<pubDate>2006-01-01</pubDate>
</date>
<citRespParty>
<rpOrgName>Klingbeil, A. D., and Andres, A. S.</rpOrgName>
<role>
<RoleCd value="006"/>
</role>
</citRespParty>
<citRespParty>
<rpOrgName>Delaware Geological Survey</rpOrgName>
<role>
<RoleCd value="010"/>
</role>
</citRespParty>
<presForm>
<PresFormCd value="005"/>
</presForm>
<presForm>
<fgdcGeoform>raster digital data</fgdcGeoform>
</presForm>
</idCitation>
<idAbs>&lt;div style='text-align:Left;'&gt;&lt;div&gt;&lt;div&gt;&lt;p&gt;&lt;span&gt;This digital product contains gridded estimates of the thickness of the unconfined portion of the Columbia aquifer for Sussex County, Delaware. Mapping was supported by the Delaware Department of Natural Resources and Environmental Control and the Delaware Geological Survey. These grids were produced with the methods described in Andres and Klingbeil (2006). Additional analyses of the hydrogeologic framework and grids are also contained in that report. Briefly, the method to determine the thickness of the aquifer includes assessing the thickness of subsurface materials in descriptive and geophysical logs and using computer-based interpolation to estimate thickness across the study area. Separate grids were determined for eastern and western Sussex County and were merged and smoothed to minimize edge effects. The Thickness grids has 30-m horizontal and 1-ft vertical resolutions. REFERENCES CITED Andres, A. S., and Klingbeil, A. D., 2006, Thickness and transmissivity of the unconfined aquifer, eastern Sussex County, Delaware: Delaware Geological Survey Report of Investigations No. 70, 19 p., 1 plate.&lt;/span&gt;&lt;/p&gt;&lt;/div&gt;&lt;/div&gt;&lt;/div&gt;</idAbs>
<idPurp/>
<idStatus>
<ProgCd value="001"/>
</idStatus>
<idPoC>
<rpCntInfo>
<cntPhone>
<voiceNum>(302)-831-2833</voiceNum>
</cntPhone>
<cntAddress addressType="postal">
<delPoint>University of Delaware Delaware Geological Survey Building</delPoint>
<city>Newark</city>
<adminArea>DE</adminArea>
<postCode>19716</postCode>
</cntAddress>
<cntHours>Mon - Fri; 8:00am to 4:30pm</cntHours>
</rpCntInfo>
<role>
<RoleCd value="007"/>
</role>
</idPoC>
<resMaint>
<maintFreq>
<MaintFreqCd value="009"/>
</maintFreq>
</resMaint>
<placeKeys>
<keyword>Delaware Sussex County Bethany Beach Bethel Blades Bridgeville Dagsboro Delmar Ellendale Fenwick Island Frankford Georgetown Greenwood Henlopen Acres Laurel Lewes Milford Millsboro Millville Milton Ocean View Rehoboth Beach Seaford Selbyville Slaughter Beach South Bethany</keyword>
</placeKeys>
<themeKeys>
<keyword>transmissivity</keyword>
<keyword>geoscientificInformation</keyword>
<keyword>water table</keyword>
<keyword>ground water</keyword>
<keyword>aquifer</keyword>
</themeKeys>
<searchKeys>
<keyword>DGS_UnconfinedAquifer_Thick</keyword>
<keyword>ImageServer</keyword>
</searchKeys>
<resConst>
<Consts>
<useLimit/>
</Consts>
</resConst>
<dataLang>
<languageCode value="eng"/>
<countryCode Sync="TRUE" value="USA"/>
</dataLang>
<dataExt>
<exDesc>publication date</exDesc>
<tempEle>
<TempExtent>
<exTemp>
<TM_Instant>
<tmPosition>2006-01-01</tmPosition>
</TM_Instant>
</exTemp>
</TempExtent>
</tempEle>
</dataExt>
<envirDesc Sync="TRUE">Microsoft Windows 8 Version 6.2 (Build 9200) ; Esri ArcGIS 12.7.0.26828</envirDesc>
<spatRpType>
<SpatRepTypCd Sync="TRUE" value="002"/>
</spatRpType>
<dataExt>
<geoEle>
<GeoBndBox esriExtentType="search">
<exTypeCode Sync="TRUE">1</exTypeCode>
<westBL Sync="TRUE">-75.722760</westBL>
<eastBL Sync="TRUE">-75.048754</eastBL>
<northBL Sync="TRUE">38.961857</northBL>
<southBL Sync="TRUE">38.451035</southBL>
</GeoBndBox>
</geoEle>
</dataExt>
<tpCat>
<TopicCatCd value="008"/>
</tpCat>
<idCredit/>
</dataIdInfo>
<dqInfo>
<dqScope>
<scpLvl>
<ScopeCd value="005"/>
</scpLvl>
</dqScope>
<report dimension="horizontal" type="DQAbsExtPosAcc">
<evalMethDesc>30-meter resolution based on the grid cell.</evalMethDesc>
</report>
<report dimension="vertical" type="DQAbsExtPosAcc">
<evalMethDesc>The raster cell represents thickness of the unconfined aquifer in feet.</evalMethDesc>
<measResult>
<QuanResult>
<quanVal>+/- 5 feet</quanVal>
</QuanResult>
</measResult>
</report>
</dqInfo>
<eainfo>
<detailed Name="VAT_suss_thick1">
<enttyp>
<enttypl Sync="TRUE">VAT_suss_thick1</enttypl>
<enttypt Sync="TRUE">Table</enttypt>
<enttypc Sync="TRUE">242</enttypc>
<enttypd>Thickness of unconfined aquifer in feet</enttypd>
</enttyp>
<attr>
<attrlabl Sync="TRUE">ObjectID</attrlabl>
<attalias Sync="TRUE">OBJECTID</attalias>
<attrtype Sync="TRUE">OID</attrtype>
<attwidth Sync="TRUE">4</attwidth>
<atprecis Sync="TRUE">0</atprecis>
<attscale Sync="TRUE">0</attscale>
<attrdef>Internal feature number.</attrdef>
<attrdefs Sync="TRUE">ESRI</attrdefs>
<attrdomv>
<udom Sync="TRUE">Sequential unique whole numbers that are automatically generated.</udom>
</attrdomv>
</attr>
<attr>
<attrlabl Sync="TRUE">Value</attrlabl>
<attalias Sync="TRUE">Value</attalias>
<attrtype Sync="TRUE">Integer</attrtype>
<attwidth Sync="TRUE">4</attwidth>
<atprecis Sync="TRUE">0</atprecis>
<attscale Sync="TRUE">0</attscale>
<attrdef>Thickness in feet</attrdef>
<attrvai>
<attrva>+/- 5 feet</attrva>
</attrvai>
</attr>
<attr>
<attrlabl Sync="TRUE">Count</attrlabl>
<attalias Sync="TRUE">Count</attalias>
<attrtype Sync="TRUE">Double</attrtype>
<attwidth Sync="TRUE">8</attwidth>
<atprecis Sync="TRUE">0</atprecis>
<attscale Sync="TRUE">0</attscale>
<attrdef>Number of raster cells</attrdef>
</attr>
</detailed>
</eainfo>
<mdHrLvName Sync="TRUE">dataset</mdHrLvName>
<refSysInfo>
<RefSystem>
<refSysID>
<identCode Sync="TRUE" code="3857"/>
<idCodeSpace Sync="TRUE">EPSG</idCodeSpace>
<idVersion Sync="TRUE">6.18.3(9.3.1.2)</idVersion>
</refSysID>
</RefSystem>
</refSysInfo>
<spdoinfo>
<rastinfo>
<rasttype Sync="TRUE">Pixel</rasttype>
<rowcount Sync="TRUE">2429</rowcount>
<colcount Sync="TRUE">2501</colcount>
<rastxsz Sync="TRUE">30.000000</rastxsz>
<rastysz Sync="TRUE">30.000000</rastysz>
<rastbpp Sync="TRUE">32</rastbpp>
<vrtcount Sync="TRUE">1</vrtcount>
<rastorig Sync="TRUE">Upper Left</rastorig>
<rastcmap Sync="TRUE">FALSE</rastcmap>
<rastcomp Sync="TRUE">LZ77</rastcomp>
<rastband Sync="TRUE">1</rastband>
<rastdtyp Sync="TRUE">pixel codes</rastdtyp>
<rastifor Sync="TRUE">FGDBR</rastifor>
<rastplyr Sync="TRUE">TRUE</rastplyr>
</rastinfo>
</spdoinfo>
<spref>
<horizsys>
<planar>
<planci>
<plance Sync="TRUE">row and column</plance>
<coordrep>
<absres Sync="TRUE">30.000000</absres>
<ordres Sync="TRUE">30.000000</ordres>
</coordrep>
</planci>
</planar>
</horizsys>
</spref>
<mdDateSt Sync="TRUE">20210225</mdDateSt>
</metadata>
