<?xml version="1.0" encoding="UTF-8" standalone="no"?>
<metadata xml:lang="en">
<Esri>
<CreaDate>20260410</CreaDate>
<CreaTime>20584600</CreaTime>
<ArcGISFormat>1.0</ArcGISFormat>
<SyncOnce>FALSE</SyncOnce>
<DataProperties>
<itemProps>
<itemName Sync="TRUE">GEO_DTW_WET_new</itemName>
<imsContentType Sync="TRUE">002</imsContentType>
<nativeExtBox>
<westBL Sync="TRUE">-8437212.396035</westBL>
<eastBL Sync="TRUE">-8354292.396035</eastBL>
<southBL Sync="TRUE">4642980.057551</southBL>
<northBL Sync="TRUE">4843020.057551</northBL>
<exTypeCode Sync="TRUE">1</exTypeCode>
</nativeExtBox>
<itemLocation>
<linkage Sync="TRUE">file://\\Dtifs01\apd\GIS\current\DepthToWater.gdb</linkage>
<protocol Sync="TRUE">Local Area Network</protocol>
</itemLocation>
</itemProps>
<coordRef>
<type Sync="TRUE">Projected</type>
<geogcsn Sync="TRUE">GCS_WGS_1984</geogcsn>
<csUnits Sync="TRUE">Linear Unit: Meter (1.000000)</csUnits>
<projcsn Sync="TRUE">WGS_1984_Web_Mercator_Auxiliary_Sphere</projcsn>
<peXml Sync="TRUE">&lt;ProjectedCoordinateSystem xsi:type='typens:ProjectedCoordinateSystem' xmlns:xsi='http://www.w3.org/2001/XMLSchema-instance' xmlns:xs='http://www.w3.org/2001/XMLSchema' xmlns:typens='http://www.esri.com/schemas/ArcGIS/3.3.0'&gt;&lt;WKT&gt;PROJCS[&amp;quot;WGS_1984_Web_Mercator_Auxiliary_Sphere&amp;quot;,GEOGCS[&amp;quot;GCS_WGS_1984&amp;quot;,DATUM[&amp;quot;D_WGS_1984&amp;quot;,SPHEROID[&amp;quot;WGS_1984&amp;quot;,6378137.0,298.257223563]],PRIMEM[&amp;quot;Greenwich&amp;quot;,0.0],UNIT[&amp;quot;Degree&amp;quot;,0.0174532925199433]],PROJECTION[&amp;quot;Mercator_Auxiliary_Sphere&amp;quot;],PARAMETER[&amp;quot;False_Easting&amp;quot;,0.0],PARAMETER[&amp;quot;False_Northing&amp;quot;,0.0],PARAMETER[&amp;quot;Central_Meridian&amp;quot;,0.0],PARAMETER[&amp;quot;Standard_Parallel_1&amp;quot;,0.0],PARAMETER[&amp;quot;Auxiliary_Sphere_Type&amp;quot;,0.0],UNIT[&amp;quot;Meter&amp;quot;,1.0],AUTHORITY[&amp;quot;EPSG&amp;quot;,3857]]&lt;/WKT&gt;&lt;XOrigin&gt;-20037700&lt;/XOrigin&gt;&lt;YOrigin&gt;-30241100&lt;/YOrigin&gt;&lt;XYScale&gt;148923141.92838538&lt;/XYScale&gt;&lt;ZOrigin&gt;-100000&lt;/ZOrigin&gt;&lt;ZScale&gt;10000&lt;/ZScale&gt;&lt;MOrigin&gt;-100000&lt;/MOrigin&gt;&lt;MScale&gt;10000&lt;/MScale&gt;&lt;XYTolerance&gt;0.001&lt;/XYTolerance&gt;&lt;ZTolerance&gt;0.001&lt;/ZTolerance&gt;&lt;MTolerance&gt;0.001&lt;/MTolerance&gt;&lt;HighPrecision&gt;true&lt;/HighPrecision&gt;&lt;WKID&gt;102100&lt;/WKID&gt;&lt;LatestWKID&gt;3857&lt;/LatestWKID&gt;&lt;/ProjectedCoordinateSystem&gt;</peXml>
</coordRef>
<lineage>
<Process Date="20260413" Time="102608" ToolSource="c:\program files\arcgis\pro\Resources\ArcToolbox\toolboxes\Data Management Tools.tbx\ProjectRaster">ProjectRaster dtw_wet \\Dtifs01\apd\GIS\current\DepthToWater.gdb\GEO_DTW_WET_new PROJCS["WGS_1984_Web_Mercator_Auxiliary_Sphere",GEOGCS["GCS_WGS_1984",DATUM["D_WGS_1984",SPHEROID["WGS_1984",6378137.0,298.257223563]],PRIMEM["Greenwich",0.0],UNIT["Degree",0.0174532925199433]],PROJECTION["Mercator_Auxiliary_Sphere"],PARAMETER["False_Easting",0.0],PARAMETER["False_Northing",0.0],PARAMETER["Central_Meridian",0.0],PARAMETER["Standard_Parallel_1",0.0],PARAMETER["Auxiliary_Sphere_Type",0.0],UNIT["Meter",1.0]] "Nearest neighbor" "30 30" WGS_1984_(ITRF00)_To_NAD_1983 # PROJCS["NAD_1983_UTM_Zone_18N",GEOGCS["GCS_North_American_1983",DATUM["D_North_American_1983",SPHEROID["GRS_1980",6378137.0,298.257222101]],PRIMEM["Greenwich",0.0],UNIT["Degree",0.0174532925199433]],PROJECTION["Transverse_Mercator"],PARAMETER["False_Easting",500000.0],PARAMETER["False_Northing",0.0],PARAMETER["Central_Meridian",-75.0],PARAMETER["Scale_Factor",0.9996],PARAMETER["Latitude_Of_Origin",0.0],UNIT["Meter",1.0]] NO_VERTICAL</Process>
<Process Date="20260413" Time="114526" ToolSource="c:\program files\arcgis\pro\Resources\ArcToolbox\toolboxes\Data Management Tools.tbx\Rename">Rename \\Dtifs01\apd\GIS\current\DepthToWater.gdb\GEO_DTW_WET_new \\Dtifs01\apd\GIS\current\DepthToWater.gdb\GEO_DTW_WET RasterDataset</Process>
</lineage>
</DataProperties>
<SyncDate>20260413</SyncDate>
<SyncTime>10260700</SyncTime>
<ModDate>20260413</ModDate>
<ModTime>10260700</ModTime>
</Esri>
<mdChar>
<CharSetCd value="004"/>
</mdChar>
<mdHrLv>
<ScopeCd value="005"/>
</mdHrLv>
<mdContact>
<rpOrgName>Delaware Geological Survey</rpOrgName>
<rpCntInfo>
<cntPhone>
<voiceNum>(302)-831-2833</voiceNum>
<faxNum>302-831-3579</faxNum>
</cntPhone>
<cntAddress addressType="both">
<delPoint>University of Delaware,
Delaware Geological Survey Bldg</delPoint>
<city>Newark</city>
<adminArea>DE</adminArea>
<postCode>19716</postCode>
<country>US</country>
<eMailAdd>delgeosurvey@udel.edu</eMailAdd>
</cntAddress>
</rpCntInfo>
<role>
<RoleCd value="007"/>
</role>
</mdContact>
<mdDateSt>20250729</mdDateSt>
<mdStanName>ArcGIS Metadata</mdStanName>
<mdStanVer>1.0</mdStanVer>
<distInfo>
<distributor>
<distorCont>
<rpOrgName>Delaware Geological Survey</rpOrgName>
<rpCntInfo>
<cntPhone>
<voiceNum>(302)-831-2833</voiceNum>
<faxNum>302-831-3579</faxNum>
</cntPhone>
<cntAddress addressType="both">
<delPoint>257 Academy St</delPoint>
<delPoint>University of Delaware.
Delaware Geological Survey Bldg</delPoint>
<city>Newark</city>
<adminArea>DE</adminArea>
<postCode>19716</postCode>
<country>US</country>
<eMailAdd>delgeosurvey@udel.edu</eMailAdd>
</cntAddress>
</rpCntInfo>
<role>
<RoleCd value="005"/>
</role>
</distorCont>
<distorFormat>
<formatName>Digital Data</formatName>
</distorFormat>
<distorTran>
<onLineSrc>
<linkage>https://enterprise.firstmap.delaware.gov/arcgis/rest/services/Geology/DGS_DepthToWater/MapServer</linkage>
</onLineSrc>
</distorTran>
</distributor>
<distTranOps>
<onLineSrc>
<linkage>https://www.dgs.udel.edu/</linkage>
</onLineSrc>
</distTranOps>
<distFormat>
<formatName Sync="TRUE">File Geodatabase Raster Dataset</formatName>
</distFormat>
</distInfo>
<dataIdInfo>
<idCitation>
<resTitle>DGS_DepthToWater_WET</resTitle>
<date>
<pubDate>2005</pubDate>
</date>
<citRespParty>
<rpOrgName>Matthew J. Martin and A. Scott Andres</rpOrgName>
<role>
<RoleCd value="006"/>
</role>
</citRespParty>
<citRespParty>
<rpOrgName>Delaware Geological Survey</rpOrgName>
<rpCntInfo>
<cntAddress>
<delPoint>Newark, DE</delPoint>
</cntAddress>
</rpCntInfo>
<role>
<RoleCd value="010"/>
</role>
</citRespParty>
<presForm>
<PresFormCd value="005"/>
</presForm>
<presForm>
<fgdcGeoform>raster digital data</fgdcGeoform>
</presForm>
</idCitation>
<idAbs>&lt;div style='text-align:Left;'&gt;&lt;div&gt;&lt;div&gt;&lt;p&gt;&lt;span&gt;This digital product contains gridded estimates of depth to water (dtw) under wet conditions for Delaware. This work is the final component of a larger effort to provide estimates of water-table elevations and depths to water for the Coastal Plain portion of Delaware. Mapping was supported by the Delaware Department of Natural Resources and Environmental Control and the Delaware Geological Survey. These grids were produced with the same multiple linear regression (MLR) method as Andres and Martin (2005). Briefly, this method consists of: identifying dry, normal, and wet periods from long-term observation well data (Nc45-01, Ng11-01, Qe44-01); estimating a minimum water table (Sepulveda, 2002) by fitting a localized polynomial surface to elevations of surface water features (e.g., streams, swamps, and marshes); and computing a second variable in the regression from water levels observed in wells. A separate MLR equation was determined for dry, normal, and wet periods, and these equations were used in ArcMap v.9 (ESRI, 2004) to estimate grids of water-table elevations and depths to water. The grids have 30-m horizontal and 1-ft vertical resolutions. Grid world files and ground-water level observation data are in UTM-18N, 1983 projection in meters and elevations are in feet, NAVD 1988. Files are in ESRI, Inc., grid format. These data were combined from DGS Digital Data Products DP05-01, DP05-03, and DP05-04 Digital Water-Table Data for Sussex, Kent, and New Castle counties, Delaware, respectively. REFERENCES CITED Andres, A. S., and Martin, M. J., 2005, Estimation of the water-table surface for the Inland Bays watershed, Delaware: Delaware Geological Survey Report of Investigations No. 68, 20p. ESRI, 2004, ArcMap v. 9, Redlands, California. Sepulveda, N., 2003, A statistical estimator of the spatial distribution of the water-table altitude: Ground Water, vol. 41, p. 66-71.&lt;/span&gt;&lt;/p&gt;&lt;/div&gt;&lt;/div&gt;&lt;/div&gt;</idAbs>
<idPurp>This work is part of a larger effort to provide estimates of water-table elevations and depths to water for the Coastal Plain portion of Delaware. These maps will be used in risk assessments and for environmental management decision-making.</idPurp>
<idCredit>Matthew J. Martin and A. Scott Andres</idCredit>
<idStatus>
<ProgCd value="001"/>
</idStatus>
<idPoC>
<rpOrgName>Delaware Geological Survey</rpOrgName>
<rpCntInfo>
<cntPhone>
<voiceNum>(302)-831-2833</voiceNum>
<faxNum>302-831-3579</faxNum>
</cntPhone>
<cntAddress addressType="both">
<delPoint>257 Academy St</delPoint>
<delPoint>University of Delaware,
Delaware Geological Survey Bldg</delPoint>
<city>Newark</city>
<adminArea>DE</adminArea>
<postCode>19716</postCode>
<country>US</country>
<eMailAdd>delgeosurvey@udel.edu</eMailAdd>
</cntAddress>
</rpCntInfo>
<role>
<RoleCd value="007"/>
</role>
</idPoC>
<resMaint>
<maintFreq>
<MaintFreqCd value="009"/>
</maintFreq>
</resMaint>
<placeKeys>
<keyword>Delaware</keyword>
<keyword>Kent County</keyword>
<keyword>Sussex County</keyword>
<keyword>New Castle County</keyword>
<thesaName>
<resTitle>GNIS</resTitle>
</thesaName>
</placeKeys>
<themeKeys>
<keyword>inlandWaters</keyword>
<keyword>water table</keyword>
<keyword>groundwater</keyword>
<keyword>Coastal Plain</keyword>
</themeKeys>
<themeKeys>
<keyword>inlandWaters</keyword>
<thesaName>
<resTitle>ISO 19115 Topic Categories</resTitle>
</thesaName>
</themeKeys>
<searchKeys>
<keyword>New Castle</keyword>
<keyword>Milton</keyword>
<keyword>South Bethany</keyword>
<keyword>Blades</keyword>
<keyword>Felton</keyword>
<keyword>groundwater</keyword>
<keyword>Arden</keyword>
<keyword>Kent County</keyword>
<keyword>Kenton</keyword>
<keyword>Wyoming</keyword>
<keyword>Ardencroft</keyword>
<keyword>Bethel</keyword>
<keyword>Bethany Beach</keyword>
<keyword>Greenwood</keyword>
<keyword>Dagsboro</keyword>
<keyword>Seaford</keyword>
<keyword>Little Creek</keyword>
<keyword>Frankford</keyword>
<keyword>Millsboro</keyword>
<keyword>Ellendale</keyword>
<keyword>Millville</keyword>
<keyword>Hartly</keyword>
<keyword>Water Table</keyword>
<keyword>inlandWaters</keyword>
<keyword>Elsmere</keyword>
<keyword>Camden</keyword>
<keyword>Lewes</keyword>
<keyword>Farmington</keyword>
<keyword>Townsend</keyword>
<keyword>Woodside</keyword>
<keyword>Henlopen Acres</keyword>
<keyword>Wilmington</keyword>
<keyword>Harrington</keyword>
<keyword>Viola</keyword>
<keyword>Leipsic</keyword>
<keyword>Selbyville</keyword>
<keyword>Smyrna</keyword>
<keyword>Delaware Hydrology</keyword>
<keyword>Houston</keyword>
<keyword>Bridgeville</keyword>
<keyword>Rehoboth Beach</keyword>
<keyword>Ocean View</keyword>
<keyword>Newark</keyword>
<keyword>Middletown</keyword>
<keyword>Fenwick Island</keyword>
<keyword>Milford</keyword>
<keyword>Georgetown</keyword>
<keyword>New Castle County</keyword>
<keyword>Delmar</keyword>
<keyword>Frederica</keyword>
<keyword>Magnolia</keyword>
<keyword>Laurel</keyword>
<keyword>Claymont</keyword>
<keyword>Newport</keyword>
<keyword>Bellefonte</keyword>
<keyword>Odessa</keyword>
<keyword>Delaware</keyword>
<keyword>Clayton</keyword>
<keyword>Sussex County</keyword>
<keyword>Dover</keyword>
<keyword>Slaughter Beach</keyword>
</searchKeys>
<resConst>
<Consts>
<useLimit>&lt;div style='text-align:Left;'&gt;&lt;div&gt;&lt;div&gt;&lt;p&gt;&lt;span&gt;The Delaware Geological Survey (DGS) is constantly gathering data from multiple sources, interpreting data, and reflecting its interpretations in a variety of data formats. DGS's interpretations are conceptualized in these grids of Depth to Water for Delaware. The water table is a continuous surface; however, observations of the surface exist at irregularly spaced locations. In this instance, regularly spaced grids of water-table elevations were estimated from site-specific observational data and are the model used to represent the water-table surface. Reasonable efforts have been made by the DGS to verify that the digital data provided herein accurately interpret the source data used in its preparation. These are estimated surfaces and they may be inappropriate for some applications. Detailed site-specific investigation may be required for evaluating individual sites. Persons wishing to apply the data in these grids to more detailed scales are encouraged to contact the DGS office for advisement. Nothing contained herein shall be deemed an expressed or implied waiver of the sovereign immunity of the University of Delaware and the State of Delaware or their duly authorized representatives, agents, or employees. Additional Information In order to provide complete data coverage for the entire Coastal Plain, Sussex County, Kent County, and New Castle County grids (Digital Products DP05-01, DP05-03, and Dp05-04) were merged together. Further manipulation of these data grids by the user is done solely at the descretion of the user.&lt;/span&gt;&lt;/p&gt;&lt;/div&gt;&lt;/div&gt;&lt;/div&gt;</useLimit>
</Consts>
</resConst>
<resConst>
<LegConsts>
<useLimit>The Delaware Geological Survey (DGS) is constantly gathering data from multiple sources, interpreting data, and reflecting its interpretations in a variety of data formats. DGS's interpretations are conceptualized in these grids of Depth to Water for Kent County, DE. The water table is a continuous surface; however, observations of the surface exist at irregularly spaced locations. In this instance, regularly spaced grids of water-table elevations were estimated from site-specific observational data and are the model used to represent the water-table surface. Reasonable efforts have been made by the DGS to verify that the digital data provided hereon accurately interpret the source data used in its preparation. These are estimated surfaces and they may be inappropriate for some applications. Detailed site-specific investigation may be required for evaluating individual sites. Persons wishing to apply the data in these grids to more detailed scales are encouraged to contact the DGS office for advisement. Nothing contained herein shall be deemed an expressed or implied waiver of the sovereign immunity of the State of Delaware or its duly authorized representatives, agents, or employees.</useLimit>
<accessConsts>
<RestrictCd value="008"/>
</accessConsts>
<othConsts>None.</othConsts>
</LegConsts>
</resConst>
<spatRpType>
<SpatRepTypCd value="002"/>
</spatRpType>
<tpCat>
<TopicCatCd value="012"/>
</tpCat>
<envirDesc>Esri ArcGIS 13.2.2.49743</envirDesc>
<dataExt>
<geoEle>
<GeoBndBox>
<exTypeCode>true</exTypeCode>
<westBL>-75.801084</westBL>
<eastBL>-75.040087</eastBL>
<northBL>39.844843</northBL>
<southBL>38.445943</southBL>
</GeoBndBox>
</geoEle>
</dataExt>
<dataExt>
<exDesc>ground condition</exDesc>
<tempEle>
<TempExtent>
<exTemp>
<TM_Instant>
<tmPosition>2005</tmPosition>
</TM_Instant>
</exTemp>
</TempExtent>
</tempEle>
<geoEle/>
</dataExt>
<suppInfo>Andres, A.S., and Martin, M.J., 2005, Estimation of the water-table surface for the Inland Bays watershed, Delaware: Delaware Geological Survey Report of Investigations No. 68, 20 p.
Sepulveda, N., 2003, A statistical estimator of the spatial distribution of the water-table altitude: Ground Water, vol. 41, p. 66-71.</suppInfo>
<dataLang>
<languageCode Sync="TRUE" value="eng"/>
<countryCode Sync="TRUE" value="USA"/>
</dataLang>
<dataExt>
<geoEle>
<GeoBndBox esriExtentType="search">
<exTypeCode Sync="TRUE">1</exTypeCode>
<westBL Sync="TRUE">-75.792769</westBL>
<eastBL Sync="TRUE">-75.047885</eastBL>
<northBL Sync="TRUE">39.842079</northBL>
<southBL Sync="TRUE">38.448507</southBL>
</GeoBndBox>
</geoEle>
</dataExt>
</dataIdInfo>
<dqInfo>
<dqScope>
<scpLvl>
<ScopeCd value="005"/>
</scpLvl>
</dqScope>
<dataLineage>
<dataSource>
<srcCitatn>
<presForm>
<PresFormCd value="011"/>
</presForm>
<presForm>
<fgdcGeoform>tabular digital data</fgdcGeoform>
</presForm>
</srcCitatn>
</dataSource>
</dataLineage>
</dqInfo>
<spatRepInfo>
<Georect>
<numDims>3</numDims>
<axisDimension type="001">
<dimSize>1891</dimSize>
</axisDimension>
<axisDimension type="002">
<dimSize>1950</dimSize>
</axisDimension>
<axisDimension type="003">
<dimSize>1</dimSize>
</axisDimension>
<cellGeo>
<CellGeoCd value="002"/>
</cellGeo>
</Georect>
</spatRepInfo>
<eainfo>
<detailed Name="VAT_GEO_DTW_WET_new">
<enttyp>
<enttypl>VAT_ri73_aq_unconf_dtw_dry</enttypl>
<enttypt Sync="TRUE">Table</enttypt>
<enttypc Sync="TRUE">132</enttypc>
</enttyp>
<attr>
<attrlabl>ObjectID</attrlabl>
<attrdef>Internal feature number.</attrdef>
<attrdefs>ESRI</attrdefs>
<attrdomv>
<udom>Sequential unique whole numbers that are automatically generated.</udom>
</attrdomv>
<attalias Sync="TRUE">OBJECTID</attalias>
<attrtype Sync="TRUE">OID</attrtype>
<attwidth Sync="TRUE">4</attwidth>
<atprecis Sync="TRUE">0</atprecis>
<attscale Sync="TRUE">0</attscale>
</attr>
<attr>
<attrlabl>Value</attrlabl>
<attrdef>Depth to water in feet below land surface.</attrdef>
<attalias Sync="TRUE">VALUE</attalias>
<attrtype Sync="TRUE">Integer</attrtype>
<attwidth Sync="TRUE">4</attwidth>
<atprecis Sync="TRUE">0</atprecis>
<attscale Sync="TRUE">0</attscale>
</attr>
<attr>
<attrlabl>Count</attrlabl>
<attrdef>This refers to the total number of grid cells within the raster grid that have a particular "value" (see above).</attrdef>
<attalias Sync="TRUE">COUNT</attalias>
<attrtype Sync="TRUE">Integer</attrtype>
<attwidth Sync="TRUE">4</attwidth>
<atprecis Sync="TRUE">0</atprecis>
<attscale Sync="TRUE">0</attscale>
</attr>
</detailed>
</eainfo>
<mdLang>
<languageCode Sync="TRUE" value="eng"/>
<countryCode Sync="TRUE" value="USA"/>
</mdLang>
<mdHrLvName Sync="TRUE">dataset</mdHrLvName>
<refSysInfo>
<RefSystem>
<refSysID>
<identCode Sync="TRUE" code="3857"/>
<idCodeSpace Sync="TRUE">EPSG</idCodeSpace>
<idVersion Sync="TRUE">6.18.3(9.3.1.2)</idVersion>
</refSysID>
</RefSystem>
</refSysInfo>
<spdoinfo>
<rastinfo>
<rasttype Sync="TRUE">Pixel</rasttype>
<rowcount Sync="TRUE">6668</rowcount>
<colcount Sync="TRUE">2764</colcount>
<rastxsz Sync="TRUE">30.000000</rastxsz>
<rastysz Sync="TRUE">30.000000</rastysz>
<rastbpp Sync="TRUE">8</rastbpp>
<vrtcount Sync="TRUE">1</vrtcount>
<rastorig Sync="TRUE">Upper Left</rastorig>
<rastcmap Sync="TRUE">FALSE</rastcmap>
<rastcomp Sync="TRUE">LZ77</rastcomp>
<rastband Sync="TRUE">1</rastband>
<rastdtyp Sync="TRUE">pixel codes</rastdtyp>
<rastifor Sync="TRUE">FGDBR</rastifor>
<rastplyr Sync="TRUE">TRUE</rastplyr>
</rastinfo>
</spdoinfo>
<spref>
<horizsys>
<planar>
<planci>
<plance Sync="TRUE">row and column</plance>
<coordrep>
<absres Sync="TRUE">30.000000</absres>
<ordres Sync="TRUE">30.000000</ordres>
</coordrep>
</planci>
</planar>
</horizsys>
</spref>
</metadata>
