{ "currentVersion": 11.3, "serviceDescription": "
Resolution: 0.25 Meter<\/span><\/span><\/p> Bands: 4-band: R,G,B,NIR<\/span><\/span><\/p> Sanborn<\/span><\/span>Delivered as 2010 tiles.<\/span><\/span>Each tile is 1.7km x 1.7km, 6800x6800 pixels, and 180MB (TIF).<\/span><\/span>SRS: NAD83 HARN Delaware State Plane meters<\/span><\/span>Scale: 1:2,400<\/span><\/span><\/p> This dataset contains digital 0.25 meter orthophotos of the State of Delaware at a scale of 1:2,400 in 4-band but are being served as 3-band RGB, 8-bit format from the DataMIL site. The dates for the Orthophotography missions were 3/19, 3/29, 3/30, 4/2, 4/3, 4/10, 4/14, 4/20 all in 2007.<\/span><\/span><\/p> The orthophotos can be used for many purposes including development planning, emergency planning, and other planning or mapping purposes.<\/span><\/span><\/p> ASPRS Class 1. This data has also been produced to be fully compliant with NSSDA Standards for mapping at a scale of 1:2,400. The dates for the Orthophotography missions were 3/19, 3/29, 3/30, 4/2, 4/3, 4/10, 4/14, 4/20 all in 2007.<\/span><\/p><\/div><\/div><\/div>",
"name": "DE_Imagery_SP/DE_Imagery_2007",
"description": " Resolution: 0.25 Meter<\/span><\/span><\/p> Bands: 4-band: R,G,B,NIR<\/span><\/span><\/p> Sanborn<\/span><\/span>Delivered as 2010 tiles.<\/span><\/span>Each tile is 1.7km x 1.7km, 6800x6800 pixels, and 180MB (TIF).<\/span><\/span>SRS: NAD83 HARN Delaware State Plane meters<\/span><\/span>Scale: 1:2,400<\/span><\/span><\/p> This dataset contains digital 0.25 meter orthophotos of the State of Delaware at a scale of 1:2,400 in 4-band but are being served as 3-band RGB, 8-bit format from the DataMIL site. The dates for the Orthophotography missions were 3/19, 3/29, 3/30, 4/2, 4/3, 4/10, 4/14, 4/20 all in 2007.<\/span><\/span><\/p> The orthophotos can be used for many purposes including development planning, emergency planning, and other planning or mapping purposes.<\/span><\/span><\/p> ASPRS Class 1. This data has also been produced to be fully compliant with NSSDA Standards for mapping at a scale of 1:2,400. The dates for the Orthophotography missions were 3/19, 3/29, 3/30, 4/2, 4/3, 4/10, 4/14, 4/20 all in 2007.<\/span><\/p><\/div><\/div><\/div>",
"extent": {
"xmin": 166500,
"ymin": 50000,
"xmax": 232800,
"ymax": 204700,
"spatialReference": {
"wkid": 26957,
"latestWkid": 26957
}
},
"initialExtent": {
"xmin": 166500,
"ymin": 50000,
"xmax": 232800,
"ymax": 204700,
"spatialReference": {
"wkid": 26957,
"latestWkid": 26957
}
},
"fullExtent": {
"xmin": 166500,
"ymin": 50000,
"xmax": 232800,
"ymax": 204700,
"spatialReference": {
"wkid": 26957,
"latestWkid": 26957
}
},
"sortableFields": "",
"bandCount": 3,
"pixelType": "U8",
"minValues": [
13,
4,
13
],
"maxValues": [
255,
255,
255
],
"meanValues": [
142.83636466926927,
139.65075104343643,
135.82981911401552
],
"stdvValues": [
26.376154942722263,
27.511987865955632,
27.874157684150166
],
"hasMultidimensions": false,
"pixelSizeX": 0.25,
"pixelSizeY": 0.25,
"meanPixelSize": 0.25,
"datasetFormat": "AMD",
"uncompressedSize": 492317280000,
"blockWidth": 2048,
"blockHeight": 256,
"compressionType": "None",
"bandNames": [
"Band_1",
"Band_2",
"Band_3"
],
"allowCopy": true,
"allowAnalysis": true,
"itemAccess": false,
"inspectionCapabilities": "",
"minPixelSize": 0.26458386250105836,
"maxPixelSize": 2116.670900008467,
"copyrightText": "Sanborn Mapping Company",
"serviceDataType": "esriImageServiceDataTypeProcessed",
"serviceSourceType": "esriImageServiceSourceTypeMosaicDataset",
"objectIdField": "OBJECTID",
"fields": [
{
"name": "OBJECTID",
"type": "esriFieldTypeOID",
"alias": "OBJECTID",
"domain": null
},
{
"name": "Shape",
"type": "esriFieldTypeGeometry",
"alias": "Shape",
"domain": null
},
{
"name": "Name",
"type": "esriFieldTypeString",
"alias": "Name",
"domain": null,
"length": 50
},
{
"name": "MinPS",
"type": "esriFieldTypeDouble",
"alias": "MinPS",
"domain": null
},
{
"name": "MaxPS",
"type": "esriFieldTypeDouble",
"alias": "MaxPS",
"domain": null
},
{
"name": "LowPS",
"type": "esriFieldTypeDouble",
"alias": "LowPS",
"domain": null
},
{
"name": "HighPS",
"type": "esriFieldTypeDouble",
"alias": "HighPS",
"domain": null
},
{
"name": "Category",
"type": "esriFieldTypeInteger",
"alias": "Category",
"domain": {
"type": "codedValue",
"name": "MosaicCatalogItemCategoryDomain",
"description": "Catalog item categories.",
"codedValues": [
{
"name": "Unknown",
"code": 0
},
{
"name": "Primary",
"code": 1
},
{
"name": "Overview",
"code": 2
},
{
"name": "Unprocessed Overview",
"code": 3
},
{
"name": "Partial Overview",
"code": 4
},
{
"name": "Inactive",
"code": 5
},
{
"name": "Uploaded",
"code": 253
},
{
"name": "Incomplete",
"code": 254
},
{
"name": "Custom",
"code": 255
}
],
"mergePolicy": "esriMPTDefaultValue",
"splitPolicy": "esriSPTDefaultValue"
}
},
{
"name": "Tag",
"type": "esriFieldTypeString",
"alias": "Tag",
"domain": null,
"length": 20
},
{
"name": "GroupName",
"type": "esriFieldTypeString",
"alias": "GroupName",
"domain": null,
"length": 50
},
{
"name": "ProductName",
"type": "esriFieldTypeString",
"alias": "ProductName",
"domain": null,
"length": 50
},
{
"name": "CenterX",
"type": "esriFieldTypeDouble",
"alias": "CenterX",
"domain": null
},
{
"name": "CenterY",
"type": "esriFieldTypeDouble",
"alias": "CenterY",
"domain": null
},
{
"name": "ZOrder",
"type": "esriFieldTypeInteger",
"alias": "ZOrder",
"domain": null
},
{
"name": "Shape_Length",
"type": "esriFieldTypeDouble",
"alias": "Shape_Length",
"domain": null
},
{
"name": "Shape_Area",
"type": "esriFieldTypeDouble",
"alias": "Shape_Area",
"domain": null
}
],
"capabilities": "Catalog,Mensuration,Image,Metadata",
"defaultMosaicMethod": "ByAttribute",
"allowedMosaicMethods": "ByAttribute,NorthWest,Center,LockRaster,Nadir,Viewpoint,Seamline,None",
"sortField": "LowPS",
"sortValue": "0",
"sortAscending": true,
"mosaicOperator": "First",
"maxDownloadSizeLimit": 2048,
"defaultCompressionQuality": 75,
"defaultResamplingMethod": "Bilinear",
"maxImageHeight": 500000,
"maxImageWidth": 500000,
"maxRecordCount": 1000,
"maxDownloadImageCount": 20,
"maxMosaicImageCount": 2000,
"singleFusedMapCache": true,
"tileInfo": {
"rows": 256,
"cols": 256,
"dpi": 96,
"format": "MIXED",
"compressionQuality": 65,
"origin": {
"x": -5423100,
"y": 5794600
},
"spatialReference": {
"wkid": 26957,
"latestWkid": 26957
},
"lods": [
{
"level": 0,
"resolution": 2116.670900008467,
"scale": 8000000
},
{
"level": 1,
"resolution": 1058.3354500042335,
"scale": 4000000
},
{
"level": 2,
"resolution": 529.1677250021168,
"scale": 2000000
},
{
"level": 3,
"resolution": 264.5838625010584,
"scale": 1000000
},
{
"level": 4,
"resolution": 132.2919312505292,
"scale": 500000
},
{
"level": 5,
"resolution": 66.1459656252646,
"scale": 250000
},
{
"level": 6,
"resolution": 33.0729828126323,
"scale": 125000
},
{
"level": 7,
"resolution": 16.933367200067735,
"scale": 64000
},
{
"level": 8,
"resolution": 8.466683600033868,
"scale": 32000
},
{
"level": 9,
"resolution": 4.233341800016934,
"scale": 16000
},
{
"level": 10,
"resolution": 2.116670900008467,
"scale": 8000
},
{
"level": 11,
"resolution": 1.0583354500042335,
"scale": 4000
},
{
"level": 12,
"resolution": 0.5291677250021167,
"scale": 2000
},
{
"level": 13,
"resolution": 0.26458386250105836,
"scale": 1000
}
]
},
"storageInfo": {
"storageFormat": "esriMapCacheStorageModeCompact",
"packetSize": 128
},
"cacheType": "Map",
"allowRasterFunction": true,
"rasterFunctionInfos": [
{
"name": "None",
"description": "",
"help": ""
}
],
"rasterTypeInfos": [
{
"name": "Raster Dataset",
"description": "Supports all ArcGIS Raster Datasets",
"help": ""
}
],
"mensurationCapabilities": "Basic",
"hasHistograms": true,
"hasColormap": false,
"hasRasterAttributeTable": false,
"minScale": 8000000,
"maxScale": 1000,
"exportTilesAllowed": false,
"supportsStatistics": true,
"supportsAdvancedQueries": true,
"editFieldsInfo": null,
"ownershipBasedAccessControlForRasters": null,
"allowComputeTiePoints": false,
"useStandardizedQueries": true,
"advancedQueryCapabilities": {
"useStandardizedQueries": true,
"supportsStatistics": true,
"supportsOrderBy": true,
"supportsDistinct": true,
"supportsPagination": true
},
"spatialReference": {
"wkid": 26957,
"latestWkid": 26957
}
}