<metadata xml:lang="en"><Esri><CreaDate>20141024</CreaDate><CreaTime>12210200</CreaTime><ArcGISFormat>1.0</ArcGISFormat><ArcGISstyle>Item Description</ArcGISstyle><SyncOnce>FALSE</SyncOnce><DataProperties><itemProps><itemName Sync="TRUE">DE_Imagery_1992_SP</itemName><nativeExtBox><westBL Sync="TRUE">166499.500000</westBL><eastBL Sync="TRUE">232799.500000</eastBL><southBL Sync="TRUE">50000.515600</southBL><northBL Sync="TRUE">204700.515600</northBL><exTypeCode Sync="TRUE">1</exTypeCode></nativeExtBox></itemProps><coordRef><type Sync="TRUE">Projected</type><geogcsn Sync="TRUE">GCS_North_American_1983</geogcsn><csUnits Sync="TRUE">Linear Unit: Meter (1.000000)</csUnits><projcsn Sync="TRUE">NAD_1983_StatePlane_Delaware_FIPS_0700</projcsn><peXml Sync="TRUE">&lt;ProjectedCoordinateSystem xsi:type='typens:ProjectedCoordinateSystem' xmlns:xsi='http://www.w3.org/2001/XMLSchema-instance' xmlns:xs='http://www.w3.org/2001/XMLSchema' xmlns:typens='http://www.esri.com/schemas/ArcGIS/10.1'&gt;&lt;WKT&gt;PROJCS[&amp;quot;NAD_1983_StatePlane_Delaware_FIPS_0700&amp;quot;,GEOGCS[&amp;quot;GCS_North_American_1983&amp;quot;,DATUM[&amp;quot;D_North_American_1983&amp;quot;,SPHEROID[&amp;quot;GRS_1980&amp;quot;,6378137.0,298.257222101]],PRIMEM[&amp;quot;Greenwich&amp;quot;,0.0],UNIT[&amp;quot;Degree&amp;quot;,0.0174532925199433]],PROJECTION[&amp;quot;Transverse_Mercator&amp;quot;],PARAMETER[&amp;quot;False_Easting&amp;quot;,200000.0],PARAMETER[&amp;quot;False_Northing&amp;quot;,0.0],PARAMETER[&amp;quot;Central_Meridian&amp;quot;,-75.41666666666667],PARAMETER[&amp;quot;Scale_Factor&amp;quot;,0.999995],PARAMETER[&amp;quot;Latitude_Of_Origin&amp;quot;,38.0],UNIT[&amp;quot;Meter&amp;quot;,1.0],AUTHORITY[&amp;quot;EPSG&amp;quot;,26957]]&lt;/WKT&gt;&lt;XOrigin&gt;-5423100&lt;/XOrigin&gt;&lt;YOrigin&gt;-14209500&lt;/YOrigin&gt;&lt;XYScale&gt;450267657.86718673&lt;/XYScale&gt;&lt;ZOrigin&gt;-100000&lt;/ZOrigin&gt;&lt;ZScale&gt;10000&lt;/ZScale&gt;&lt;MOrigin&gt;-100000&lt;/MOrigin&gt;&lt;MScale&gt;10000&lt;/MScale&gt;&lt;XYTolerance&gt;0.001&lt;/XYTolerance&gt;&lt;ZTolerance&gt;0.001&lt;/ZTolerance&gt;&lt;MTolerance&gt;0.001&lt;/MTolerance&gt;&lt;HighPrecision&gt;true&lt;/HighPrecision&gt;&lt;WKID&gt;26957&lt;/WKID&gt;&lt;LatestWKID&gt;26957&lt;/LatestWKID&gt;&lt;/ProjectedCoordinateSystem&gt;</peXml></coordRef><RasterProperties><General><PixelDepth Sync="TRUE">8</PixelDepth><HasColormap Sync="TRUE">FALSE</HasColormap><CompressionType Sync="TRUE">None</CompressionType><NumBands Sync="TRUE">3</NumBands><Format Sync="TRUE">AMD</Format><HasPyramids Sync="TRUE">TRUE</HasPyramids><SourceType Sync="TRUE">continuous</SourceType><PixelType Sync="TRUE">unsigned integer</PixelType><NoDataValue Sync="TRUE"/></General><Properties><MaxImageHeight Sync="TRUE">500000</MaxImageHeight><MaxImageWidth Sync="TRUE">500000</MaxImageWidth><MaxRecordCount Sync="TRUE">1000</MaxRecordCount><MaxDownloadImageCount Sync="TRUE">20</MaxDownloadImageCount><MaxDownloadSizeLimit Sync="TRUE">2048</MaxDownloadSizeLimit><MaxMosaicImageCount Sync="TRUE">2000</MaxMosaicImageCount><DefaultCompressionQuality Sync="TRUE">75</DefaultCompressionQuality><DefaultCompressionTolerance Sync="TRUE">0.01</DefaultCompressionTolerance><BlendWidth Sync="TRUE">10</BlendWidth><ViewpointSpacingX Sync="TRUE">600</ViewpointSpacingX><ViewpointSpacingY Sync="TRUE">300</ViewpointSpacingY><AllowedItemMetadata Sync="TRUE">Basic</AllowedItemMetadata><DefaultResamplingMethod Sync="TRUE">1</DefaultResamplingMethod><AllowedMosaicMethods Sync="TRUE">ByAttribute,NorthWest,Center,LockRaster,Nadir,Viewpoint,Seamline,None</AllowedMosaicMethods><AllowedCompressions Sync="TRUE">None,JPEG,LZ77,LERC</AllowedCompressions><AllowedMensurationCapabilities Sync="TRUE">Basic</AllowedMensurationCapabilities><AvailableMensurationCapabilities Sync="TRUE">None,Basic,Base-Top Height,Top-Top Shadow Height,Base-Top Shadow Height,3D</AvailableMensurationCapabilities><ClipToBoundary Sync="TRUE">-1</ClipToBoundary><FootprintMayContainNoData Sync="TRUE">-1</FootprintMayContainNoData><CellSizeTolerance Sync="TRUE">0.8</CellSizeTolerance><MinimumPixelContribution Sync="TRUE">1</MinimumPixelContribution><AvailableMosaicMethods Sync="TRUE">NorthWest,Center,LockRaster,ByAttribute,Nadir,Viewpoint,Seamline,None</AvailableMosaicMethods><AvailableCompressionMethods Sync="TRUE">None,JPEG,LZ77,LERC</AvailableCompressionMethods><AvailableItemMetadataLevels Sync="TRUE">None,Basic,Full</AvailableItemMetadataLevels><ConfigKeyword Sync="TRUE"/><BandDefinitionKeyword Sync="TRUE">NONE</BandDefinitionKeyword><AllowedFields Sync="TRUE">Name,MinPS,MaxPS,LowPS,HighPS,Tag,GroupName,ProductName,CenterX,CenterY,ZOrder,Shape_Length,Shape_Area</AllowedFields><LowCellSize Sync="TRUE">1</LowCellSize><HighCellSize Sync="TRUE">200</HighCellSize><MaxCellSize Sync="TRUE">10000</MaxCellSize><ApplyColorCorrection Sync="TRUE">0</ApplyColorCorrection><DataType Sync="TRUE">Processed</DataType><TimeValueFormat Sync="TRUE"/><EndTimeFieldName Sync="TRUE"/><StartTimeFieldName Sync="TRUE"/><MosaicOperator Sync="TRUE">1</MosaicOperator><BlendWidthUnits Sync="TRUE">1</BlendWidthUnits><UseTime Sync="TRUE">0</UseTime><SortAscending Sync="TRUE">-1</SortAscending><ClipToFootprint Sync="TRUE">0</ClipToFootprint><SortField Sync="TRUE">LowPS</SortField><SortValue Sync="TRUE">0</SortValue></Properties><Functions Sync="TRUE"><Function Description="Performs on-the-fly mosaic on a raster catalog." Name="Mosaic Function"/></Functions></RasterProperties></DataProperties><scaleRange><minScale>150000000</minScale><maxScale>5000</maxScale></scaleRange><SyncDate>20141024</SyncDate><SyncTime>12215900</SyncTime><ModDate>20191115</ModDate><ModTime>17033700</ModTime><ArcGISProfile>FGDC</ArcGISProfile></Esri><mdHrLv><ScopeCd value="005"/></mdHrLv><dataIdInfo><idCitation><resTitle Sync="FALSE">Delaware 1992 Orthophotography</resTitle><presForm><PresFormCd Sync="TRUE" value="005"/></presForm></idCitation><idPurp>Delaware 1992 Orthophotography</idPurp><idAbs>&lt;DIV STYLE="text-align:Left;"&gt;&lt;DIV&gt;&lt;DIV&gt;&lt;P STYLE="margin:0 0 0 0;"&gt;&lt;SPAN&gt;&lt;SPAN&gt;Resolution: 1.0 Meter&lt;/SPAN&gt;&lt;/SPAN&gt;&lt;/P&gt;&lt;P STYLE="margin:0 0 0 0;"&gt;&lt;SPAN&gt;&lt;SPAN&gt;Bands: 3-band: G, R, NIR&lt;/SPAN&gt;&lt;/SPAN&gt;&lt;/P&gt;&lt;P /&gt;&lt;P STYLE="margin:0 0 0 0;"&gt;&lt;SPAN&gt;&lt;SPAN&gt;DelDOT&lt;/SPAN&gt;&lt;/SPAN&gt;&lt;SPAN /&gt;&lt;SPAN&gt;&lt;SPAN&gt;Delivered as 172 Quarter-quads.&lt;/SPAN&gt;&lt;/SPAN&gt;&lt;SPAN /&gt;&lt;SPAN&gt;&lt;SPAN&gt;Each tile is 137 MB (TIF).&lt;/SPAN&gt;&lt;/SPAN&gt;&lt;SPAN /&gt;&lt;SPAN&gt;&lt;SPAN&gt;Scale: 1:12,000&lt;/SPAN&gt;&lt;/SPAN&gt;&lt;SPAN /&gt;&lt;SPAN&gt;&lt;SPAN&gt;SRS: NAD83 State Plane meters&lt;/SPAN&gt;&lt;/SPAN&gt;&lt;/P&gt;&lt;P /&gt;&lt;P STYLE="margin:0 0 0 0;"&gt;&lt;SPAN&gt;&lt;SPAN&gt;The State of Delaware contracted with PhotoScience Inc. to develop 1-meter resolution color-infrared digital ortho-photos for the entire state. PhotoScience Inc. became Earth Data International. For more detailed information about the source data, contact EarthData (http://www.earthdata.com). Airphotos were taken in March, 1992 at a 1:12000 scale, digitized and georeferenced to Delaware State Plane coordinates (meters, North American Datum 1983).&lt;/SPAN&gt;&lt;/SPAN&gt;&lt;/P&gt;&lt;P /&gt;&lt;P STYLE="margin:0 0 0 0;"&gt;&lt;SPAN&gt;&lt;SPAN&gt;Airphotos were taken in March, 1992, digitized and georeferenced to Delaware State Plane coordinates (meters, North American Datum 1983, based on GRS 1980 spheroid). The source data are 140 MB 24-bit color files for each of the 172 quarter-quads in Delaware.&lt;/SPAN&gt;&lt;/SPAN&gt;&lt;/P&gt;&lt;P /&gt;&lt;P STYLE="margin:0 0 0 0;"&gt;&lt;SPAN&gt;&lt;SPAN&gt;To facilitate dissemination of these data, the Spatial Analysis Lab resampled the 172 DOQ's covering the state to UTM coordinates (meters, NAD 1983) at 5-meter resolution in 8-bit color, achieving initial file size reductions of almost 99 percent. The Spatial Analysis Lab used a nearest-neighbor (i.e. center-cell selection) resampling procedure which generates a high-contrast image with some blockiness in very small features. Each transformation used four 3.75-minute-interval reference points located near the corners of each image. Each resampled image is approximately 1210 x 1510 pixels, with a 10-pixel (50-meter) border cropped out to eliminate slight edge skewness resulting from the reprojection. Images still have at least 500 meters of edge overlap. Color palettes were brightened and adjusted for improved consistency using Adobe Photoshop. Sun glare has been masked out of water pixels in most coastal images in order to correct color palettes.&lt;/SPAN&gt;&lt;/SPAN&gt;&lt;/P&gt;&lt;P /&gt;&lt;P STYLE="margin:0 0 0 0;"&gt;&lt;SPAN&gt;&lt;SPAN&gt;Cell resolution is exactly 5 x 5 meters. The original 1992 and 1997 series have differing degrees of positional error, and thus are not perfectly congruent. Earth Data used a larger set of ground control points to geo-reference the 1997 series, so these should have better positional acuracy.&lt;/SPAN&gt;&lt;/SPAN&gt;&lt;/P&gt;&lt;P /&gt;&lt;P STYLE="margin:0 0 0 0;"&gt;&lt;SPAN&gt;&lt;SPAN&gt;Most images were brightened and contrast-enhanced using Adobe Photoshop. To reduce file size and eliminate sun glare, large water areas are masked to black.&lt;/SPAN&gt;&lt;/SPAN&gt;&lt;/P&gt;&lt;/DIV&gt;&lt;/DIV&gt;&lt;/DIV&gt;</idAbs><idCredit>EarthData/PhotoScience Inc.</idCredit><searchKeys><keyword>Orthophotography</keyword><keyword>imagery</keyword><keyword>aerial photo</keyword><keyword>color infrared</keyword><keyword>Delaware</keyword><keyword>New Castle County</keyword><keyword>Kent County</keyword><keyword>Sussex County</keyword></searchKeys><resConst><Consts><useLimit>&lt;DIV STYLE="text-align:Left;"&gt;&lt;DIV&gt;&lt;DIV&gt;&lt;P STYLE="margin:0 0 0 0;"&gt;&lt;SPAN&gt;Public Domain Information&lt;/SPAN&gt;&lt;/P&gt;&lt;/DIV&gt;&lt;/DIV&gt;&lt;/DIV&gt;</useLimit></Consts></resConst><envirDesc Sync="TRUE"> Version 6.2 (Build 9200) ; Esri ArcGIS 10.2.2.3552</envirDesc><dataLang><languageCode Sync="TRUE" value="eng"/><countryCode Sync="TRUE" value="USA"/></dataLang><spatRpType><SpatRepTypCd Sync="TRUE" value="002"/></spatRpType><dataExt><geoEle xmlns=""><GeoBndBox esriExtentType="search"><exTypeCode Sync="TRUE">1</exTypeCode><westBL Sync="TRUE">-75.808080</westBL><eastBL Sync="TRUE">-75.033443</eastBL><northBL Sync="TRUE">39.843925</northBL><southBL Sync="TRUE">38.449826</southBL></GeoBndBox></geoEle></dataExt></dataIdInfo><spatRepInfo><Georect><axisDimension type="002"><dimSize Sync="TRUE">66300</dimSize><dimResol><value Sync="TRUE" uom="Meter">1.000000</value></dimResol></axisDimension><axisDimension type="001"><dimSize Sync="TRUE">154700</dimSize><dimResol><value Sync="TRUE" uom="Meter">1.000000</value></dimResol></axisDimension><cellGeo><CellGeoCd Sync="TRUE" value="002"/></cellGeo><numDims Sync="TRUE">2</numDims><tranParaAv Sync="TRUE">1</tranParaAv><chkPtAv Sync="TRUE">0</chkPtAv><cornerPts><pos Sync="TRUE">166499.500000 50000.515600</pos></cornerPts><cornerPts><pos Sync="TRUE">166499.500000 204700.515600</pos></cornerPts><cornerPts><pos Sync="TRUE">232799.500000 204700.515600</pos></cornerPts><cornerPts><pos Sync="TRUE">232799.500000 50000.515600</pos></cornerPts><centerPt><pos Sync="TRUE">199649.500000 127350.515600</pos></centerPt><ptInPixel><PixOrientCd Sync="TRUE" value="001"/></ptInPixel></Georect></spatRepInfo><contInfo><ImgDesc><covDim><Band><valUnit><UOM type="length"/></valUnit><dimDescrp Sync="TRUE">Band_1</dimDescrp><maxVal Sync="TRUE">255.000000</maxVal><minVal Sync="TRUE">0.000000</minVal><bitsPerVal Sync="TRUE">8</bitsPerVal></Band><Band><valUnit><UOM type="length"/></valUnit><dimDescrp Sync="TRUE">Band_2</dimDescrp><maxVal Sync="TRUE">255.000000</maxVal><minVal Sync="TRUE">0.000000</minVal><bitsPerVal Sync="TRUE">8</bitsPerVal></Band><Band><valUnit><UOM type="length"/></valUnit><dimDescrp Sync="TRUE">Band_3</dimDescrp><maxVal Sync="TRUE">240.000000</maxVal><minVal Sync="TRUE">0.000000</minVal><bitsPerVal Sync="TRUE">8</bitsPerVal></Band></covDim><contentTyp><ContentTypCd Sync="TRUE" value="001"/></contentTyp></ImgDesc></contInfo><mdLang><languageCode Sync="TRUE" value="eng"/><countryCode Sync="TRUE" value="USA"/></mdLang><refSysInfo><RefSystem><refSysID><identCode Sync="TRUE" code="26957"/><idCodeSpace Sync="TRUE">EPSG</idCodeSpace><idVersion Sync="TRUE">8.2.6</idVersion></refSysID></RefSystem></refSysInfo><mdDateSt Sync="TRUE">20191115</mdDateSt></metadata>
