<?xml version="1.0" encoding="UTF-8" standalone="no"?>
<metadata xml:lang="en">
<Esri>
<CreaDate>20250613</CreaDate>
<CreaTime>09270500</CreaTime>
<ArcGISFormat>1.0</ArcGISFormat>
<SyncOnce>FALSE</SyncOnce>
<DataProperties>
<itemProps>
<imsContentType export="False">002</imsContentType>
<itemName Sync="TRUE">DE_Imagery_2022_WM</itemName>
<itemLocation>
<linkage Sync="TRUE">file://\\Dtifs01\apd\GIS\historic\Imagery_Mosaics_New.gdb</linkage>
<protocol Sync="TRUE">Local Area Network</protocol>
</itemLocation>
<nativeExtBox>
<westBL Sync="TRUE">-8438848.692100</westBL>
<eastBL Sync="TRUE">-8353419.342100</eastBL>
<southBL Sync="TRUE">4643170.357700</southBL>
<northBL Sync="TRUE">4843285.357700</northBL>
<exTypeCode Sync="TRUE">1</exTypeCode>
</nativeExtBox>
</itemProps>
<coordRef>
<type Sync="TRUE">Projected</type>
<geogcsn Sync="TRUE">GCS_WGS_1984</geogcsn>
<csUnits Sync="TRUE">Linear Unit: Meter (1.000000)</csUnits>
<projcsn Sync="TRUE">WGS_1984_Web_Mercator_Auxiliary_Sphere</projcsn>
<peXml Sync="TRUE">&lt;ProjectedCoordinateSystem xsi:type='typens:ProjectedCoordinateSystem' xmlns:xsi='http://www.w3.org/2001/XMLSchema-instance' xmlns:xs='http://www.w3.org/2001/XMLSchema' xmlns:typens='http://www.esri.com/schemas/ArcGIS/3.3.0'&gt;&lt;WKT&gt;PROJCS[&amp;quot;WGS_1984_Web_Mercator_Auxiliary_Sphere&amp;quot;,GEOGCS[&amp;quot;GCS_WGS_1984&amp;quot;,DATUM[&amp;quot;D_WGS_1984&amp;quot;,SPHEROID[&amp;quot;WGS_1984&amp;quot;,6378137.0,298.257223563]],PRIMEM[&amp;quot;Greenwich&amp;quot;,0.0],UNIT[&amp;quot;Degree&amp;quot;,0.0174532925199433]],PROJECTION[&amp;quot;Mercator_Auxiliary_Sphere&amp;quot;],PARAMETER[&amp;quot;False_Easting&amp;quot;,0.0],PARAMETER[&amp;quot;False_Northing&amp;quot;,0.0],PARAMETER[&amp;quot;Central_Meridian&amp;quot;,0.0],PARAMETER[&amp;quot;Standard_Parallel_1&amp;quot;,0.0],PARAMETER[&amp;quot;Auxiliary_Sphere_Type&amp;quot;,0.0],UNIT[&amp;quot;Meter&amp;quot;,1.0],AUTHORITY[&amp;quot;EPSG&amp;quot;,3857]]&lt;/WKT&gt;&lt;XOrigin&gt;-20037700&lt;/XOrigin&gt;&lt;YOrigin&gt;-30241100&lt;/YOrigin&gt;&lt;XYScale&gt;148923141.92838538&lt;/XYScale&gt;&lt;ZOrigin&gt;-100000&lt;/ZOrigin&gt;&lt;ZScale&gt;10000&lt;/ZScale&gt;&lt;MOrigin&gt;-100000&lt;/MOrigin&gt;&lt;MScale&gt;10000&lt;/MScale&gt;&lt;XYTolerance&gt;0.001&lt;/XYTolerance&gt;&lt;ZTolerance&gt;0.001&lt;/ZTolerance&gt;&lt;MTolerance&gt;0.001&lt;/MTolerance&gt;&lt;HighPrecision&gt;true&lt;/HighPrecision&gt;&lt;WKID&gt;102100&lt;/WKID&gt;&lt;LatestWKID&gt;3857&lt;/LatestWKID&gt;&lt;/ProjectedCoordinateSystem&gt;</peXml>
</coordRef>
<RasterProperties>
<General>
<PixelDepth Sync="TRUE">8</PixelDepth>
<HasColormap Sync="TRUE">FALSE</HasColormap>
<CompressionType Sync="TRUE">None</CompressionType>
<NumBands Sync="TRUE">4</NumBands>
<Format Sync="TRUE">AMD</Format>
<HasPyramids Sync="TRUE">TRUE</HasPyramids>
<SourceType Sync="TRUE">continuous</SourceType>
<PixelType Sync="TRUE">unsigned integer</PixelType>
<NoDataValue Sync="TRUE"/>
</General>
<Properties>
<MaxImageHeight Sync="TRUE">500000</MaxImageHeight>
<MaxImageWidth Sync="TRUE">500000</MaxImageWidth>
<MaxRecordCount Sync="TRUE">1000</MaxRecordCount>
<MaxDownloadImageCount Sync="TRUE">20</MaxDownloadImageCount>
<MaxDownloadSizeLimit Sync="TRUE">2048</MaxDownloadSizeLimit>
<MaxMosaicImageCount Sync="TRUE">2000</MaxMosaicImageCount>
<DefaultCompressionQuality Sync="TRUE">75</DefaultCompressionQuality>
<DefaultCompressionTolerance Sync="TRUE">0.01</DefaultCompressionTolerance>
<BlendWidth Sync="TRUE">10</BlendWidth>
<ViewpointSpacingX Sync="TRUE">600</ViewpointSpacingX>
<ViewpointSpacingY Sync="TRUE">300</ViewpointSpacingY>
<AllowedItemMetadata Sync="TRUE">Basic</AllowedItemMetadata>
<DefaultResamplingMethod Sync="TRUE">1</DefaultResamplingMethod>
<AllowedMosaicMethods Sync="TRUE">ByAttribute,NorthWest,Center,LockRaster,Nadir,Viewpoint,Seamline,None</AllowedMosaicMethods>
<AllowedCompressions Sync="TRUE">None,JPEG,LZ77,LERC</AllowedCompressions>
<AllowedMensurationCapabilities Sync="TRUE">None</AllowedMensurationCapabilities>
<AvailableMensurationCapabilities Sync="TRUE">None,Basic,Base-Top Height,Top-Top Shadow Height,Base-Top Shadow Height,3D</AvailableMensurationCapabilities>
<ClipToBoundary Sync="TRUE">-1</ClipToBoundary>
<FootprintMayContainNoData Sync="TRUE">-1</FootprintMayContainNoData>
<CellSizeTolerance Sync="TRUE">0.8</CellSizeTolerance>
<MinimumPixelContribution Sync="TRUE">1</MinimumPixelContribution>
<AvailableMosaicMethods Sync="TRUE">NorthWest,Center,LockRaster,ByAttribute,Nadir,Viewpoint,Seamline,None</AvailableMosaicMethods>
<AvailableCompressionMethods Sync="TRUE">None,JPEG,LZ77,LERC</AvailableCompressionMethods>
<AvailableItemMetadataLevels Sync="TRUE">None,Basic,Full</AvailableItemMetadataLevels>
<BandDefinitionKeyword Sync="TRUE">NaturalColorRGBI</BandDefinitionKeyword>
<_docversion_ Sync="TRUE">10</_docversion_>
<AllowedFields Sync="TRUE">Name,MinPS,MaxPS,LowPS,HighPS,Tag,GroupName,ProductName,CenterX,CenterY,ZOrder,Shape_Length,Shape_Area</AllowedFields>
<MaxCellSize Sync="TRUE">19200</MaxCellSize>
<LowCellSize Sync="TRUE">0.15</LowCellSize>
<HighCellSize Sync="TRUE">384</HighCellSize>
<PixelCacheLocation Sync="TRUE">C:\Users\odtakcc\AppData\Local\ESRI\rasterproxies\DE_Imagery_2022</PixelCacheLocation>
<DataType Sync="TRUE">Processed</DataType>
<AvailableFields Sync="TRUE">Name,MinPS,MaxPS,LowPS,HighPS,Tag,GroupName,ProductName,CenterX,CenterY,ZOrder,Shape_Length,Shape_Area</AvailableFields>
<SortableFields Sync="TRUE">MinPS,MaxPS,LowPS,HighPS,CenterX,CenterY,ZOrder,Shape_Length,Shape_Area</SortableFields>
<SortAscending Sync="TRUE">-1</SortAscending>
<MosaicOperator Sync="TRUE">1</MosaicOperator>
<BlendWidthUnits Sync="TRUE">1</BlendWidthUnits>
<ClipToFootprint Sync="TRUE">0</ClipToFootprint>
<ClipOverviewsToFootprint Sync="TRUE">0</ClipOverviewsToFootprint>
<HasDodgingTable Sync="TRUE">0</HasDodgingTable>
<ApplyColorCorrection Sync="TRUE">0</ApplyColorCorrection>
<UseTime Sync="TRUE">0</UseTime>
<StartTimeFieldName Sync="TRUE"/>
<EndTimeFieldName Sync="TRUE"/>
<TimeValueFormat Sync="TRUE"/>
<UseRange Sync="TRUE">0</UseRange>
<TimeInterval Sync="TRUE"/>
<TimeIntervalUnits Sync="TRUE"/>
<SortField Sync="TRUE">LowPS</SortField>
<SortValue Sync="TRUE">0</SortValue>
<ConfigKeyword Sync="TRUE"/>
</Properties>
<Functions Sync="TRUE">
<Function Description="Performs on-the-fly mosaic on a raster catalog." Name="Mosaic Function"/>
</Functions>
</RasterProperties>
</DataProperties>
<scaleRange>
<minScale>150000000</minScale>
<maxScale>5000</maxScale>
</scaleRange>
<SyncDate>20260408</SyncDate>
<SyncTime>11254700</SyncTime>
<ModDate>20260408</ModDate>
<ModTime>11295000</ModTime>
<ArcGISProfile>FGDC</ArcGISProfile>
</Esri>
<mdLang>
<languageCode Sync="TRUE" value="eng"/>
<countryCode Sync="TRUE" value="USA"/>
</mdLang>
<mdChar>
<CharSetCd value="004"/>
</mdChar>
<mdHrLv>
<ScopeCd value="005"/>
</mdHrLv>
<mdContact>
<rpIndName>Shawn Benham</rpIndName>
<rpOrgName>Sanborn Map Company, Inc.</rpOrgName>
<rpPosName>Project Manager</rpPosName>
<rpCntInfo>
<cntPhone>
<voiceNum tddtty="">719-502-1296</voiceNum>
</cntPhone>
<cntAddress addressType="postal">
<delPoint>1935 Jamboree Drive, Suite 100</delPoint>
<city>Colorado Springs</city>
<adminArea>Colorado</adminArea>
<postCode>80920-5358</postCode>
<country>US</country>
<eMailAdd>sbenham@sanborn.com</eMailAdd>
</cntAddress>
</rpCntInfo>
<role>
<RoleCd value="007"/>
</role>
</mdContact>
<mdDateSt Sync="TRUE">20260408</mdDateSt>
<mdStanName>ArcGIS Metadata</mdStanName>
<mdStanVer>1.0</mdStanVer>
<dataIdInfo>
<idCitation>
<resTitle>DE_Imagery_2022</resTitle>
<date>
<pubDate>2023-03-09T00:00:00</pubDate>
</date>
<presForm>
<PresFormCd value="005"/>
</presForm>
<presForm>
<fgdcGeoform>remote-sensing image</fgdcGeoform>
</presForm>
<citRespParty>
<editorSource>external</editorSource>
<editorDigest>d13e65f100fbb5246f4e46aa74e384c0752f5806</editorDigest>
<rpIndName>FirstMap</rpIndName>
<rpOrgName>Delaware Department of Technology and Information (DTI)</rpOrgName>
<rpCntInfo>
<cntAddress addressType="both">
<delPoint>801 Silver Lake Blvd.</delPoint>
<city>Dover</city>
<adminArea>DE</adminArea>
<postCode>19904</postCode>
<eMailAdd>FirstMap@delaware.gov</eMailAdd>
<country>US</country>
</cntAddress>
<cntPhone>
<voiceNum tddtty="">302-739-9500</voiceNum>
</cntPhone>
</rpCntInfo>
<editorSave>True</editorSave>
<displayName>FirstMap</displayName>
<role>
<RoleCd value="002"/>
</role>
</citRespParty>
<citRespParty>
<rpOrgName>Sanborn Map Company, Inc</rpOrgName>
<role>
<RoleCd value="006"/>
</role>
<rpCntInfo>
<cntAddress addressType="postal">
<delPoint>1935 Jamboree Drive, Suite 100</delPoint>
<city>Colorado Springs</city>
<adminArea>Colorado</adminArea>
<postCode>80920-5358</postCode>
<country>US</country>
</cntAddress>
<cntPhone>
<voiceNum tddtty="">719-502-1296</voiceNum>
</cntPhone>
</rpCntInfo>
<displayName>Sanborn Map Company, Inc</displayName>
</citRespParty>
</idCitation>
<idAbs>&lt;div style='text-align:Left;'&gt;&lt;div&gt;&lt;div&gt;&lt;p&gt;&lt;span&gt;This data set consists of 0.152-meter pixel resolution (approximately 0.5-foot), 4-band orthoimages covering the entire State of Delaware. With a total of 2,005 X 1700-meters by 1700-meters (2.89 square kilometers) full orthoimage tiles providing imagery in blocks on the ground with no "no data" space, the total area of the project is 5,794.45 square kilometers (2,237.25 square miles). This project also includes 0.076-meter pixel resolution (approximately 0.25-foot), 4-band orthoimages that covers select areas within the State of Delaware park system for the Department of Natural Resources and Environmental Control (DNREC), Division of Parks and Recreation. With each of the 116 X 1700-meters by 1700-meters (2.89 square kilometers) orthoimage tiles providing imagery in blocks on the ground, the total of the collective area is approximately 335.24 square kilometers (129.44 square miles). The 0.076 meter product is approximate in area because a "white data" space is present in areas outside the official boundaries of the delivery tiles. There is no image overlap between adjacent tiles. An orthoimage is remotely sensed image data in which displacement of features in the image caused by terrain relief and sensor orientation have been mathematically removed. Orthoimagery combines the image characteristics of a photograph with the geometric qualities of a map. The design accuracy is estimated not to exceed 1.52-meters NSSDA 95% confidence (0.88-meters Root Mean Squared (RMSE) Error XY (0.62 meter RMSE X or Y). The projected coordinate system is Delaware State Plane. The horizontal datum is NAD83 2011. The vertical datum is NAVD88. The units are in meters.&lt;/span&gt;&lt;/p&gt;&lt;/div&gt;&lt;/div&gt;&lt;/div&gt;</idAbs>
<idPurp>This orthoimagery depicts geographic features on the surface of the earth in the project area of interest under leaf-off conditions. It was created to provide easily accessible geospatial data which is readily available to enhance the capability of The State of Delaware.</idPurp>
<idCredit>State of Delaware, Sanborn Map Company, Inc.</idCredit>
<idStatus>
<ProgCd value="001"/>
</idStatus>
<resMaint>
<maintFreq>
<MaintFreqCd value="010"/>
</maintFreq>
</resMaint>
<placeKeys>
<thesaName>
<resTitle>The State of Delaware, USA.</resTitle>
</thesaName>
<keyword>Delaware</keyword>
<keyword>Northeast USA</keyword>
<keyword>USA</keyword>
</placeKeys>
<themeKeys>
<thesaName>
<resTitle>Keywords</resTitle>
</thesaName>
<keyword>0.152 meter orthoimage</keyword>
<keyword>0.076 meter orthoimage</keyword>
<keyword>rectified image</keyword>
<keyword>orthoimagery</keyword>
<keyword>4-band orthophoto</keyword>
<keyword>orthophoto</keyword>
</themeKeys>
<searchKeys>
<keyword>0.152 meter orthoimage</keyword>
<keyword>0.076 meter orthoimage</keyword>
<keyword>rectified image</keyword>
<keyword>orthoimagery</keyword>
<keyword>4-band orthophoto</keyword>
<keyword>orthophoto</keyword>
<keyword>Delaware</keyword>
<keyword>Northeast USA</keyword>
<keyword>USA</keyword>
</searchKeys>
<resConst>
<Consts>
<useLimit>&lt;div style='text-align:Left;'&gt;&lt;div&gt;&lt;div&gt;&lt;p&gt;&lt;span&gt;None. However, users should be aware that temporal changes may have occurred since this data set was collected and some parts of this data may no longer represent actual surface conditions. Users should not use this data for critical applications without a full awareness of its limitations.&lt;/span&gt;&lt;/p&gt;&lt;p&gt;&lt;span&gt;The State of Delaware makes no warranty or representation, expressed or implied, with respect to the quality, content, accuracy, completeness, currency, or non-infringement of proprietary rights, of any of the GIS or other data or information, or any other materials and items, that are displayed or made available for download from this site. All such data, information, items and materials (collectively, the “FirstMap Data”) are provided "as is" and users are fully and solely responsible for any consequences of use. FirstMap Data may have been created from a variety of sources, including sources beyond the control of the State of Delaware, and are subject to change without notice. To the extent you use, apply, add to, modify or implement this information in your own information system or other setting, or otherwise for your own purposes, you do so at your own risk. In no event shall the State of Delaware or its agencies, officers, employees, agents, or representatives be liable for any damages of any kind or nature whatsoever including, but not limited to, direct, indirect, special, punitive, incidental, exemplary or consequential damages arising from your downloading, modifying, sharing, distributing, or using of FirstMap Data even if notified of the possibility of such damages. Further, the State of Delaware does not accept liability for any damages or misrepresentation caused by inaccuracies in the FirstMap Data or as a result of changes to the FirstMap Data, nor is there responsibility assumed to maintain the FirstMap Data in any manner or form.&lt;/span&gt;&lt;/p&gt;&lt;/div&gt;&lt;/div&gt;&lt;/div&gt;</useLimit>
</Consts>
</resConst>
<resConst>
<LegConsts>
<useLimit>None</useLimit>
</LegConsts>
</resConst>
<resConst>
<SecConsts>
<class>
<ClasscationCd value="001"/>
</class>
<classSys>None</classSys>
<handDesc>N/A</handDesc>
</SecConsts>
</resConst>
<spatRpType>
<SpatRepTypCd value="001"/>
</spatRpType>
<envirDesc>Microsoft Windows 10 Service Pack 1; ESRI ArcCatalog 10.6.1</envirDesc>
<dataExt>
<geoEle>
<GeoBndBox>
<exTypeCode>true</exTypeCode>
<westBL>-75.8081</westBL>
<eastBL>-75.0334</eastBL>
<northBL>39.8439</northBL>
<southBL>38.4498</southBL>
</GeoBndBox>
</geoEle>
</dataExt>
<dataExt>
<exDesc>ground condition</exDesc>
<tempEle>
<TempExtent>
<exTemp>
<TM_Period>
<tmBegin>2022-03-11T00:00:00</tmBegin>
<tmEnd>2022-03-29T00:00:00</tmEnd>
</TM_Period>
</exTemp>
</TempExtent>
</tempEle>
</dataExt>
<suppInfo>The information in the report is the result of ground control surveys performed between the dates indicated and the general conditions at the time of flight. The bounding coordinates provided within the Spatial Domain Section represents a rectangle covering the total area in which the project is located.</suppInfo>
<dataLang>
<languageCode Sync="TRUE" value="eng"/>
<countryCode Sync="TRUE" value="USA"/>
</dataLang>
<dataExt>
<geoEle>
<GeoBndBox esriExtentType="search">
<exTypeCode Sync="TRUE">1</exTypeCode>
<westBL Sync="TRUE">-75.807468</westBL>
<eastBL Sync="TRUE">-75.040043</eastBL>
<northBL Sync="TRUE">39.843909</northBL>
<southBL Sync="TRUE">38.449846</southBL>
</GeoBndBox>
</geoEle>
</dataExt>
<dataChar>
<CharSetCd value="004"/>
</dataChar>
<idPoC>
<editorSource>external</editorSource>
<editorDigest>d13e65f100fbb5246f4e46aa74e384c0752f5806</editorDigest>
<rpIndName>FirstMap</rpIndName>
<rpOrgName>Delaware Department of Technology and Information (DTI)</rpOrgName>
<rpCntInfo>
<cntAddress addressType="both">
<delPoint>801 Silver Lake Blvd.</delPoint>
<city>Dover</city>
<adminArea>DE</adminArea>
<postCode>19904</postCode>
<eMailAdd>FirstMap@delaware.gov</eMailAdd>
<country>US</country>
</cntAddress>
<cntPhone>
<voiceNum tddtty="">302-739-9500</voiceNum>
</cntPhone>
</rpCntInfo>
<editorSave>True</editorSave>
<displayName>FirstMap</displayName>
<role>
<RoleCd value="007"/>
</role>
</idPoC>
<tpCat>
<TopicCatCd value="010"/>
</tpCat>
</dataIdInfo>
<mdMaint>
<maintFreq>
<MaintFreqCd value="011"/>
</maintFreq>
<maintNote>Last metadata review date: 2023-04-25</maintNote>
</mdMaint>
<dqInfo>
<dqScope>
<scpLvl>
<ScopeCd value="005"/>
</scpLvl>
</dqScope>
<report dimension="" type="DQConcConsis">
<measDesc>Since the ortho images are raster products, the logical consistency is based on how well the images fit between image tiles and between individual photo frames use to produce the ortho mosaics. </measDesc>
</report>
<report dimension="" type="DQCompOm">
<measDesc>The 2011 ortho image tiles are checked for missing pixels, gaps, overlaps and other anomalies generally associated with digital orthophoto products. Any discrepancies in the ortho tiles are resolved through the use of proprietary and industry editing tools. Once the images are copied to the deliverable media they are further checked for naming, image completeness, and ability to be loaded in ArcMap.</measDesc>
</report>
<dataLineage>
<dataSource type="">
<srcDesc>Raw Aerial Imagery - UltraCam Eagle M3 Digital Aerial Camera, Sanborn Map Company. Imagery and GPS/IMU data is downloaded from disc on the plane to disc on the ground. GPS/IMU mission data is processed together with simultaneously collected ground-based GPS base station data in forward and reverse directions. This precisely determines the aerial camera's position and orientation in the terrain (project) coordinate system and allows for correct orientation of the imagery.</srcDesc>
<srcMedName>
<MedNameCd value="hard drives"/>
</srcMedName>
<srcCitatn>
<resTitle>Aerial Imagery</resTitle>
<resAltTitle>IMG</resAltTitle>
<date>
<pubDate>2023-03-09T00:00:00</pubDate>
</date>
<citRespParty>
<rpOrgName>Sanborn Map Company, Inc</rpOrgName>
<role>
<RoleCd value="006"/>
</role>
<rpCntInfo>
<cntAddress addressType="postal">
<delPoint>1935 Jamboree Drive, Suite 100</delPoint>
<city>Colorado Springs</city>
<adminArea>Colorado</adminArea>
<postCode>80920-5358</postCode>
<country>US</country>
</cntAddress>
<cntPhone>
<voiceNum tddtty="">719-502-1296</voiceNum>
</cntPhone>
</rpCntInfo>
</citRespParty>
<presForm>
<PresFormCd value="005"/>
</presForm>
<presForm>
<fgdcGeoform>raster digital data</fgdcGeoform>
</presForm>
<resEd>Original</resEd>
<datasetSeries>
<seriesName>N/A</seriesName>
<issId>N/A</issId>
<artPage>N/A</artPage>
</datasetSeries>
<otherCitDet>None</otherCitDet>
</srcCitatn>
<srcExt>
<exDesc>ground condition</exDesc>
<tempEle>
<TempExtent>
<exTemp>
<TM_Period>
<tmBegin>2022-03-11T00:00:00</tmBegin>
<tmEnd>2022-03-29T00:00:00</tmEnd>
</TM_Period>
</exTemp>
</TempExtent>
</tempEle>
<geoEle>
<GeoBndBox>
<exTypeCode>1</exTypeCode>
<westBL>-75.808075</westBL>
<eastBL>-75.033437</eastBL>
<southBL>38.449821</southBL>
<northBL>39.843921</northBL>
</GeoBndBox>
</geoEle>
</srcExt>
</dataSource>
<prcStep>
<stepDesc>The digital orthoimagery is comprised of a 4-band true color and near infrared image that is organized in four bands or channels which represents the red, green, blue and near infrared (R,G,B,IR) portions of the spectrum. The 0.152 meter pixel resolution ground sample distance (gsd) orthoimagery covers the entire State of Delaware. The imagery was acquired between March 11 and March 29, 2022, and flown at an altitude of 2800 meters (AGL) using an UltraCam Eagle M3 camera. The 0.076-meter pixel resolution (gsd) orthoimagery covers select areas within the State of Delaware park system for the Department of Natural Resources and Environmental Control (DNREC), Division of Parks and Recreation. The imagery was acquired between March 18 and March 21, 2022, and flown at an altitude of 1250 meters (AGL) using an UltraCam Eagle M3 camera. Imagery and GPS/IMU data is downloaded from disc on the plane to disc on the ground. GPS/IMU mission data is processed together with simultaneously collected ground-based GPS base station data in forward and reverse directions. This precisely determines the aerial camera's position and orientation in the terrain (project) coordinate system and allows for correct orientation of the imagery. The LiDAR DTM is then reviewed and updated as needed to meet the final orthorectification standards set in this project. Using the processed GPS/IMU data and correctly oriented imagery, a bundle adjustment is computed (AT). The imagery is orthorectified using the AT solution and LiDAR. The orthoimagery is then color balanced to the acceptable parameters established by the customer. Orthoimagery then undergoes manual quality control to check for issues as outlined in the Digital Orthoimagery Acceptance Criteria document. Issues such as warps, smears, misalignments, etc. are corrected using proprietary tools and Adobe PhotoShop. Upon completion of the QC process, the orthoimagery is provided to the client for review in uncompressed TIFF/TFW format. All imagery was processed in required projection: Delaware State Plane, horizontal datum is NAD83 2011, vertical datum is NAVD88, units are in meters.</stepDesc>
<stepDateTm>2022-03-09T00:00:00</stepDateTm>
<stepRat>test</stepRat>
<stepProc>
<editorSource>external</editorSource>
<editorDigest>36385e60a6cc190c512e6ad322d3c5fa35408c89</editorDigest>
<rpOrgName>Sanborn Map Company, Inc</rpOrgName>
<rpCntInfo>
<cntAddress addressType="postal">
<delPoint>1935 Jamboree Drive, Suite 100</delPoint>
<city>Colorado Springs</city>
<adminArea>Colorado</adminArea>
<postCode>80920-5358</postCode>
<country>US</country>
</cntAddress>
<cntPhone>
<voiceNum tddtty="">719-502-1296</voiceNum>
</cntPhone>
</rpCntInfo>
<displayName>Sanborn Map Company, Inc</displayName>
<editorSave>True</editorSave>
<displayName>Sanborn Map Company, Inc</displayName>
<role>
<RoleCd value="006"/>
</role>
</stepProc>
<stepSrc type="produced">
<srcDesc>The imagery was acquired between March 11 and March 29, 2022, and flown at an altitude of 2800 meters (AGL) using an UltraCam Eagle M3 camera. Upon completion of the QC process, the orthoimagery is provided to the client for review in uncompressed TIFF/TFW format.</srcDesc>
<srcMedName>
<MedNameCd value="029"/>
</srcMedName>
</stepSrc>
</prcStep>
</dataLineage>
</dqInfo>
<spatRepInfo>
<VectSpatRep>
<geometObjs>
<geoObjTyp>
<GeoObjTypCd value="001"/>
</geoObjTyp>
<geoObjCnt>2005</geoObjCnt>
</geometObjs>
</VectSpatRep>
<Georect>
<cellGeo>
<CellGeoCd Sync="TRUE" value="002"/>
</cellGeo>
<numDims Sync="TRUE">2</numDims>
<tranParaAv Sync="TRUE">1</tranParaAv>
<chkPtAv Sync="TRUE">0</chkPtAv>
<cornerPts>
<pos Sync="TRUE">-8438848.692100 4643170.357700</pos>
</cornerPts>
<cornerPts>
<pos Sync="TRUE">-8438848.692100 4843285.357700</pos>
</cornerPts>
<cornerPts>
<pos Sync="TRUE">-8353419.342100 4843285.357700</pos>
</cornerPts>
<cornerPts>
<pos Sync="TRUE">-8353419.342100 4643170.357700</pos>
</cornerPts>
<centerPt>
<pos Sync="TRUE">-8396134.017100 4743227.857700</pos>
</centerPt>
<axisDimension type="002">
<dimSize Sync="TRUE">569529</dimSize>
<dimResol>
<value Sync="TRUE" uom="m">0.150000</value>
</dimResol>
</axisDimension>
<axisDimension type="001">
<dimSize Sync="TRUE">1334100</dimSize>
<dimResol>
<value Sync="TRUE" uom="m">0.150000</value>
