<metadata xml:lang="en"><Esri><CreaDate>20140823</CreaDate><CreaTime>00394500</CreaTime><ArcGISFormat>1.0</ArcGISFormat><SyncOnce>FALSE</SyncOnce><DataProperties><itemProps><itemName Sync="TRUE">DE_Imagery_1968_WM</itemName><nativeExtBox><westBL Sync="TRUE">-8438849.995700</westBL><eastBL Sync="TRUE">-8353419.995700</eastBL><southBL Sync="TRUE">4643170.597400</southBL><northBL Sync="TRUE">4843286.597400</northBL><exTypeCode Sync="TRUE">1</exTypeCode></nativeExtBox></itemProps><coordRef><type Sync="TRUE">Projected</type><geogcsn Sync="TRUE">GCS_WGS_1984</geogcsn><csUnits Sync="TRUE">Linear Unit: Meter (1.000000)</csUnits><projcsn Sync="TRUE">WGS_1984_Web_Mercator_Auxiliary_Sphere</projcsn><peXml Sync="TRUE">&lt;ProjectedCoordinateSystem xsi:type='typens:ProjectedCoordinateSystem' xmlns:xsi='http://www.w3.org/2001/XMLSchema-instance' xmlns:xs='http://www.w3.org/2001/XMLSchema' xmlns:typens='http://www.esri.com/schemas/ArcGIS/10.1'&gt;&lt;WKT&gt;PROJCS[&amp;quot;WGS_1984_Web_Mercator_Auxiliary_Sphere&amp;quot;,GEOGCS[&amp;quot;GCS_WGS_1984&amp;quot;,DATUM[&amp;quot;D_WGS_1984&amp;quot;,SPHEROID[&amp;quot;WGS_1984&amp;quot;,6378137.0,298.257223563]],PRIMEM[&amp;quot;Greenwich&amp;quot;,0.0],UNIT[&amp;quot;Degree&amp;quot;,0.0174532925199433]],PROJECTION[&amp;quot;Mercator_Auxiliary_Sphere&amp;quot;],PARAMETER[&amp;quot;False_Easting&amp;quot;,0.0],PARAMETER[&amp;quot;False_Northing&amp;quot;,0.0],PARAMETER[&amp;quot;Central_Meridian&amp;quot;,0.0],PARAMETER[&amp;quot;Standard_Parallel_1&amp;quot;,0.0],PARAMETER[&amp;quot;Auxiliary_Sphere_Type&amp;quot;,0.0],UNIT[&amp;quot;Meter&amp;quot;,1.0],AUTHORITY[&amp;quot;EPSG&amp;quot;,3857]]&lt;/WKT&gt;&lt;XOrigin&gt;-20037700&lt;/XOrigin&gt;&lt;YOrigin&gt;-30241100&lt;/YOrigin&gt;&lt;XYScale&gt;148923141.92838538&lt;/XYScale&gt;&lt;ZOrigin&gt;-100000&lt;/ZOrigin&gt;&lt;ZScale&gt;10000&lt;/ZScale&gt;&lt;MOrigin&gt;-100000&lt;/MOrigin&gt;&lt;MScale&gt;10000&lt;/MScale&gt;&lt;XYTolerance&gt;0.001&lt;/XYTolerance&gt;&lt;ZTolerance&gt;0.001&lt;/ZTolerance&gt;&lt;MTolerance&gt;0.001&lt;/MTolerance&gt;&lt;HighPrecision&gt;true&lt;/HighPrecision&gt;&lt;WKID&gt;102100&lt;/WKID&gt;&lt;LatestWKID&gt;3857&lt;/LatestWKID&gt;&lt;/ProjectedCoordinateSystem&gt;</peXml></coordRef><RasterProperties><General><PixelDepth Sync="TRUE">8</PixelDepth><HasColormap Sync="TRUE">FALSE</HasColormap><CompressionType Sync="TRUE">None</CompressionType><NumBands Sync="TRUE">3</NumBands><Format Sync="TRUE">AMD</Format><HasPyramids Sync="TRUE">TRUE</HasPyramids><SourceType Sync="TRUE">continuous</SourceType><PixelType Sync="TRUE">unsigned integer</PixelType><NoDataValue Sync="TRUE"/></General><Properties><MaxImageHeight Sync="TRUE">500000</MaxImageHeight><MaxImageWidth Sync="TRUE">500000</MaxImageWidth><MaxRecordCount Sync="TRUE">1000</MaxRecordCount><MaxDownloadImageCount Sync="TRUE">20</MaxDownloadImageCount><MaxDownloadSizeLimit Sync="TRUE">2048</MaxDownloadSizeLimit><MaxMosaicImageCount Sync="TRUE">2000</MaxMosaicImageCount><DefaultCompressionQuality Sync="TRUE">75</DefaultCompressionQuality><DefaultCompressionTolerance Sync="TRUE">0.01</DefaultCompressionTolerance><BlendWidth Sync="TRUE">10</BlendWidth><ViewpointSpacingX Sync="TRUE">600</ViewpointSpacingX><ViewpointSpacingY Sync="TRUE">300</ViewpointSpacingY><AllowedItemMetadata Sync="TRUE">Basic</AllowedItemMetadata><DefaultResamplingMethod Sync="TRUE">1</DefaultResamplingMethod><AllowedMosaicMethods Sync="TRUE">ByAttribute,NorthWest,Center,LockRaster,Nadir,Viewpoint,Seamline,None</AllowedMosaicMethods><AllowedCompressions Sync="TRUE">None,JPEG,LZ77,LERC</AllowedCompressions><AllowedMensurationCapabilities Sync="TRUE">Basic</AllowedMensurationCapabilities><AvailableMensurationCapabilities Sync="TRUE">None,Basic,Base-Top Height,Top-Top Shadow Height,Base-Top Shadow Height,3D</AvailableMensurationCapabilities><ClipToBoundary Sync="TRUE">-1</ClipToBoundary><FootprintMayContainNoData Sync="TRUE">-1</FootprintMayContainNoData><CellSizeTolerance Sync="TRUE">0.8</CellSizeTolerance><MinimumPixelContribution Sync="TRUE">1</MinimumPixelContribution><AvailableMosaicMethods Sync="TRUE">NorthWest,Center,LockRaster,ByAttribute,Nadir,Viewpoint,Seamline,None</AvailableMosaicMethods><AvailableCompressionMethods Sync="TRUE">None,JPEG,LZ77,LERC</AvailableCompressionMethods><AvailableItemMetadataLevels Sync="TRUE">None,Basic,Full</AvailableItemMetadataLevels><ConfigKeyword Sync="TRUE"/><BandDefinitionKeyword Sync="TRUE">NONE</BandDefinitionKeyword><AllowedFields Sync="TRUE">Name,MinPS,MaxPS,LowPS,HighPS,Tag,GroupName,ProductName,CenterX,CenterY,ZOrder,Shape_Length,Shape_Area</AllowedFields><LowCellSize Sync="TRUE">2</LowCellSize><HighCellSize Sync="TRUE">500</HighCellSize><MaxCellSize Sync="TRUE">25000</MaxCellSize><ApplyColorCorrection Sync="TRUE">0</ApplyColorCorrection><DataType Sync="TRUE">Processed</DataType><TimeValueFormat Sync="TRUE"/><EndTimeFieldName Sync="TRUE"/><StartTimeFieldName Sync="TRUE"/><MosaicOperator Sync="TRUE">1</MosaicOperator><BlendWidthUnits Sync="TRUE">1</BlendWidthUnits><UseTime Sync="TRUE">0</UseTime><SortAscending Sync="TRUE">-1</SortAscending><ClipToFootprint Sync="TRUE">0</ClipToFootprint><SortField Sync="TRUE">LowPS</SortField><SortValue Sync="TRUE">0</SortValue></Properties><Functions Sync="TRUE"><Function Description="Performs on-the-fly mosaic on a raster catalog." Name="Mosaic Function"/></Functions></RasterProperties></DataProperties><SyncDate>20140903</SyncDate><SyncTime>12030100</SyncTime><ModDate>20191115</ModDate><ModTime>17022300</ModTime><scaleRange><minScale>150000000</minScale><maxScale>5000</maxScale></scaleRange><ArcGISProfile>FGDC</ArcGISProfile></Esri><dataIdInfo><envirDesc Sync="TRUE"> Version 6.2 (Build 9200) ; Esri ArcGIS 10.2.2.3552</envirDesc><dataLang><languageCode Sync="TRUE" value="eng"/><countryCode Sync="TRUE" value="USA"/></dataLang><idCitation><resTitle Sync="FALSE">Delaware 1968 Aerial Photography</resTitle><presForm><PresFormCd Sync="TRUE" value="005"/></presForm></idCitation><spatRpType><SpatRepTypCd Sync="TRUE" value="002"/></spatRpType><dataExt><geoEle xmlns=""><GeoBndBox esriExtentType="search"><exTypeCode Sync="TRUE">1</exTypeCode><westBL Sync="TRUE">-75.807479</westBL><eastBL Sync="TRUE">-75.040049</eastBL><northBL Sync="TRUE">39.843917</northBL><southBL Sync="TRUE">38.449848</southBL></GeoBndBox></geoEle></dataExt><idPurp>Delaware 1968 Aerial Photography</idPurp><idAbs>&lt;DIV STYLE="text-align:Left;"&gt;&lt;DIV&gt;&lt;DIV&gt;&lt;P STYLE="margin:0 0 0 0;"&gt;&lt;SPAN&gt;&lt;SPAN&gt;Resolution: 2.0 Meter&lt;/SPAN&gt;&lt;/SPAN&gt;&lt;/P&gt;&lt;P STYLE="margin:0 0 0 0;"&gt;&lt;SPAN&gt;&lt;SPAN&gt;Bands: 1-band: Panchromatic&lt;/SPAN&gt;&lt;/SPAN&gt;&lt;/P&gt;&lt;P /&gt;&lt;P STYLE="margin:0 0 0 0;"&gt;&lt;SPAN&gt;&lt;SPAN&gt;USDA Agricultural Stabilization and Conservation Service (FSA)&lt;/SPAN&gt;&lt;/SPAN&gt;&lt;SPAN /&gt;&lt;SPAN&gt;&lt;SPAN&gt;Black and White&lt;/SPAN&gt;&lt;/SPAN&gt;&lt;SPAN /&gt;&lt;SPAN&gt;&lt;SPAN&gt;Scanned and georectified using ERDAS Imagine&lt;/SPAN&gt;&lt;/SPAN&gt;&lt;SPAN /&gt;&lt;SPAN&gt;&lt;SPAN&gt;Flying height 40,000 feet, 6-inch focal length camera &lt;/SPAN&gt;&lt;/SPAN&gt;&lt;SPAN /&gt;&lt;SPAN&gt;&lt;SPAN&gt;SRS: NAD83 HARN Delaware State Plane meters&lt;/SPAN&gt;&lt;/SPAN&gt;&lt;SPAN /&gt;&lt;SPAN&gt;&lt;SPAN&gt;Scale: 1:20,000&lt;/SPAN&gt;&lt;/SPAN&gt;&lt;/P&gt;&lt;P /&gt;&lt;P STYLE="margin:0 0 0 0;"&gt;&lt;SPAN&gt;&lt;SPAN&gt;These are scanned images from aerial photography flown in 1968 by the Agricultural Stabilization and Conservation Service. The images are presented as a statewide mosaic. This aerial photography was scanned and geo rectified to provide a historic look at Delaware.&lt;/SPAN&gt;&lt;/SPAN&gt;&lt;/P&gt;&lt;P /&gt;&lt;P STYLE="margin:0 0 0 0;"&gt;&lt;SPAN&gt;Scanning The original, paper format, 9x9" aerial photographs were taken in 1968 as part of an aerial survey program. The photographs were scanned at 300 dpi on an 11x17" EPSON GT-15000 scanner, as single band grayscale images. The output was written to *.JPG files. Georectifying All georectifying was completed in ERDAS Imagine 8.7. Please see the included tutorial for a more detailed explanation. This document was used for training and reference by staff members completing the processing. 1. Ground control points (GCPs) were created on the 1968 images using the 2002 digital orthophotography of Delaware as a reference, using the Image Geometric Correction Tool. The 2002 data was produced in False Color Infrared at a scale of 1/ 2,400 with a 1 foot pixel resolution. This data is also available in a single, mosaicked MrSID file and is assigned a State Plane Coordinate System and a North American Datum of 1983. In eastern Sussex County, every attempt was made to create GCPs at a standard scale of 1:3,000, however, due to photo quality this scale was not always possible. For the remainder of the state, the largest scale possible was used while still maintaining a clear, unpixelated image on the screen. 2. The scanned images were then resampled to those points using the Display Resample Image Dialog. 3. The GCPs were stored for each image tile along with the Control Point Error from the registration process. 4. Resampled images (1968 corrected) were subsetted (i.e. cropped) to remove photograph borders, fiducial marks, and distorted edges. Mosaicking The 1968 aerial mosaic was created using ERDAS Imagine 8.7. To complete this task, the mosaic tool from ERDAS Imagine was used and contained a feather technique for blending overlapping images. Holes in the final image of Delaware are due to misplacement of aerial photographs.&lt;/SPAN&gt;&lt;/P&gt;&lt;/DIV&gt;&lt;/DIV&gt;&lt;/DIV&gt;</idAbs><idCredit>USDA Agricultural Stabilization and Conservation Service</idCredit><searchKeys><keyword>imageryBaseMapsEarthCover</keyword><keyword>aerial photography</keyword><keyword>Historic images</keyword><keyword>orthophotography</keyword><keyword>scanned images</keyword><keyword>Imagery</keyword><keyword>Base Map</keyword><keyword>Delaware</keyword><keyword>New Castle County</keyword><keyword>Kent County</keyword><keyword>Sussex County</keyword><keyword>Newark</keyword><keyword>Wilmington</keyword><keyword>Dover</keyword><keyword>Delaware River</keyword><keyword>Delaware Bay</keyword><keyword>Georgetown</keyword></searchKeys><resConst><Consts><useLimit>&lt;DIV STYLE="text-align:Left;"&gt;&lt;DIV&gt;&lt;DIV&gt;&lt;P STYLE="margin:0 0 0 0;"&gt;&lt;SPAN&gt;Public Domain Information, with citation to Agricultural Stabilization and Conservation Service for the photography.&lt;/SPAN&gt;&lt;/P&gt;&lt;/DIV&gt;&lt;/DIV&gt;&lt;/DIV&gt;</useLimit></Consts></resConst></dataIdInfo><mdLang><languageCode Sync="TRUE" value="eng"/><countryCode Sync="TRUE" value="USA"/></mdLang><refSysInfo><RefSystem><refSysID><identCode Sync="TRUE" code="3857"/><idCodeSpace Sync="TRUE">EPSG</idCodeSpace><idVersion Sync="TRUE">8.2.6</idVersion></refSysID></RefSystem></refSysInfo><spatRepInfo><Georect><cellGeo><CellGeoCd Sync="TRUE" value="002"/></cellGeo><numDims Sync="TRUE">2</numDims><tranParaAv Sync="TRUE">1</tranParaAv><chkPtAv Sync="TRUE">0</chkPtAv><cornerPts><pos Sync="TRUE">-8438849.995700 4643170.597400</pos></cornerPts><cornerPts><pos Sync="TRUE">-8438849.995700 4843286.597400</pos></cornerPts><cornerPts><pos Sync="TRUE">-8353419.995700 4843286.597400</pos></cornerPts><cornerPts><pos Sync="TRUE">-8353419.995700 4643170.597400</pos></cornerPts><centerPt><pos Sync="TRUE">-8396134.995700 4743228.597400</pos></centerPt><axisDimension type="002"><dimSize Sync="TRUE">42715</dimSize><dimResol><value Sync="TRUE" uom="Meter">2.000000</value></dimResol></axisDimension><axisDimension type="001"><dimSize Sync="TRUE">100058</dimSize><dimResol><value Sync="TRUE" uom="Meter">2.000000</value></dimResol></axisDimension><ptInPixel><PixOrientCd Sync="TRUE" value="001"/></ptInPixel></Georect></spatRepInfo><contInfo><ImgDesc><contentTyp><ContentTypCd Sync="TRUE" value="001"/></contentTyp><covDim><Band><dimDescrp Sync="TRUE">Band_1</dimDescrp><maxVal Sync="TRUE">255.000000</maxVal><minVal Sync="TRUE">0.000000</minVal><bitsPerVal Sync="TRUE">8</bitsPerVal><valUnit><UOM type="length"/></valUnit></Band><Band><dimDescrp Sync="TRUE">Band_2</dimDescrp><maxVal Sync="TRUE">255.000000</maxVal><minVal Sync="TRUE">0.000000</minVal><bitsPerVal Sync="TRUE">8</bitsPerVal><valUnit><UOM type="length"/></valUnit></Band><Band><dimDescrp Sync="TRUE">Band_3</dimDescrp><maxVal Sync="TRUE">255.000000</maxVal><minVal Sync="TRUE">0.000000</minVal><bitsPerVal Sync="TRUE">8</bitsPerVal><valUnit><UOM type="length"/></valUnit></Band></covDim></ImgDesc></contInfo><mdDateSt Sync="TRUE">20191115</mdDateSt><mdHrLv><ScopeCd value="005"/></mdHrLv></metadata>
